Workbook
Name Excel_BuiltIn__FilterDatabase: 'Приложение 2'!$A$11:$L$141
Name Excel_BuiltIn__FilterDatabase: 'Приложение 3'!$A$10:$K$136
Name Excel_BuiltIn__FilterDatabase: 'Приложение 4'!$A$12:$L$93

Sheet Приложение 1 
A1: , | C1: ПРИЛОЖЕНИЕ 1 к решению Совета депутатов Семилейского сельского поселения Кочкуровского муниципального района
C3: от 28.02.2022 №21
C7: Приложение 1 к проекту решения Совета депутатов Семилейского сельского поселения «О бюджете Семилейского сельского поселения на 2022год и на плановый период 2023 и 2024 годов» от 24.12.2021 г. №14
A13: ДОХОДЫ БЮДЖЕТА СЕМИЛЕЙСКОГО СЕЛЬСКОГО ПОСЕЛЕНИЯ РЕСПУБЛИКИ МОРДОВИЯ НА 2022 ГОД И НА ПЛАНОВЫЙ ПЕРИОД 2023 И 2024 ГОДОВ
E14: (тыс. рублей)
A15: Код | B15: Наименование | C15: Сумма
C16: 2022год | D16: 2023 год | E16: 2024 год
A17: 1 | B17: 2 | C17: 3 | D17: 4 | E17: 5
A18: 85000000000000000 | B18: ДОХОДЫ БЮДЖЕТА -ВСЕГО | C18: =C19+C40 -> 26273.7 | D18: =D19+D40 -> 3897.35 | E18: =E19+E40 -> 4265.7
A19: 10000000000000000 | B19: НАЛОГОВЫЕ И НЕНАЛОГОВЫЕ ДОХОДЫ | C19: =C20+C27+C24+C36 -> 2350.4 | D19: =D20+D27+D24+D36 -> 2402.45 | E19: =E20+E27+E24+E36 -> 2575.3
A20: 10100000000000000 | B20: НАЛОГИ НА ПРИБЫЛЬ, ДОХОДЫ | C20: =C21 -> 426.35 | D20: =D21 -> 438.2 | E20: =E21 -> 451.35
A21: 10102000010000110 | B21: Налог на доходы физических лиц | C21: =C22 -> 426.35 | D21: =D22 -> 438.2 | E21: =E22 -> 451.35
A22: 10102010010000110 | B22: Налог на доходы физических лиц с доходов, источником которых является налоговый агент, за исключением доходов, в отношении которых исчисление и уплата налога осуществляются в соответствии со статьями 227, 2271 и 228 Налогового кодекса Российской Федерации | C22: =C23 -> 426.35 | D22: =D23 -> 438.2 | E22: =E23 -> 451.35
A23: 10102010011000110 | B23: Налог на доходы физических лиц с доходов, источником которых является налоговый агент, за исключением доходов, в отношении которых исчисление и уплата налога осуществляются в соответствии со статьями 227, 2271 и 228 Налогового кодекса Российской Федерации (сумма платежа (перерасчеты, недоимка и задолженность по соответствующему платежу, в том числе по отмененному) | C23: 426.35 | D23: 438.2 | E23: 451.35
A24: 10500000000000000 | B24: НАЛОГИ НА СОВОКУПНЫЙ ДОХОД | C24: =C25 -> 173.35 | D24: =D25 -> 177.25 | E24: =E25 -> 302.65
A25: 10503000010000110 | B25: Единый сельскохозяйственный налог | C25: =C26 -> 173.35 | D25: =D26 -> 177.25 | E25: =E26 -> 302.65
A26: 10503010010000110 | B26: Единый сельскохозяйственный налог | C26: 173.35 | D26: 177.25 | E26: 302.65
A27: 10600000000000000 | B27: НАЛОГ НА ИМУЩЕСТВО | C27: =C28+C31 -> 1733 | D27: =D28+D31 -> 1768.6 | E27: =E28+E31 -> 1802.1
A28: 10601000000000110 | B28: Налог на имущество физических лиц | C28: =C29 -> 222 | D28: =D29 -> 222.7 | E28: =E29 -> 223.3
A29: 10601030100000110 | B29: Налог на имущество физических лиц, взимаемый по ставкам, применяемым к объектам налогообложения, расположенным в границах сельских поселений | C29: =C30 -> 222 | D29: =D30 -> 222.7 | E29: =E30 -> 223.3
A30: 10601030101000110 | B30: Налог на имущество физических лиц, взимаемый по ставкам, применяемым к объектам налогообложения, расположенным в границах сельских поселений (сумма платежа (перерасчеты, недоимка и задолженность по соответствующему платежу, в том числе по отмененному) | C30: 222 | D30: 222.7 | E30: 223.3
A31: 10606000000000110 | B31: ЗЕМЕЛЬНЫЙ НАЛОГ | C31: =C32+C33 -> 1511 | D31: =D32+D33 -> 1545.9 | E31: =E32+E33 -> 1578.8
A32: 10606033100000110 | B32: Земельный налог с организаций | C32: 570 | D32: 582 | E32: 591
A33: 10606040000000110 | B33: Земельный налог с физических лиц | C33: =C34 -> 941 | D33: =D34 -> 963.9 | E33: =E34 -> 987.8
A34: 10606043100000110 | B34: Земельный налог с физических лиц, обладающих земельным участком, расположенным в границах сельских поселений | C34: =C35 -> 941 | D34: =D35 -> 963.9 | E34: =E35 -> 987.8
A35: 10606043101000110 | B35: Земельный налог с физических лиц, обладающих земельным участком, расположенным в границах сельских поселений (сумма платежа (перерасчеты, недоимка и задолженность по соответствующему платежу, в том числе по отмененному) | C35: 941 | D35: 963.9 | E35: 987.8
A36: 11100000000000000 | B36: ДОХОДЫ ОТ ИСПОЛЬЗОВАНИЯ ИМУЩЕСТВА, НАХОДЯЩЕГОСЯ В ГОСУДАРСТВЕННОЙ И МУНИЦИПАЛЬНОЙ СОБСТВЕННОСТИ | C36: =C37 -> 17.7 | D36: =D37 -> 18.4 | E36: =E37 -> 19.2
A37: 11109000000000120 | B37: Прочие доходы от использования имущества и прав, находящихся в государственной и муниципальной собственности (за исключением имущества бюджетных и автономных учреждений, а также имущества государственных и муниципальных унитарных предприятий, в том числе казенных) | C37: =C38 -> 17.7 | D37: =D38 -> 18.4 | E37: =E38 -> 19.2
A38: 11109040000000120 | B38: Прочие поступления от использования имущества, находящегося в государственной и муниципальной собственности (за исключением имущества бюджетных и автономных учреждений, а также имущества государственных и муниципальных унитарных предприятий, в том числе казенных) | C38: =C39 -> 17.7 | D38: =D39 -> 18.4 | E38: =E39 -> 19.2
A39: 11109045100000120 | B39: Прочие поступления от использования имущества, находящегося в собственности сельских поселений (за исключением имущества муниципальных бюджетных и автономных учреждений, а также имущества муниципальных унитарных предприятий, в том числе казенных) | C39: 17.7 | D39: 18.4 | E39: 19.2
A40: 20200000000000000 | B40: Безвозмездные поступления от других бюджетов бюджетной системы Российской Федерации | C40: =C49+C54+C41+C45 -> 23923.3 | D40: =D49+D54+D41 -> 1494.9 | E40: =E49+E54+E41 -> 1690.4
A41: 20210000000000150 | B41: Дотации бюджетам бюджетной системы Российской Федерации | C41: =C44 -> 410.9 | D41: =D42 -> 0 | E41: =E42 -> 0
A42: 20215001000000150 | B42: Дотации на выравнивание бюджетной обеспеченности | C42: =C43 -> 0 | D42: =D43 -> 0 | E42: =E43 -> 0
A43: 20215001100000150 | B43: Дотации бюджетам сельских поселений на выравнивание бюджетной обеспеченности
A44: 20215002100000150 | B44: Дотации бюджетам сельских поселений на поддержку мер по обеспечению сбалансированности бюджетов | C44: 410.9
A45: 20220000000000150 | B45: Субсидии бюджета бюджетной системы (межбюджетные субсидии) | C45: =C46+C47 -> 1386.7
A46: 20225576100000150 | B46: Субсидии бюджетам сельских поселений на обеспечение комплексного развития сельских территорий | C46: 1060.5
A47: 20229999000000150 | B47: Прочие субсидии | C47: =C48 -> 326.2
A48: 20229999100000150 | B48: Прочие субсидии бюджетам сельских поселений | C48: 326.2
A49: 20230000000000150 | B49: Субвенции от других бюджетов бюджетной системы Российской Федерации | C49: =C50+C52 -> 90.5 | D49: =D50+D52 -> 93.5 | E49: =E50+E52 -> 96.7
...

Sheet Приложение 2
J2: ПРИЛОЖЕНИЕ 2 к решению Совета депутатов Семилейского сельского поселения Кочкуровского муниципального района
J3: от 28.02.2022 №21
J5: Приложение 2 к проекту решения Совета депутатов Семилейского сельского поселения «О бюджете Семилейского сельского поселения на 2022 год и на плановый период 2023 и 2024 годов» от 24.12.2021 г. №14
A7: ВЕДОМСТВЕННАЯ СТРУКТУРА РАСХОДОВ БЮДЖЕТА СЕМИЛЕЙСКОГО СЕЛЬСКОГО ПОСЕЛЕНИЯ НА 2022 ГОД И НА ПЛАНОВЫЙ ПЕРИОД 2023 И 2024 ГОДОВ
I8: (тыс. рублей)
A9: Наименование | B9: Адм | C9: Рз | D9: Прз | E9: Цср | I9: Вр | J9: Сумма
J10: 2022 год | K10: 2023 год | L10: 2024 год
A11: 1 | B11: 2 | C11: 3 | D11: 4 | E11: 5 | F11: 6 | G11: 7 | H11: 8 | I11: 9 | J11: 10 | K11: 11 | L11: 12
A12: ВСЕГО | B12: 923 | J12: =J13+J47+J63+J86+J120+J128+J135+J142+J56 -> 26273.7 | K12: =K13+K47+K63+K86+K120+K128+K135+K142+K56 -> 3897.4 | L12: =L13+L47+L63+L86+L120+L128+L135+L142+L56 -> 4265.7
A13: Общегосударственные вопросы | B13: 923 | C13: 01 | J13: =J14+J20+J41+J35 -> 2399.4 | K13: =K14+K20+K41+K35 -> 1868.9 | L13: =L14+L20+L41+L35 -> 1994.53
A14: Функционирование высшего должностного лица субъекта Российской Федерации и муниципального образования | B14: 923 | C14: 01 | D14: 02 | J14: =J15 -> 420.7 | K14: =K15 -> 420.7 | L14: =L15 -> 420.7
A15: Обеспечение деятельности администрации Семилейского сельского поселения Кочкуровского муниципального района Республики Мордовия | B15: 923 | C15: 01 | D15: 02 | E15: 65 | J15: =J16 -> 420.7 | K15: =K16 -> 420.7 | L15: =L16 -> 420.7
A16: Глава Семилейского сельского поселения Кочкуровского муниципального района Республики Мордовия | B16: 923 | C16: 01 | D16: 02 | E16: 65 | F16: 1 | J16: =J17 -> 420.7 | K16: =K17 -> 420.7 | L16: =L17 -> 420.7
A17: Расходы на выплаты по оплате труда высшего должностного лица | B17: 923 | C17: 01 | D17: 02 | E17: 65 | F17: 1 | G17: 00 | H17: 41150 | J17: =J18 -> 420.7 | K17: =K18 -> 420.7 | L17: =L18 -> 420.7
A18: Расходы на выплаты персоналу в целях обеспечения выполнения функций государственными (муниципальными) органами, казенными учреждениями, органами управления государственными внебюджетными фондами | B18: 923 | C18: 01 | D18: 02 | E18: 65 | F18: 1 | G18: 00 | H18: 41150 | I18: 100 | J18: =J19 -> 420.7 | K18: =K19 -> 420.7 | L18: =L19 -> 420.7
A19: Расходы на выплаты персоналу государственных (муниципальных) органов | B19: 923 | C19: 01 | D19: 02 | E19: 65 | F19: 1 | G19: 00 | H19: 41150 | I19: 120 | J19: 420.7 | K19: 420.7 | L19: 420.7
A20: Функционирование Правительства Российской Федерации, высших исполнительных органов государственной власти субъектов Российской Федерации, местных администраций | B20: 923 | C20: 01 | D20: 04 | J20: =J21 -> 1964.4 | K20: =K21 -> 1433.9 | L20: =L21 -> 1559.53
A21: Обеспечение деятельности администрации Семилейского сельского поселения Кочкуровского муниципального района Республики Мордовия | B21: 923 | C21: 01 | D21: 04 | E21: 65 | J21: =J22 -> 1964.4 | K21: =K22 -> 1433.9 | L21: =L22 -> 1559.53
A22: Непрограммные расходы в рамках обеспечения деятельности администрации Семилейского сельского поселения Кочкуровского муниципального района Республики Мордовия | B22: 923 | C22: 01 | D22: 04 | E22: 65 | F22: 4 | J22: =J23+J26+J32 -> 1964.4 | K22: =K23+K26+K32 -> 1433.9 | L22: =L23+L26+L32 -> 1559.53
A23: Расходы на выплаты по оплате труда работников органов местного самоуправления | B23: 923 | C23: 01 | D23: 04 | E23: 65 | F23: 4 | G23: 00 | H23: 41110 | J23: =J24 -> 877.583 | K23: =K24 -> 686.66 | L23: =L24 -> 696.7
A24: Расходы на выплаты персоналу в целях обеспечения выполнения функций государственными (муниципальными) органами, казенными учреждениями, органами управления государственными внебюджетными фондами | B24: 923 | C24: 01 | D24: 04 | E24: 65 | F24: 4 | G24: 00 | H24: 41110 | I24: 100 | J24: =J25 -> 877.583 | K24: =K25 -> 686.66 | L24: =L25 -> 696.7
A25: Расходы на выплаты персоналу государственных (муниципальных) органов | B25: 923 | C25: 01 | D25: 04 | E25: 65 | F25: 4 | G25: 00 | H25: 41110 | I25: 120 | J25: =977.583-100 -> 877.583 | K25: 686.66 | L25: 696.7
A26: Расходы на обеспечение функций органов местного самоуправления | B26: 923 | C26: 01 | D26: 04 | E26: 65 | F26: 4 | G26: 00 | H26: 41120 | J26: =J27+J29 -> 1086.117 | K26: =K27+K29 -> 746.54 | L26: =L27+L29 -> 862.13
A27: Закупка товаров, работ и услуг для обеспечения государственных (муниципальных) нужд | B27: 923 | C27: 01 | D27: 04 | E27: 65 | F27: 4 | G27: 00 | H27: 41120 | I27: 200 | J27: =J28 -> 400.72592 | K27: =K28 -> 176.64892 | L27: =L28 -> 176.73892
A28: Иные закупки товаров, работ и услуг для обеспечения государственных (муниципальных) нужд | B28: 923 | C28: 01 | D28: 04 | E28: 65 | F28: 4 | G28: 00 | H28: 41120 | I28: 240 | J28: =300.66-0.03408+100+0.1 -> 400.72592 | K28: =176.66-0.01108 -> 176.64892 | L28: =176.7+0.03892 -> 176.73892
A29: Иные бюджетные ассигнования | B29: 923 | C29: 01 | D29: 04 | E29: 65 | F29: 4 | G29: 00 | H29: 41120 | I29: 800 | J29: =J31+J30 -> 685.39108 | K29: =K31 -> 569.89108 | L29: =L31 -> 685.39108
A30: Исполнение судебных актов | B30: 923 | C30: 01 | D30: 04 | E30: 65 | F30: 4 | G30: 00 | H30: 41120 | I30: 830 | J30: 20 | K30: 0 | L30: 0
A31: Уплата налогов, сборов и иных платежей | B31: 923 | C31: 01 | D31: 04 | E31: 65 | F31: 4 | G31: 00 | H31: 41120 | I31: 850 | J31: =685.39108-20 -> 665.39108 | K31: =585.39108-15.5 -> 569.89108 | L31: 685.39108
A32: Осуществление государственных полномочий Республики Мордовия по определению перечня должностных лиц, уполномоченных составлять протоколы об административных правонарушениях, предусмотренных Законом Республики Мордовия от 15 июня 2015 года № 38-З "Об административной ответственности на территории Республики Мордовия" | B32: 923 | C32: 01 | D32: 04 | E32: 65 | F32: 4 | G32: 00 | H32: 77150 | J32: =J33 -> 0.7 | K32: =K33 -> 0.7 | L32: =L33 -> 0.7
A33: Закупка товаров, работ и услуг для обеспечения государственных (муниципальных) нужд | B33: 923 | C33: 01 | D33: 04 | E33: 65 | F33: 4 | G33: 00 | H33: 77150 | I33: 200 | J33: =J34 -> 0.7 | K33: =K34 -> 0.7 | L33: =L34 -> 0.7
A34: Иные закупки товаров, работ и услуг для обеспечения государственных (муниципальных) нужд | B34: 923 | C34: 01 | D34: 04 | E34: 65 | F34: 4 | G34: 00 | H34: 77150 | I34: 240 | J34: 0.7 | K34: 0.7 | L34: 0.7
A35: Обеспечение деятельности финансовых, налоговых и таможенных органов и органов финансового (финансово-бюджетного) надзора | B35: 923 | C35: 01 | D35: 06 | J35: =J36 -> 4.3 | K35: =K36 -> 4.3 | L35: =L36 -> 4.3
A36: Непрограммные расходы главных распорядителей бюджетных средств местного бюджета | B36: 923 | C36: 01 | D36: 06 | E36: 89 | J36: =J37 -> 4.3 | K36: =K37 -> 4.3 | L36: =L37 -> 4.3
A37: Непрограммные расходы в рамках обеспечения деятельности главных распорядителей бюджетных средств местного бюджета | B37: 923 | C37: 01 | D37: 06 | E37: 89 | F37: 1 | J37: =J38 -> 4.3 | K37: =K38 -> 4.3 | L37: =L38 -> 4.3
A38: Иные межбюджетные трансферты на осуществление полномочий по составлению и рассмотрению проекта бюджета поселения, утверждению и исполнению бюджета поселения, осуществлению контроля за его исполнением, составлению и утверждению отчета об исполнении бюджета поселения | B38: 923 | C38: 01 | D38: 06 | E38: 89 | F38: 1 | G38: 00 | H38: 44501 | J38: =J39 -> 4.3 | K38: =K39 -> 4.3 | L38: =L39 -> 4.3
A39: Межбюджетные трансферты | B39: 923 | C39: 01 | D39: 06 | E39: 89 | F39: 1 | G39: 00 | H39: 44501 | I39: 500 | J39: =J40 -> 4.3 | K39: =K40 -> 4.3 | L39: =L40 -> 4.3
A40: Иныемежбюджетные трансферты | B40: 923 | C40: 01 | D40: 06 | E40: 89 | F40: 1 | G40: 00 | H40: 44501 | I40: 540 | J40: 4.3 | K40: 4.3 | L40: 4.3
A41: Резервные фонды | B41: 923 | C41: 01 | D41: 11 | J41: =J42 -> 10 | K41: =K42 -> 10 | L41: =L42 -> 10
A42: Непрограммные расходы главных распорядителей бюджетных средств местного бюджета | B42: 923 | C42: 01 | D42: 11 | E42: 89 | J42: =J43 -> 10 | K42: =K43 -> 10 | L42: =L43 -> 10
A43: Непрограммные расходы в рамках обеспечения деятельности главных распорядителей бюджетных средств местного бюджета | B43: 923 | C43: 01 | D43: 11 | E43: 89 | F43: 1 | J43: =J44 -> 10 | K43: =K44 -> 10 | L43: =L44 -> 10
...

Sheet Приложение 3
I1: ПРИЛОЖЕНИЕ 3 к решению Совета депутатов Семилейского сельского поселения Кочкуровского муниципального района
I2: от 28.02.2022 №21
I4: Приложение 3 к решению Совета депутатов Семилейского сельского поселения «О бюджете Семилейского сельского поселения на 2022 год и на плановый период 2023 и 2024 годов» от 24.12.2021 г. №14
A6: РАСПРЕДЕЛЕНИЕ БЮДЖЕТНЫХ АССИГНОВАНИЙ БЮДЖЕТА СЕМИЛЕЙСКОГО СЕЛЬСКОГО ПОСЕЛЕНИЯ ПО РАЗДЕЛАМ, ПОДРАЗДЕЛАМ, ЦЕЛЕВЫМ СТАТЬЯМ (МУНИЦИПАЛЬНЫМ ПРОГРАММАМ И НЕПРОГРАМНЫМ НАПРАВЛЕНИЯМ ДЕЯТЕЛЬНОСТИ) , ГРУППАМ (ГРУППАМ И ПОДГРУППАМ) ВИДОВ РАСХОДОВ КЛАССИФИКАЦИИ РАСХОДОВ БЮДЖЕТОВ НА 2022 ГОД И НА ПЛАНОВЫЙ ПЕРИОД 2023 И 2024 ГОДОВ
H7: (тыс. рублей)
A8: Наименование | B8: Рз | C8: Прз | D8: Цср | H8: Вр | I8: Сумма
I9: 2022 год | J9: 2023 год | K9: 2024 год
A10: 1 | B10: 2 | C10: 3 | D10: 4 | E10: 5 | F10: 6 | G10: 7 | H10: 8 | I10: 9 | J10: 10 | K10: 11
A11: ВСЕГО | I11: =I12+I46+I62+I82+I116+I123+I130+I137+I55 -> 26273.7 | J11: =J12+J46+J62+J82+J116+J123+J130+J137+J67+J55 -> 3897.4 | K11: =K12+K46+K62+K82+K116+K123+K130+K137+K67+K55 -> 4265.7
A12: Общегосударственные вопросы | B12: 01 | I12: =I13+I19+I40+I34 -> 2399.4 | J12: =J13+J19+J40+J34 -> 1868.9 | K12: =K13+K19+K40+K34 -> 1994.53
A13: Функционирование высшего должностного лица субъекта Российской Федерации и муниципального образования | B13: 01 | C13: 02 | I13: =I14 -> 420.7 | J13: =J14 -> 420.7 | K13: =K14 -> 420.7
A14: Обеспечение деятельности администрации Семилейского сельского поселения Кочкуровского муниципального района Республики Мордовия | B14: 01 | C14: 02 | D14: 65 | E14: 0 | I14: =I15 -> 420.7 | J14: =J15 -> 420.7 | K14: =K15 -> 420.7
A15: Глава Семилейского сельского поселения Кочкуровского муниципального района Республики Мордовия | B15: 01 | C15: 02 | D15: 65 | E15: 1 | I15: =I16 -> 420.7 | J15: =J16 -> 420.7 | K15: =K16 -> 420.7
A16: Расходы на выплаты по оплате труда высшего должностного лица | B16: 01 | C16: 02 | D16: 65 | E16: 1 | F16: 00 | G16: 41150 | I16: =I17 -> 420.7 | J16: =J17 -> 420.7 | K16: =K17 -> 420.7
A17: Расходы на выплаты персоналу в целях обеспечения выполнения функций государственными (муниципальными) органами, казенными учреждениями, органами управления государственными внебюджетными фондами | B17: 01 | C17: 02 | D17: 65 | E17: 1 | F17: 00 | G17: 41150 | H17: 100 | I17: =I18 -> 420.7 | J17: =J18 -> 420.7 | K17: =K18 -> 420.7
A18: Расходы на выплаты персоналу государственных (муниципальных) органов | B18: 01 | C18: 02 | D18: 65 | E18: 1 | F18: 00 | G18: 41150 | H18: 120 | I18: ='Приложение 2'!J19 -> 420.7 | J18: ='Приложение 2'!K19 -> 420.7 | K18: ='Приложение 2'!L19 -> 420.7
A19: Функционирование Правительства Российской Федерации, высших исполнительных органов государственной власти субъектов Российской Федерации, местных администраций | B19: 01 | C19: 04 | I19: =I20 -> 1964.4 | J19: =J20 -> 1433.9 | K19: =K20 -> 1559.53
A20: Обеспечение деятельности администрации Семилейского сельского поселения Кочкуровского муниципального района Республики Мордовия | B20: 01 | C20: 04 | D20: 65 | I20: =I21 -> 1964.4 | J20: =J21 -> 1433.9 | K20: =K21 -> 1559.53
A21: Непрограммные расходы в рамках обеспечения деятельности администрации Семилейского сельского поселения Кочкуровского муниципального района Республики Мордовия | B21: 01 | C21: 04 | D21: 65 | E21: 4 | I21: =I22+I25+I31 -> 1964.4 | J21: =J22+J25+J31 -> 1433.9 | K21: =K22+K25+K31 -> 1559.53
A22: Расходы на выплаты по оплате труда работников органов местного самоуправления | B22: 01 | C22: 04 | D22: 65 | E22: 4 | F22: 00 | G22: 41110 | I22: =I23 -> 877.583 | J22: =J23 -> 686.66 | K22: =K23 -> 696.7
A23: Расходы на выплаты персоналу в целях обеспечения выполнения функций государственными (муниципальными) органами, казенными учреждениями, органами управления государственными внебюджетными фондами | B23: 01 | C23: 04 | D23: 65 | E23: 4 | F23: 00 | G23: 41110 | H23: 100 | I23: =I24 -> 877.583 | J23: =J24 -> 686.66 | K23: =K24 -> 696.7
A24: Расходы на выплаты персоналу государственных (муниципальных) органов | B24: 01 | C24: 04 | D24: 65 | E24: 4 | F24: 00 | G24: 41110 | H24: 120 | I24: ='Приложение 2'!J25 -> 877.583 | J24: ='Приложение 2'!K25 -> 686.66 | K24: ='Приложение 2'!L25 -> 696.7
A25: Расходы на обеспечение функций органов местного самоуправления | B25: 01 | C25: 04 | D25: 65 | E25: 4 | F25: 00 | G25: 41120 | I25: =I26+I28 -> 1086.117 | J25: =J26+J28 -> 746.54 | K25: =K26+K28 -> 862.13
A26: Закупка товаров, работ и услуг для обеспечения государственных (муниципальных) нужд | B26: 01 | C26: 04 | D26: 65 | E26: 4 | F26: 00 | G26: 41120 | H26: 200 | I26: =I27 -> 400.72592 | J26: =J27 -> 176.64892 | K26: =K27 -> 176.73892
A27: Иные закупки товаров, работ и услуг для обеспечения государственных (муниципальных) нужд | B27: 01 | C27: 04 | D27: 65 | E27: 4 | F27: 00 | G27: 41120 | H27: 240 | I27: ='Приложение 2'!J28 -> 400.72592 | J27: ='Приложение 2'!K28 -> 176.64892 | K27: ='Приложение 2'!L28 -> 176.73892
A28: Иные бюджетные ассигнования | B28: 01 | C28: 04 | D28: 65 | E28: 4 | F28: 00 | G28: 41120 | H28: 800 | I28: =I30+I29 -> 685.39108 | J28: =J30 -> 569.89108 | K28: =K30 -> 685.39108
A29: Исполнение судебных актов | B29: 01 | C29: 04 | D29: 65 | E29: 4 | F29: 00 | G29: 41120 | H29: 830 | I29: ='Приложение 2'!J30 -> 20
A30: Уплата налогов, сборов и иных платежей | B30: 01 | C30: 04 | D30: 65 | E30: 4 | F30: 00 | G30: 41120 | H30: 850 | I30: ='Приложение 2'!J31 -> 665.39108 | J30: ='Приложение 2'!K31 -> 569.89108 | K30: ='Приложение 2'!L31 -> 685.39108
A31: Осуществление государственных полномочий Республики Мордовия по определению перечня должностных лиц, уполномоченных составлять протоколы об административных правонарушениях, предусмотренных Законом Республики Мордовия от 15 июня 2015 года № 38-З "Об административной ответственности на территории Республики Мордовия" | B31: 01 | C31: 04 | D31: 65 | E31: 4 | F31: 00 | G31: 77150 | I31: =I32 -> 0.7 | J31: =J32 -> 0.7 | K31: =K32 -> 0.7
A32: Закупка товаров, работ и услуг для обеспечения государственных (муниципальных) нужд | B32: 01 | C32: 04 | D32: 65 | E32: 4 | F32: 00 | G32: 77150 | H32: 200 | I32: =I33 -> 0.7 | J32: =J33 -> 0.7 | K32: =K33 -> 0.7
A33: Иные закупки товаров, работ и услуг для обеспечения государственных (муниципальных) нужд | B33: 01 | C33: 04 | D33: 65 | E33: 4 | F33: 00 | G33: 77150 | H33: 240 | I33: ='Приложение 2'!J34 -> 0.7 | J33: ='Приложение 2'!K34 -> 0.7 | K33: ='Приложение 2'!L34 -> 0.7
A34: Обеспечение деятельности финансовых, налоговых и таможенных органов и органов финансового (финансово-бюджетного) надзора | B34: 01 | C34: 06 | I34: =I35 -> 4.3 | J34: =J35 -> 4.3 | K34: =K35 -> 4.3
A35: Непрограммные расходы главных распорядителей бюджетных средств местного бюджета | B35: 01 | C35: 06 | D35: 89 | I35: =I36 -> 4.3 | J35: =J36 -> 4.3 | K35: =K36 -> 4.3
A36: Непрограммные расходы в рамках обеспечения деятельности главных распорядителей бюджетных средств местного бюджета | B36: 01 | C36: 06 | D36: 89 | E36: 1 | I36: =I37 -> 4.3 | J36: =J37 -> 4.3 | K36: =K37 -> 4.3
A37: Иные межбюджетные трансферты на осуществление полномочий по составлению и рассмотрению проекта бюджета поселения, утверждению и исполнению бюджета поселения, осуществлению контроля за его исполнением, составлению и утверждению отчета об исполнении бюджета поселения | B37: 01 | C37: 06 | D37: 89 | E37: 1 | F37: 00 | G37: 44501 | I37: =I38 -> 4.3 | J37: =J38 -> 4.3 | K37: =K38 -> 4.3
A38: Межбюджетные трансферты | B38: 01 | C38: 06 | D38: 89 | E38: 1 | F38: 00 | G38: 44501 | H38: 500 | I38: =I39 -> 4.3 | J38: =J39 -> 4.3 | K38: =K39 -> 4.3
A39: Иныемежбюджетные трансферты | B39: 01 | C39: 06 | D39: 89 | E39: 1 | F39: 00 | G39: 44501 | H39: 540 | I39: ='Приложение 2'!J40 -> 4.3 | J39: ='Приложение 2'!K40 -> 4.3 | K39: ='Приложение 2'!L40 -> 4.3
A40: Резервные фонды | B40: 01 | C40: 11 | I40: =I41 -> 10 | J40: =J41 -> 10 | K40: =K41 -> 10
A41: Непрограммные расходы главных распорядителей бюджетных средств местного бюджета | B41: 01 | C41: 11 | D41: 89 | E41: 0 | I41: =I42 -> 10 | J41: =J42 -> 10 | K41: =K42 -> 10
A42: Непрограммные расходы в рамках обеспечения деятельности главных распорядителей бюджетных средств местного бюджета | B42: 01 | C42: 11 | D42: 89 | E42: 1 | I42: =I43 -> 10 | J42: =J43 -> 10 | K42: =K43 -> 10
...

Sheet Приложение 4
J3: ПРИЛОЖЕНИЕ 4 к решению Совета депутатов Семилейского сельского поселения Кочкуровского муниципального района
J4: от 28.02.2022 №21
J6: Приложение 4 к проекту решения Совета депутатов Семилейского сельского поселения «О бюджете Семилейского сельского поселения на 2022 год и на плановый период 2023 и 2024 годов» от 24.12.2021 г. №14
A8: РАСПРЕДЕЛЕНИЕ БЮДЖЕТНЫХ АССИГНОВАНИЙ БЮДЖЕТА СЕМИЛЕЙСКОГО СЕЛЬСКОГО ПОСЕЛЕНИЯ ПО ЦЕЛЕВЫМ СТАТЬЯМ (МУНИЦИПАЛЬНЫМ ПРОГРАММАМ И НЕПРОГРАМНЫМ НАПРАВЛЕНИЯМ ДЕЯТЕЛЬНОСТИ) , ГРУППАМ И ПОДГРУППАМ ВИДОВ РАСХОДОВ, РАЗДЕЛАМ И ПОДРАЗДЕЛАМ КЛАССИФИКАЦИИ РАСХОДОВ БЮДЖЕТОВ НА 2022 ГОД И НА ПЛАНОВЫЙ ПЕРИОД 2023 И 2024 ГОДОВ
F9: (тыс. рублей)
A10: Наименование | B10: Цср | F10: Вр | G10: Рз | H10: Прз | I10: Адм | J10: Сумма
J11: 2022 год | K11: 2023 год | L11: 2024 год
A12: 1 | B12: 2 | C12: 3 | D12: 4 | E12: 5 | F12: 6 | G12: 7 | H12: 8 | I12: 9 | J12: 10 | K12: 11 | L12: 12
A13: ВСЕГО | J13: =J14+J23+J29+J52+J85+J91+J97+J109+J115+J121+J127+J133+J139+J145+J151+J157+J162+J103+J43 -> 26273.7 | K13: =K14+K23+K29+K52+K85+K91+K97+K109+K115+K121+K127+K133+K139+K145+K151+K157+K162+K103 -> 3897.4 | L13: =L14+L23+L29+L52+L85+L91+L97+L109+L115+L121+L127+L133+L139+L145+L151+L157+L162+L103 -> 4265.7
A14: Муниципальная программа «Жилище» Семилейского сельского поселения Кочкуровского муниципального района на 2021-2025 годы» | B14: 0 4 | J14: =J15 -> 15246.5 | K14: =K15 -> 0
A15: Подппрограмма "Обеспечение жильем молодых семей" | B15: 0 4 | C15: 1 | J15: =J16 -> 15246.5 | K15: =K16 -> 0
A16: Региональный проект "Жилье" | B16: 04 | C16: 1 | D16: F1 | J16: =J17 -> 15246.5 | K16: =K17 -> 0
A17: Иные межбюджетные трансферты на осуществление полномочий по дорожной деятельности в отношении автомобильных дорог местного значения в границах населенных пунктов поселения и обеспечению безопасности дорожного движения на них, включая создание и обеспечение функционирования парковок (парковочных мест), осуществление муниципального контроля за сохранностью автомобильных дорог местного значения в границах населенных пунктов поселения, а также осуществление иных полномочий в области использования автомобильных дорог и осуществления дорожной деятельности в соответствии с законодательством Российской Федерации | B17: 04 | C17: 1 | D17: F1 | E17: 44102 | J17: =J18 -> 15246.5 | K17: =K18 -> 0
A18: Капитальные вложения в объекты государственной (муниципальной) собственности | B18: 04 | C18: 1 | D18: F1 | E18: 44102 | F18: 400 | J18: =J19 -> 15246.5 | K18: =K19 -> 0
A19: Бюджетные инвестиции | B19: 04 | C19: 1 | D19: F1 | E19: 44102 | F19: 410 | J19: =J20 -> 15246.5 | K19: =K20 -> 0
A20: Национальная экономика | B20: 04 | C20: 1 | D20: F1 | E20: 44102 | F20: 410 | G20: 04 | J20: =J21 -> 15246.5 | K20: =K21 -> 0
A21: Дорожное хозяйство (дорожные фонды) | B21: 04 | C21: 1 | D21: F1 | E21: 44102 | F21: 410 | G21: 04 | H21: 09 | J21: =J22 -> 15246.5 | K21: =K22 -> 0
A22: Администрация Семилейского сельского поселения Кочкуровского муниципального района | B22: 04 | C22: 1 | D22: F1 | E22: 44102 | F22: 410 | G22: 04 | H22: 09 | I22: 923 | J22: ='Приложение 2'!J70 -> 15246.5 | K22: ='Приложение 2'!K70 -> 0
A23: Строительство (реконструкция) объектов водоснабжения, водоотведения и (или) теплоснабжения в рамках реализации проектов по развитию территорий, расположенных в границах населенных пунктов, предусматривающих строительство жилья | B23: 04 | C23: 1 | D23: F1 | E23: 50213 | J23: =J24 -> 6322.9 | K23: =K24 -> 0
A24: Капитальные вложения в объекты государственной (муниципальной) собственности | B24: 04 | C24: 1 | D24: F1 | E24: 50213 | F24: 400 | J24: =J25 -> 6322.9 | K24: =K25 -> 0
A25: Бюджетные инвестиции | B25: 04 | C25: 1 | D25: F1 | E25: 50213 | F25: 410 | J25: =J28 -> 6322.9 | K25: =K28 -> 0
A26: Жилищно-коммунальное хозяйство | B26: 04 | C26: 1 | D26: F1 | E26: 50213 | F26: 410 | G26: 05 | J26: =J27 -> 6322.9 | K26: =K27 -> 0
A27: Коммунальное хозяйство | B27: 04 | C27: 1 | D27: F1 | E27: 50213 | F27: 410 | G27: 05 | H27: 02 | J27: =J28 -> 6322.9 | K27: =K28 -> 0
A28: Администрация Семилейского сельского поселения Кочкуровского муниципального района | B28: 04 | C28: 1 | D28: F1 | E28: 50213 | F28: 410 | G28: 05 | H28: 02 | I28: 923 | J28: ='Приложение 2'!J93 -> 6322.9 | K28: ='Приложение 2'!K93 -> 0
A29: Программа «Комплексного развитие систем транспортной инфраструктуры на территории Семилейского сельского поселения Кочкуровского муниципального района Республики Мордовия на 2021-2028 годы | B29: 13 | J29: =J30+J37 -> 460.8 | K29: =K30 -> 1396.4 | L29: =L30 -> 1588.7
A30: Программа «Комплексного развитие систем транспортной инфраструктуры на территории Семилейского сельского поселения Кочкуровского муниципального района Республики Мордовия на 2021-2028 годы | B30: 13 | C30: 0 | J30: =J31 -> 460.8 | K30: =K31 -> 1396.4 | L30: =L31 -> 1588.7
A31: Основное мероприятие "Обеспечение сохранности автомобильных дорог местного значения путем выполнения эксплуатационных и ремонтных мероприятий; ямочный ремонт, разметка дорог, установка дорожных знаков, обкашивание дорожных обочин, очистка дорог от снега." | B31: 13 | C31: 0 | D31: 01 | J31: =J32 -> 460.8 | K31: =K32 -> 1396.4 | L31: =L32 -> 1588.7
A32: Осуществление полномочий по дорожной деятельности в отношении автомобильных дорог местного значения в границах населенных пунктов поселения и обеспечению безопасности дорожного движения на них, включая создание и обеспечение функционирования парковок (парковочных мест), осуществление муниципального контроля за сохранностью автомобильных дорог местного значения в границах населенных пунктов поселения, организация дорожного движения, а также осуществление иных полномочий в области использования автомобильных дорог и осуществления дорожной деятельности в соответствии с законодательством Российской Федерации | B32: 13 | C32: 0 | D32: 01 | E32: 44102 | J32: =J33 -> 460.8 | K32: =K33 -> 1396.4 | L32: =L33 -> 1588.7
A33: Закупка товаров, работ и услуг для обеспечения государственных (муниципальных) нужд | B33: 13 | C33: 0 | D33: 01 | E33: 44102 | F33: 200 | J33: =J34 -> 460.8 | K33: =K34 -> 1396.4 | L33: =L34 -> 1588.7
A34: Иные закупки товаров, работ и услуг для обеспечения государственных (муниципальных) нужд | B34: 13 | C34: 0 | D34: 01 | E34: 44102 | F34: 240 | J34: =J35 -> 460.8 | K34: =K35 -> 1396.4 | L34: =L35 -> 1588.7
A35: Дорожное хозяйство (дорожные фонды) | B35: 13 | C35: 0 | D35: 01 | E35: 44102 | F35: 240 | G35: 04 | J35: =J36 -> 460.8 | K35: =K36 -> 1396.4 | L35: =L36 -> 1588.7
A36: Администрация Семилейского сельского поселения Кочкуровского муниципального района | B36: 13 | C36: 0 | D36: 01 | E36: 44102 | F36: 240 | G36: 04 | H36: 09 | I36: 923 | J36: ='Приложение 2'!J75 -> 460.8 | K36: ='Приложение 2'!K75 -> 1396.4 | L36: ='Приложение 2'!L75 -> 1588.7
A37: Основное мероприятие " Развитие транспортной инфраструктуры " | B37: 13 | C37: 0 | D37: 01 | J37: =J38 -> 0
A38: Капитальный ремонт и ремонт автомобильных дорог общего пользования местного значения | B38: 13 | C38: 0 | D38: 01 | E38: 57840 | J38: =J39 -> 0
A39: Закупка товаров, работ и услуг для обеспечения государственных (муниципальных) нужд | B39: 13 | C39: 0 | D39: 01 | E39: 57840 | F39: 200 | J39: =J40 -> 0
A40: Иные закупки товаров, работ и услуг для обеспечения государственных (муниципальных) нужд | B40: 13 | C40: 0 | D40: 01 | E40: 57840 | F40: 240 | J40: =J41 -> 0
A41: Дорожное хозяйство (дорожные фонды) | B41: 13 | C41: 0 | D41: 01 | E41: 57840 | F41: 240 | G41: 04 | J41: =J42 -> 0
A42: Администрация Семилейского сельского поселения Кочкуровского муниципального района | B42: 13 | C42: 0 | D42: 01 | E42: 57840 | F42: 240 | G42: 04 | H42: 09 | I42: 923 | J42: ='Приложение 3'!I75 -> 0
A43: Муниципальная программа Семилейского сельского поселения Кочкуровского муниципального района «Комплексное развитие сельских территорий» | B43: 22 | J43: =J44 -> 1075.7
A44: подпрограмма «Создание и развитие инфраструктуры на сельских территориях» | B44: 22 | C44: 1 | J44: =J45 -> 1075.7
...

Sheet Приложение 7
C1: ПРИЛОЖЕНИЕ 4 к решению Совета депутатов Семилейского сельского поселения Кочкуровского муниципального района
C2: от 28.02.2022 №21
C4: Приложение 7 к проекту решения Совета депутатов Семилейского сельского поселения «О бюджете Семилейского сельского поселения на 2022 год и на плановый период 2023 и 2024 годов» от 24.12.2021 г. №14
A9: ИСТОЧНИКИ ВНУТРЕННЕГО ФИНАНСИРОВАНИЯ ДЕФИЦИТА БЮДЖЕТА СЕМИЛЕЙСКОГО СЕЛЬСКОГО ПОСЕЛЕНИЯ НА 2022 ГОД И НА ПЛАНОВЫЙ ПЕРИОД 2023 и 2024 ГОДОВ
A11: Код | B11: Наименование кода группы, подгруппы, статьи, вида источника финансирования дефицитов бюджетов, кода классификации операций сектора государственного управления, относящихся к источникам финансирования дефицитов бюджетов Российской Федерации | C11: Сумма (тыс. руб.)
C12: 2022 год | D12: 2023 год | E12: 2024 год
A13: 1 | B13: 2 | C13: 3 | D13: 4 | E13: 5
A14: 000 01 00 00 00 00 0000 000 | B14: ИСТОЧНИКИ ВНУТРЕННЕГО ФИНАНСИРОВАНИЯ ДЕФИЦИТОВ БЮДЖЕТОВ | C14: 0 | D14: 0 | E14: 0
A15: 000 01 03 00 00 00 0000 000 | B15: Бюджетные кредиты из других бюджетов бюджетной системы Российской Федерации | C15: =C16 -> -66.4 | D15: =D16 -> -131.37498 | E15: =E16 -> -193.12122
A16: 000 01 03 01 00 00 0000 000 | B16: Погашение бюджетных кредитов, полученных от других бюджетов бюджетной системы Российской Федерации в валюте Российской Федерации | C16: =C17 -> -66.4 | D16: =D17 -> -131.37498 | E16: =E17 -> -193.12122
A17: 000 01 03 01000100000810 | B17: Погашение бюджетами сельских поселений кредитов от других бюджетов бюджетной системы Российской Федерации в валюте Российской Федерации | C17: -66.4 | D17: -131.37498 | E17: -193.12122
A18: 000 01 05 00 00 00 0000 000 | B18: Изменение остатков средств на счетах по учету средств бюджета | C18: 66.4 | D18: 131.4 | E18: 193.1
A19: 000 01 05 00 00 00 0000 500 | B19: Увеличение остатков средств бюджетов | C19: =C20 -> -26273.7 | D19: =D20 -> -3897.4 | E19: =E20 -> -4265.7
A20: 000 01 05 02 01 00 0000 510 | B20: Увеличение прочих остатков денежных средств бюджетов | C20: =C21 -> -26273.7 | D20: =D21 -> -3897.4 | E20: =E21 -> -4265.7
A21: 000 01 05 02 01 10 0000 510 | B21: Увеличение прочих остатков денежных средств бюджетов муниципальных районов | C21: -26273.7 | D21: -3897.4 | E21: -4265.7
A22: 000 01 05 00 00 00 0000 600 | B22: Уменьшение остатков средств бюджетов | C22: =C23 -> 26340.1 | D22: =D23 -> 4028.8 | E22: =E23 -> 4458.8
A23: 000 01 05 02 01 00 0000 610 | B23: Уменьшение прочих остатков денежных средств бюджетов | C23: =C24 -> 26340.1 | D23: =D24 -> 4028.8 | E23: =E24 -> 4458.8
A24: 000 01 05 02 01 10 0000 610 | B24: Уменьшение прочих остатков денежных средств бюджетов муниципальных районов | C24: 26340.1 | D24: 4028.8 | E24: 4458.8
