Workbook
Name sub_1002: Лист1!$AX$2

Sheet Лист1
G1: I. Общее образование
G2: 1. Сведения о развитии дошкольного образования | AX2: 2. Сведения о развитии начального общего образования, основного общего образования и среднего общего образования
G3: 1.1 | N3: 1.2 | P3: 1.3 | V3: 1.4 | AH3: 1.5 | AL3: 1.6 | AN3: 1.7 | AP3: 1.8 | AT3: 1.9 | AX3: 2.1 | BG3: 2.2 | BL3: 2.3 | BU3: 2.4 | CT3: 2.5 | CX3: 2.6 | DH3: 2.7 | DV3: 2.8 | DZ3: 2.9 | EH3: 2.10
G4: 1.1.1 | I4: 1.1.2 | L4: 1.1.3 | N4: 1.2.1 | P4: 1.3.1 | R4: 1.3.2 | V4: 1.4.1 | X4: 1.4.2 | AB4: 1.4.3 | AD4: 1.4.4 | AF4: 1.4.5 | AH4: 1.5.1 | AJ4: 1.5.2 | AL4: 1.6.1 | AN4: 1.7.1 | AP4: 1.8.1 | AR4: 1.8.2 | AT4: 1.9.1 | AV4: 1.9.2 | AX4: 2.1.1 | BC4: 2.1.2 | BE4: 2.1.3 | BG4: 2.2.1 | BJ4: 2.2.2 | BL4: 2.3.1 | BN4: 2.3.2 | BP4: 2.3.3 | BU4: 2.4.1 | CB4: 2.4.2 | CJ4: 2.4.3 | CP4: 2.4.4 | CT4: 2.5.1 | CV4: 2.5.2 | CX4: 2.6.1 | CZ4: 2.6.2 | DB4: 2.6.3 | DD4: 2.6.4 | DF4: 2.6.5 | DH4: 2.7.1 | DL4: 2.7.2 | DN4: 2.7.3 | DR4: 2.7.4 | DV4: 2.8.1 | DZ4: 2.9.1 | ED4: 2.9.2 | EH4: 2.10.1 | EL4: 2.10.2 | EP4: 2.10.3 | ET4: 2.10.4 | EX4: 2.10.5 | FB4: 2.10.6 | FF4: 2.10.7
G5: численность воспитанников в возрасте 3-6 лет (число полных лет) дошкольных образовательных организаций; | H5: численность детей в возрасте 3-6 лет (число полных лет), стоящих на учете для определения в дошкольные образовательные организации. | I5: численность воспитанников образовательных организаций (включая филиалы), реализующих образовательные программы дошкольного образования; | J5: численность детей в возрасте от 2 месяцев (численность детей в возрасте от 2 месяцев до 1 года принимается как 10/12 численности детей в возрасте до 1 года) до 7 лет включительно (на 1 января следующего за отчетным года) (рассчитывается Министерством образования и науки Российской Федерации); | K5: численность детей в возрасте 5-7 лет, обучающихся в образовательных организациях, реализующих образовательные программы начального общего образования (без учащихся 1-х классов, организованных в дошкольных образовательных организациях, обучающихся по образовательным программам начального общего образования). | L5: численность воспитанников частных образовательных организаций (включая филиалы), реализующих образовательные программы дошкольного образования; | M5: численность воспитанников образовательных организаций (включая филиалы), реализующих образовательные программы дошкольного образования - всего. | N5: численность воспитанников образовательных организаций (включая филиалы), реализующих образовательные программы дошкольного образования, обучающихся в группах кратковременного пребывания; | O5: численность воспитанников образовательных организаций (включая филиалы), реализующих образовательные программы дошкольного образования. | P5: численность воспитанников образовательных организаций (включая филиалы), реализующих образовательные программы дошкольного образования; | Q5: численность педагогических работников (без внешних совместителей) образовательных организаций (включая филиалы), реализующих образовательные программы дошкольного образования. | R5: фонд начисленной заработной платы педагогических работников списочного состава (без внешних совместителей) государственных и муниципальных образовательных организаций (включая филиалы), реализующих образовательные программы дошкольного образования - всего; | S5: фонд начисленной заработной платы педагогических работников списочного состава (без внешних совместителей) государственных и муниципальных образовательных организаций (включая филиалы), реализующих образовательные программы начального общего, основного общего и среднего общего образования - всего; | T5: средняя численность педагогических работников (без внешних совместителей) государственных и муниципальных образовательных организаций (включая филиалы), реализующих образовательные программы дошкольного образования; | U5: средняя численность педагогических работников (без внешних совместителей) государственных и муниципальных образовательных организаций (включая филиалы), реализующих образовательные программы начального общего, основного общего и среднего общего образования. | V5: общая площадь помещений, реально используемых непосредственно для нужд дошкольных образовательных организаций (включая филиалы; без учета организаций, деятельность которых приостановлена; без учета площади помещений, сданных в аренду (субаренду); | W5: численность воспитанников дошкольных образовательных организаций (включая филиалы). | X5: число дошкольных образовательных организаций с учетом находящихся на капитальном ремонте (включая филиалы), имеющих водоснабжение; | Y5: число дошкольных образовательных организаций с учетом находящихся на капитальном ремонте (включая филиалы), имеющих центральное отопление; | Z5: число дошкольных образовательных организаций с учетом находящихся на капитальном ремонте (включая филиалы), имеющих канализацию; | AA5: число дошкольных образовательных организаций с учетом находящихся на капитальном ремонте (включая филиалы). | AB5: число дошкольных образовательных организаций с учетом находящихся на капитальном ремонте (включая филиалы), имеющих физкультурные залы; | AC5: число дошкольных образовательных организаций с учетом находящихся на капитальном ремонте (включая филиалы); | AD5: число дошкольных образовательных организаций (включая филиалы), имеющих закрытые плавательные бассейны; | AE5: число дошкольных образовательных организаций (включая филиалы). | AF5: число персональных компьютеров в дошкольных образовательных организациях, с учетом находящихся на капитальном ремонте, доступных для использования детьми (включая филиалы); | AG5: Численность воспитанников дошкольных образовательных организаций (включая филиалы) в возрасте 3 года и старше. | AH5: численность детей с ограниченными возможностями здоровья, обучающихся в образовательных организациях (включая филиалы), реализующих образовательные программы дошкольного образования; | AI5: численность воспитанников образовательных организаций (включая филиалы), реализующих образовательные программы дошкольного образования. | AJ5: численность детей-инвалидов, обучающихся в образовательных организациях (включая филиалы), реализующих образовательные программы дошкольного образования; | AK5: численность воспитанников образовательных организаций (включая филиалы), реализующих образовательные программы дошкольного образования. | AL5: число дней, пропущенных воспитанниками образовательных организаций (включая филиалы), реализующих образовательные программы дошкольного образования, по болезни; | AM5: среднегодовая численность воспитанников образовательных организаций (включая филиалы), реализующих образовательные программы дошкольного образования. | AN5: число дошкольных образовательных организаций с учетом находящихся на капитальном ремонте (без учета филиалов) в отчетном году t; | AO5: число дошкольных образовательных организаций с учетом находящихся на капитальном ремонте (без учета филиалов) в году t-1, предшествовавшем отчетному году t. | AP5: общий объем финансирования дошкольных образовательных организаций (включая филиалы); | AQ5: среднегодовая численность воспитанников дошкольных образовательных организаций (включая филиалы). | AR5: объем финансовых средств от приносящей доход деятельности (внебюджетных средств), поступивших в дошкольные образовательные организации (включая филиалы); | AS5: общий объем финансирования дошкольных образовательных организаций (включая филиалы). | AT5: число дошкольных образовательных организаций с учетом находящихся на капитальном ремонте (включая филиалы), здания которых находятся в аварийном состоянии; | AU5: число дошкольных образовательных организаций с учетом находящихся на капитальном ремонте (включая филиалы). | AV5: число дошкольных образовательных организаций (включая филиалы), здания которых требуют капитального ремонта; | AW5: Ч - число дошкольных образовательных организаций (включая филиалы). | AX5: численность обучающихся образовательных организаций (включая филиалы), реализующих образовательные программы начального общего, основного общего и среднего общего образования (за исключением вечерних (сменных) общеобразовательных организаций); | AY5: численность обучающихся вечерних (сменных) общеобразовательных организаций (включая филиалы); | AZ5: численность обучающихся в отделениях на базе основного общего образования образовательных организаций, реализующих образовательные программы среднего профессионального образования; | BA5: численность обучающихся, осваивающих образовательные программы на базе основного общего образования в образовательных организациях, реализующих образовательные программы среднего профессионального образования; | BB5: численность постоянного населения в возрасте 7-17 лет (на 1 января следующего за отчетным года). | BC5: численность обучающихся образовательных организаций (включая филиалы), реализующих образовательные программы начального общего, основного общего и среднего общего образования (без вечерних (сменных) общеобразовательных организаций), осваивающих образовательные программы, соответствующие требованиям федеральных государственных образовательных стандартов начального общего, основного общего и среднего общего образования; | BD5: численность учащихся образовательных организаций (включая филиалы), реализующих образовательные программы начального общего, основного общего и среднего общего образования (без вечерних (сменных) общеобразовательных организаций). | BE5: численность респондентов (родителей учащихся общеобразовательных организаций), выбравших при ответе на вопрос анкеты "Рассматривали ли Вы при поступлении в данную школу наряду с ней другие возможные варианты или нет? (отметьте, пожалуйста, один ответ)" вариант "Нет, т.к. она единственная в нашем населенном пункте" (Социологический опрос родителей учащихся общеобразовательных организаций); | BF5: численность респондентов (родителей учащихся общеобразовательных организаций), отвечавших на вопрос анкеты "Рассматривали ли Вы при поступлении в данную школу наряду с ней другие возможные варианты или нет? (отметьте, пожалуйста, один ответ)" (Социологический опрос родителей учащихся общеобразовательных организаций). | BG5: численность учащихся (без учащихся 1-х классов, организованных в дошкольных образовательных организациях, обучающихся по образовательным программам начального общего образования) образовательных организаций (включая филиалы), реализующих образовательные программы начального общего, основного общего и среднего общего образования, занимающихся во вторую смену; | BH5: численность учащихся (без учащихся 1-х классов, организованных в дошкольных образовательных организациях, обучающихся по образовательным программам начального общего образования) образовательных организаций (включая филиалы), реализующих образовательные программы начального общего, основного общего и среднего общего образования, занимающихся в третью смену; | BI5: численность учащихся (без учащихся 1-х классов, организованных в дошкольных образовательных организациях, обучающихся по образовательным программам начального общего образования) образовательных организаций (включая филиалы), реализующих образовательные программы начального общего, основного общего и среднего общего образования. | BJ5: численность учащихся (без учащихся 1-х классов, организованных в дошкольных образовательных организациях, обучающихся по образовательным программам начального общего образования) общеобразовательных организаций (включая филиалы; без вечерних (сменных) общеобразовательных организаций) с углубленным изучением отдельных предметов; | BK5: численность учащихся (без учащихся 1-х классов, организованных в дошкольных образовательных организациях, обучающихся по образовательным программам начального общего образования) общеобразовательных организаций (включая (филиалы: без вечерних (сменных) общеобразовательных организаций). | BL5: численность учащихся образовательных организаций (включая филиалы), реализующих образовательные программы начального общего, основного общего и среднего общего образования (за исключением вечерних (сменных) общеобразовательных организаций). | BM5: численность педагогических работников (без внешних совместителей) образовательных организаций (включая филиалы), реализующих образовательные программы начального общего, основного общего и среднего общего образования (за исключением вечерних (сменных) общеобразовательных организаций). | BN5: численность учителей (без внешних совместителей) образовательных организаций (включая филиалы), реализующих образовательные программы начального общего, основного общего и среднего общего образования (без вечерних (сменных) общеобразовательных организаций) в возрасте до 35 лет; | BO5: общая численность учителей (без внешних совместителей) образовательных организаций (включая филиалы), реализующих образовательные программы начального общего, основного общего и среднего общего образования (без вечерних (сменных) общеобразовательных организаций). | BP5: фонд начисленной заработной платы педагогических работников списочного состава (без внешних совместителей) государственных и муниципальных образовательных организаций (включая филиалы), реализующих образовательные программы начального общего, основного общего и среднего общего образования - всего; | BQ5: фонд начисленной заработной платы учителей списочного состава (без внешних совместителей) государственных и муниципальных образовательных организаций (включая филиалы), реализующих образовательные программы начального общего, основного общего и среднего общего образования - всего; | BR5: средняя численность педагогических работников (без внешних совместителей) государственных и муниципальных образовательных организаций (включая филиалы), реализующих образовательные программы начального общего, основного общего и среднего общего образования; | BS5: средняя численность учителей (без внешних совместителей) государственных и муниципальных образовательных организаций (включая филиалы), реализующих образовательные программы начального общего, основного общего и среднего общего образования; | BT5: среднемесячная номинальная начисленная заработная плата в субъекте Российской Федерации. | BU5: общая площадь помещений общеобразовательных организаций (включая филиалы; без учета находящихся на капитальном ремонте; без вечерних (сменных) общеобразовательных организаций); | BV5: общая площадь помещений вечерних (сменных) общеобразовательных организаций (включая филиалы); | BW5: численность учащихся (без учащихся 1-х классов, организованных в дошкольных образовательных организациях, обучающихся по образовательным программам начального общего образования) общеобразовательных организаций (включая филиалы; без вечерних (сменных) общеобразовательных организаций); | BX5: численность учащихся (без учащихся 1-х классов, организованных в дошкольных образовательных организациях, обучающихся по образовательным программам начального общего образования) общеобразовательных организаций (включая филиалы; без вечерних (сменных) общеобразовательных организаций), занимающихся во вторую смену; | BY5: численность учащихся (без учащихся 1-х классов, организованных в дошкольных образовательных организациях, обучающихся по образовательным программам начального общего образования) общеобразовательных организаций (включая филиалы; без вечерних (сменных) общеобразовательных организаций), занимающихся в третью смену; | BZ5: численность учащихся вечерних (сменных) общеобразовательных организаций (включая филиалы), обучающихся по очной форме обучения; | CA5: численность учащихся вечерних (сменных) общеобразовательных организаций (включая филиалы), обучающихся по заочной форме обучения. | CB5: число общеобразовательных организаций включая филиалы; без учета находящихся на капитальном ремонте; без вечерних (сменных) общеобразовательных организаций), имеющих канализацию | CC5: число общеобразовательных организаций включая филиалы; без учета находящихся на капитальном ремонте; без вечерних (сменных) общеобразовательных организаций), имеющих центральное отопление | CD5: число общеобразовательных организаций включая филиалы; без учета находящихся на капитальном ремонте; без вечерних (сменных) общеобразовательных организаций), имеющих водопровод | CE5: число вечерних (сменных) общеобразовательных организаций (включая филиалы), имеющих канализацию | CF5: число вечерних (сменных) общеобразовательных организаций (включая филиалы), имеющих центральное отопление | CG5: число вечерних (сменных) общеобразовательных организаций (включая филиалы), имеющих водопровод | CH5: число общеобразовательных организаций (включая филиалы; без учета находящихся на капитальном ремонте; без вечерних (сменных) общеобразовательных организаций); | CI5: число вечерних (сменных) общеобразовательных организаций (включая филиалы). | CJ5: число компьютеров, используемых в учебных целях, в общеобразовательных организациях (включая филиалы; без учета находящихся на капитальном ремонте; без вечерних (сменных) общеобразовательных организаций); | CK5: число компьютеров, используемых в учебных целях, имеющих доступ к Интернету, в общеобразовательных организациях (включая филиалы; без учета находящихся на капитальном ремонте; без вечерних (сменных) общеобразовательных организаций); | CL5: число компьютеров, используемых в учебных целях, в вечерних (сменных) общеобразовательных организациях (включая филиалы); | CM5: число компьютеров, используемых в учебных целях, имеющих доступ к Интернету, в вечерних (сменных) общеобразовательных организациях (включая филиалы); | CN5: численность учащихся (без учащихся 1-х классов, организованных в дошкольных образовательных организациях, обучающихся по образовательным программам начального общего образования) общеобразовательных организаций (включая филиалы: без вечерних (сменных) общеобразовательных организаций); | CO5: численность учащихся вечерних (сменных) общеобразовательных организаций (включая филиалы). | CP5: число общеобразовательных организаций (включая филиалы; без учета находящихся на капитальном ремонте; без вечерних (сменных) общеобразовательных организаций), имеющих скорость подключения к сети Интернет от 1 Мбит/с и выше; | CQ5: число вечерних (сменных) общеобразовательных организациях (включая филиалы), имеющих скорость подключения к сети Интернет от 1 Мбит/с и выше; | CR5: число общеобразовательных организаций (включая филиалы; без учета находящихся на капитальном ремонте; без вечерних (сменных) общеобразовательных организаций); | CS5: число вечерних (сменных) общеобразовательных организаций (включая филиалы). | CT5: численность обучающихся с ограниченными возможностями здоровья в классах, не являющихся специальными (коррекционными), образовательных организаций (включая филиалы), реализующих образовательные программы начального общего, основного общего и среднего общего образования (без вечерних (сменных) общеобразовательных организаций). Показывается численность обучающихся с ограниченными возможностями здоровья в образовательных организациях (включая филиалы), реализующих образовательные программы начального общего, основного общего и среднего общего образования (без вечерних (сменных) общеобразовательных организаций), исключая специальные (коррекционные) образовательные организации и классы для обучающихся, воспитанников с ограниченными возможностями здоровья | CU5: численность обучающихся с ограниченными возможностями здоровья в образовательных организациях (включая филиалы), реализующих образовательные программы начального общего, основного общего и среднего общего образования (без вечерних (сменных) общеобразовательных организаций). | CV5: численность детей-инвалидов, обучающихся в классах, не являющихся специальными (коррекционными), образовательных организаций (включая филиалы), реализующих образовательные программы начального общего, основного общего и среднего общего образования (без вечерних (сменных) общеобразовательных организаций). Показывается численность детей-инвалидов, обучающихся в образовательных организациях (включая филиалы), реализующих образовательные программы начального общего, основного общего и среднего общего образования (без вечерних (сменных) общеобразовательных организаций), исключая специальные (коррекционные) образовательные организации и классы для обучающихся, воспитанников с ограниченными возможностями здоровья; | CW5: численность детей-инвалидов, обучающихся в образовательных организациях (включая филиалы), реализующих образовательные программы начального общего, основного общего и среднего общего образования (без вечерних (сменных) общеобразовательных организаций). | CX5: среднее значение количества баллов по ЕГЭ (в расчете на один предмет), полученных выпускниками, завершившими обучение по образовательным программам среднего общего образования, 10% образовательных организаций, реализующих образовательные программы среднего общего образования, с лучшими результатами ЕГЭ (база данных результатов ЕГЭ); | CY5: среднее значение количества баллов по ЕГЭ (в расчете на один предмет), полученных выпускниками, завершившими обучение по образовательным программам среднего общего образования, 10% образовательных организаций, реализующих образовательные программы среднего общего образования, с худшими результатами ЕГЭ (база данных результатов ЕГЭ). | CZ5: среднее значение тестовых баллов, полученных выпускниками, завершившими обучение по образовательным программам среднего общего образования, по результатам ЕГЭ по предмету русский язык | DA5: среднее значение тестовых баллов, полученных выпускниками, завершившими обучение по образовательным программам среднего общего образования, по результатам ЕГЭ по предмету математика | DB5: среднее значение тестовых баллов, полученных выпускниками, завершившими обучение по образовательным программам основного общего образования, по результатам ГИА по предмету русский язык | DC5: среднее значение тестовых баллов, полученных выпускниками, завершившими обучение по образовательным программам основного общего образования, по результатам ГИА по предмету математика | DD5: доля получивших ниже минимального количества баллов среди выпускников, завершивших обучение по программам среднего общего образования, по результатам ЕГЭ по предмету русский язык | DE5: доля получивших ниже минимального количества баллов среди выпускников, завершивших обучение по программам среднего общего образования, по результатам ЕГЭ по предмету математика | DF5: доля получивших ниже минимального количества баллов среди выпускников 9-х классов образовательных организаций, реализующих образовательные программы основного общего образования по результатам ГИА по предмету русский язык | DG5: доля получивших ниже минимального количества баллов среди выпускников 9-х классов образовательных организаций, реализующих образовательные программы основного общего образования по результатам ГИА по предмету | DH5: численность обучающихся (без учащихся 1-х классов, организованных в дошкольных образовательных организациях, обучающихся по образовательным программам начального общего образования) общеобразовательных организаций (включая филиалы; за исключением вечерних (сменных) общеобразовательных организаций), пользующихся горячим питанием; | DI5: численность обучающихся вечерних (сменных) общеобразовательных организаций (включая филиалы), пользующихся горячим питанием; | DJ5: Численность обучающихся (без учащихся 1-х классов, организованных в дошкольных образовательных организациях, обучающихся по образовательным программам начального общего образования) общеобразовательных организаций (включая филиалы; за исключением вечерних (сменных) общеобразовательных организаций); | DK5: численность обучающихся вечерних (сменных) общеобразовательных организаций (включая филиалы). | DL5: число общеобразовательных организаций (включая филиалы), имеющих логопедический пункт или логопедический кабинет (без вечерних (сменных) общеобразовательных организаций); | DM5: число общеобразовательных организаций (включая филиалы; без учета находящихся на капитальном ремонте; без вечерних (сменных) общеобразовательных организаций). | DN5: число общеобразовательных организаций (включая филиалы; без учета находящихся на капитальном ремонте; без вечерних (сменных) общеобразовательных организаций), имеющих физкультурные залы; | DO5: число вечерних (сменных) общеобразовательных организаций (включая филиалы), имеющих физкультурные залы; | DP5: число общеобразовательных организаций (включая филиалы; без учета находящихся на капитальном ремонте; без вечерних (сменных) общеобразовательных организаций); | DQ5: число вечерних (сменных) общеобразовательных организаций (включая филиалы). | DR5: число общеобразовательных организаций (включая филиалы; без учета находящихся на капитальном ремонте; без вечерних (сменных) общеобразовательных организаций), имеющих плавательные бассейны; | DS5: число вечерних (сменных) общеобразовательных организаций (включая филиалы), имеющих плавательные бассейны; | DT5: число общеобразовательных организаций (включая филиалы; без учета находящихся на капитальном ремонте; без вечерних (сменных) общеобразовательных организаций); | DU5: число вечерних (сменных) общеобразовательных организаций (включая филиалы); | DV5: число общеобразовательных организаций (включая филиалы; без учета находящихся на капитальном ремонте; без вечерних (сменных) общеобразовательных организаций) в отчетном году t; | DW5: число вечерних (сменных) общеобразовательных организаций (включая филиалы) в отчетном году t; | DX5: число общеобразовательных организаций (включая филиалы; без учета находящихся на капитальном ремонте; без вечерних (сменных) общеобразовательных организаций) в году t-1, предшествовавшем отчетному году t; | DY5: число вечерних (сменных) общеобразовательных организаций (включая филиалы) в году t-1, предшествовавшем отчетному году t. | DZ5: объем финансирования государственных и муниципальных общеобразовательных организаций (включая филиалы); | EA5: объем финансирования частных общеобразовательных организаций (включая филиалы); | EB5: среднегодовая численность учащихся государственных и муниципальных общеобразовательных организаций (включая филиалы); | EC5: среднегодовая численность учащихся частных общеобразовательных организаций (включая филиалы). | ED5: объем средств от приносящей доход деятельности (внебюджетных средств), поступивших в государственные и муниципальные общеобразовательные организации (включая филиалы); | EE5: объем средств от приносящей доход деятельности (внебюджетных средств), поступивших в частные общеобразовательные организации (включая филиалы); | EF5: общий объем финансирования государственных и муниципальных общеобразовательных организаций (включая филиалы); | EG5: общий объем финансирования частных общеобразовательных организаций (включая филиалы). | EH5: число общеобразовательных организаций (включая филиалы; без учета находящихся на капитальном ремонте; без вечерних (сменных) общеобразовательных организаций), имеющих пожарные краны и рукава; | EI5: число вечерних (сменных) общеобразовательных организаций (включая филиалы), имеющих пожарные краны и рукава; | EJ5: число общеобразовательных организаций (включая филиалы; без учета находящихся на капитальном ремонте; без вечерних (сменных) общеобразовательных организаций); | EK5: число вечерних (сменных) общеобразовательных организаций (включая филиалы). | EL5: число общеобразовательных организаций (включая филиалы; без учета находящихся на капитальном ремонте; без вечерних (сменных) общеобразовательных организаций), имеющих дымовые извещатели; | EM5: число вечерних (сменных) общеобразовательных организаций (включая филиалы), имеющих дымовые извещатели; | EN5: число общеобразовательных организаций (включая филиалы; без учета находящихся на капитальном ремонте; без вечерних (сменных) общеобразовательных организаций); | EO5: число вечерних (сменных) общеобразовательных организаций (включая филиалы). | EP5: число общеобразовательных организаций (включая филиалы; без учета находящихся на капитальном ремонте; без вечерних (сменных) общеобразовательных организаций), имеющих "тревожную кнопку"; | EQ5: число вечерних (сменных) общеобразовательных организаций (включая филиалы), имеющих "тревожную кнопку"; | ER5: число общеобразовательных организаций (включая филиалы; без учета находящихся на капитальном ремонте; без вечерних (сменных) общеобразовательных организаций); | ES5: число вечерних (сменных) общеобразовательных организаций (включая филиалы). | ET5: число общеобразовательных организаций (включая филиалы; без учета находящихся на капитальном ремонте; без вечерних (сменных) общеобразовательных организаций), имеющих охрану; | EU5: число вечерних (сменных) общеобразовательных организаций (включая филиалы), имеющих охрану; | EV5: число общеобразовательных организаций (включая филиалы; без учета находящихся на капитальном ремонте; без вечерних (сменных) общеобразовательных организаций); | EW5: число вечерних (сменных) общеобразовательных организаций (включая филиалы). | EX5: число общеобразовательных организаций (включая филиалы; без учета находящихся на капитальном ремонте; без вечерних (сменных) общеобразовательных организаций), имеющих систему видеонаблюдения; | EY5: число вечерних (сменных) общеобразовательных организаций (включая филиалы), имеющих систему видеонаблюдения; | EZ5: число общеобразовательных организаций (включая филиалы; без учета находящихся на капитальном ремонте; без вечерних (сменных) общеобразовательных организаций); | FA5: число вечерних (сменных) общеобразовательных организаций (включая филиалы). | FB5: число общеобразовательных организаций (включая филиалы; без учета находящихся на капитальном ремонте; без вечерних (сменных) общеобразовательных организаций), здания которых находятся в аварийном состоянии; | FC5: число вечерних (сменных) общеобразовательных организаций, здания которых находятся в аварийном состоянии (включая филиалы); | FD5: число общеобразовательных организаций (включая филиалы; без учета находящихся на капитальном ремонте; без вечерних (сменных) общеобразовательных организаций); | FE5: число вечерних (сменных) общеобразовательных организаций (включая филиалы). | FF5: число общеобразовательных организаций (включая филиалы; без учета находящихся на капитальном ремонте; без вечерних (сменных) общеобразовательных организаций), здания которых требуют капитального ремонта; | FG5: число вечерних (сменных) общеобразовательных организаций (включая филиалы), здания которых требуют капитального ремонта; | FH5: число общеобразовательных организаций (включая филиалы; без учета находящихся на капитальном ремонте; без вечерних (сменных) общеобразовательных организаций); | FI5: число вечерних (сменных) общеобразовательных организаций (включая филиалы).
A6: Муниципальный район | B6: Наименование ОО по уставу | C6: Адрес | D6: E-mail | E6: Ответственный координатор | F6: Контактный телефон | G6: ЧВ(до) | H6: ЧД(у) | I6: Ч(до) | J6: Н | K6: С(1) | L6: В(дн) | M6: В(д) | N6: ЧВ(кп) | O6: ЧВ | P6: Ч(до) | Q6: ПР(до) | R6: ФОТ(1) | S6: ФОТ(2) | T6: Ч(сп1) | U6: Ч(сп2) | V6: П(л) | W6: ЧВ | X6: Ч(в) | Y6: Ч(ЦО) | Z6: Ч(к) | AA6: Ч | AB6: Ч(фз) | AC6: Ч | AD6: Ч(бас) | AE6: Ч | AF6: ЧК | AG6: ЧВ | AH6: ЧВ(овз) | AI6: ЧВ | AJ6: Ч(инв) | AK6: ЧВ | AL6: Д | AM6: ЧВ | AN6: Ч(до) | AO6: Ч(до)(-1) | AP6: ОС | AQ6: ЧВ | AR6: ВБС | AS6: ОС | AT6: Ч(а) | AU6: Ч | AV6: Ч(кр) | AW6: Ч | AX6: ЧУ(дн) | AY6: ЧУ(веч) | AZ6: ЧО(рс) | BA6: ЧО(ссз) | BB6: Н(7-17) | BC6: ЧУ(фгос) | BD6: ЧУ | BE6: ЧР(ов) | BF6: ЧР | BG6: ЧУ(II) | BH6: ЧУ(III) | BI6: ЧУ | BJ6: ЧУ | BK6: ЧУ(оо) | BL6: ЧУ | BM6: ПР | BN6: У(35) | BO6: У | BP6: ФОТ(пр) | BQ6: ФОТ(у) | BR6: Ч(сп,пр) | BS6: Ч(сп,у) | BT6: З(э) | BU6: Пл(дн) | BV6: Пл(веч) | BW6: ЧУ(дн) | BX6: ЧУ(дн,II) | BY6: ЧУ(дн,III) | BZ6: ЧУ(веч,оч) | CA6: ЧУ(веч,заоч) | CB6: Ч(дн,к) | CC6: Ч(дн,цо) | CD6: Ч(дн,в) | CE6: Ч(веч,к) | CF6: Ч(веч,цо) | CG6: Ч(веч,в) | CH6: Ч(дн) | CI6: Ч(веч) | CJ6: ЧК(дн) | CK6: ЧК(дн,и) | CL6: ЧК(веч) | CM6: ЧК(веч,и) | CN6: ЧУ(дн) | CO6: ЧУ(веч) | CP6: ЧС(дн) | CQ6: ЧС(веч) | CR6: Ч(дн) | CS6: Ч(веч) | CT6: ЧУ(овз,об) | CU6: ЧУ(овз) | CV6: ЧУ(инв,об) | CW6: ЧУ(инв) | CX6: СБ(егэ,10л) | CY6: СБ(егэ,10х) | CZ6: СБ(егэ,1) | DA6: СБ(егэ,2) | DB6: СБ(гиа,1) | DC6: СБ(гиа,2) | DD6: М(егэ,1) | DE6: М(егэ,2) | DF6: М(гиа,1) | DG6: М(гиа,2) | DH6: ЧУ(дн,гп) | DI6: ЧУ(веч,гп) | DJ6: ЧУ(дн) | DK6: ЧУ(веч) | DL6: Ч(лпк) | DM6: Ч | DN6: Ч(дн,фз) | DO6: Ч(веч,фз) | DP6: Ч(дн) | DQ6: Ч(веч) | DR6: Ч(дн,бас) | DS6: Ч(веч, бас) | DT6: Ч(дн) | DU6: Ч(веч) | DV6: Ч(дн) | DW6: Ч(веч) | DX6: Ч(дн)(-1) | DY6: Ч(веч)(-1) | DZ6: ОФ(гм) | EA6: ОФ(нг) | EB6: ЧУ(гм) | EC6: ЧУ(нг) | ED6: ВБС(гм) | EE6: ВБС(нг) | EF6: ОС(гм) | EG6: ОС(нг) | EH6: Ч(дн,пкр) | EI6: Ч(веч,пкр) | EJ6: Ч(дн) | EK6: Ч(веч) | EL6: Ч(дн,ди) | EM6: Ч(веч,ди) | EN6: Ч(дн) | EO6: Ч(веч) | EP6: Ч(дн,тк) | EQ6: Ч(веч,тк) | ER6: Ч(дн) | ES6: Ч(веч) | ET6: Ч(дн,охр) | EU6: Ч(веч,охр) | EV6: Ч(дн) | EW6: Ч(веч) | EX6: Ч(дн,вн) | EY6: Ч(веч,вн) | EZ6: Ч(дн) | FA6: Ч(веч) | FB6: Ч(дн,а) | FC6: Ч(веч,а) | FD6: Ч(дн) | FE6: Ч(веч) | FF6: Ч(дн,кр) | FG6: Ч(веч,кр) | FH6: Ч(дн) | FI6: Ч(веч)
A7: Кочкуровский муниципальный район | B7: МКУ "Центр информационно-методического и технического обеспечения муниципальных учреждений" Кочкуровского муниципального района | C7: 431580, Кочкуровский район, село Кочкурово, улица Советская, д.16 | D7: metod239@mail.ru | E7: Червякова Татьяна Ивановна | F7: 8 (83439)21233 | G7: 194 | H7: 18 | I7: 247 | J7: 574 | K7: 106 | L7: 0 | M7: 247 | N7: 15 | O7: 247 | P7: 247 | Q7: 34 | R7: 7172.6 | S7: 29760 | T7: 34 | U7: 107 | V7: 5741 | W7: 247 | X7: 3 | Y7: 3 | Z7: 3 | AA7: 3 | AB7: 3 | AC7: 3 | AD7: 1 | AE7: 3 | AF7: 16 | AG7: 194 | AH7: 2 | AI7: 247 | AJ7: 2 | AK7: 247 | AL7: 2464 | AM7: 235 | AN7: 3 | AO7: 3 | AP7: 26337.1 | AQ7: 235 | AR7: 0 | AS7: 26337.1 | AT7: 0 | AU7: 3 | AV7: 0 | AW7: 3 | AX7: 555 | AY7: 0 | AZ7: 0 | BA7: 0 | BB7: 831 | BC7: 249 | BD7: 555 | BE7: 0 | BF7: 0 | BG7: 0 | BH7: 0 | BI7: 555 | BJ7: 0 | BK7: 555 | BL7: 555 | BM7: 107 | BN7: 12 | BO7: 103 | BP7: 29760 | BQ7: 24727.4 | BR7: 107 | BS7: 103 | BT7: 22773.2 | BU7: 15463 | BV7: 0 | BW7: 249 | BX7: 0 | BY7: 0 | BZ7: 0 | CA7: 0 | CB7: 7 | CC7: 7 | CD7: 7 | CE7: 0 | CF7: 0 | CG7: 0 | CH7: 7 | CI7: 0 | CJ7: 58 | CK7: 34 | CL7: 0 | CM7: 0 | CN7: 249 | CO7: 0 | CP7: 0 | CQ7: 0 | CR7: 7 | CS7: 0 | CT7: 9 | CU7: 9 | CV7: 9 | CW7: 9 | CZ7: 54 | DA7: 30 | DB7: 4 | DC7: 4 | DD7: 8.3 | DE7: 12.5 | DF7: 0 | DG7: 0 | DH7: 536 | DI7: 0 | DJ7: 555 | DK7: 0 | DL7: 1 | DM7: 7 | DN7: 7 | DO7: 0 | DP7: 7 | DQ7: 0 | DR7: 0 | DS7: 0 | DT7: 7 | DU7: 0 | DV7: 7 | DW7: 0 | DX7: 7 | DY7: 0 | DZ7: 69253.7 | EA7: 0 | EB7: 572 | EC7: 0 | ED7: 69253.7 | EE7: 0 | EF7: 69253.7 | EG7: 0 | EH7: 2 | EI7: 0 | EJ7: 7 | EK7: 0 | EL7: 7 | EM7: 0 | EN7: 7 | EO7: 0 | EP7: 7 | EQ7: 0 | ER7: 7 | ES7: 0 | ET7: 7 | EU7: 0 | EV7: 7 | EW7: 0 | EX7: 5 | EY7: 0 | EZ7: 7 | FA7: 0 | FB7: 0 | FC7: 0 | FD7: 7 | FE7: 0 | FF7: 2 | FG7: 0 | FH7: 7 | FI7: 0

Sheet Лист2
A1: =(Лист1!R7/Лист1!T7/12)*1000 -> 17579.902 | B1: =(Лист1!S7/Лист1!U7/12)*1000 -> 23177.57 | C1: =((Лист1!BP7/Лист1!BR7)/12)*1000 -> 23177.57 | D1: =((Лист1!BQ7/Лист1!BS7)/12)*1000 -> 20005.987
A2: =(Лист1!R8/Лист1!T8/12)*1000 -> #DIV/0! | B2: =(Лист1!S8/Лист1!U8/12)*1000 -> #DIV/0! | C2: =((Лист1!BP8/Лист1!BR8)/12)*1000 -> #DIV/0! | D2: =((Лист1!BQ8/Лист1!BS8)/12)*1000 -> #DIV/0!
A3: =(Лист1!R9/Лист1!T9/12)*1000 -> #DIV/0! | B3: =(Лист1!S9/Лист1!U9/12)*1000 -> #DIV/0! | C3: =((Лист1!BP9/Лист1!BR9)/12)*1000 -> #DIV/0! | D3: =((Лист1!BQ9/Лист1!BS9)/12)*1000 -> #DIV/0!
A4: =(Лист1!R10/Лист1!T10/12)*1000 -> #DIV/0! | B4: =(Лист1!S10/Лист1!U10/12)*1000 -> #DIV/0! | C4: =((Лист1!BP10/Лист1!BR10)/12)*1000 -> #DIV/0! | D4: =((Лист1!BQ10/Лист1!BS10)/12)*1000 -> #DIV/0!
A5: =(Лист1!R11/Лист1!T11/12)*1000 -> #DIV/0! | B5: =(Лист1!S11/Лист1!U11/12)*1000 -> #DIV/0! | C5: =((Лист1!BP11/Лист1!BR11)/12)*1000 -> #DIV/0! | D5: =((Лист1!BQ11/Лист1!BS11)/12)*1000 -> #DIV/0!
A6: =(Лист1!R12/Лист1!T12/12)*1000 -> #DIV/0! | B6: =(Лист1!S12/Лист1!U12/12)*1000 -> #DIV/0! | C6: =((Лист1!BP12/Лист1!BR12)/12)*1000 -> #DIV/0! | D6: =((Лист1!BQ12/Лист1!BS12)/12)*1000 -> #DIV/0!
A7: =(Лист1!R13/Лист1!T13/12)*1000 -> #DIV/0! | B7: =(Лист1!S13/Лист1!U13/12)*1000 -> #DIV/0! | C7: =((Лист1!BP13/Лист1!BR13)/12)*1000 -> #DIV/0! | D7: =((Лист1!BQ13/Лист1!BS13)/12)*1000 -> #DIV/0!
A8: =(Лист1!R14/Лист1!T14/12)*1000 -> #DIV/0! | B8: =(Лист1!S14/Лист1!U14/12)*1000 -> #DIV/0! | C8: =((Лист1!BP14/Лист1!BR14)/12)*1000 -> #DIV/0! | D8: =((Лист1!BQ14/Лист1!BS14)/12)*1000 -> #DIV/0!
A9: =(Лист1!R15/Лист1!T15/12)*1000 -> #DIV/0! | B9: =(Лист1!S15/Лист1!U15/12)*1000 -> #DIV/0! | C9: =((Лист1!BP15/Лист1!BR15)/12)*1000 -> #DIV/0! | D9: =((Лист1!BQ15/Лист1!BS15)/12)*1000 -> #DIV/0!
A10: =(Лист1!R16/Лист1!T16/12)*1000 -> #DIV/0! | B10: =(Лист1!S16/Лист1!U16/12)*1000 -> #DIV/0! | C10: =((Лист1!BP16/Лист1!BR16)/12)*1000 -> #DIV/0! | D10: =((Лист1!BQ16/Лист1!BS16)/12)*1000 -> #DIV/0!
A11: =(Лист1!R17/Лист1!T17/12)*1000 -> #DIV/0! | B11: =(Лист1!S17/Лист1!U17/12)*1000 -> #DIV/0! | C11: =((Лист1!BP17/Лист1!BR17)/12)*1000 -> #DIV/0! | D11: =((Лист1!BQ17/Лист1!BS17)/12)*1000 -> #DIV/0!
A12: =(Лист1!R18/Лист1!T18/12)*1000 -> #DIV/0! | B12: =(Лист1!S18/Лист1!U18/12)*1000 -> #DIV/0! | C12: =((Лист1!BP18/Лист1!BR18)/12)*1000 -> #DIV/0! | D12: =((Лист1!BQ18/Лист1!BS18)/12)*1000 -> #DIV/0!
... A2500: =(Лист1!R2506/Лист1!T2506/12)*1000 -> #DIV/0! | B2500: =(Лист1!S2506/Лист1!U2506/12)*1000 -> #DIV/0! | C2500: =((Лист1!BP2506/Лист1!BR2506)/12)*1000 -> #DIV/0! | D2500: =((Лист1!BQ2506/Лист1!BS2506)/12)*1000 -> #DIV/0!

Sheet Лист3
G1: I. Общее образование
G2: 1. Сведения о развитии дошкольного образования | AB2: 2. Сведения о развитии начального общего образования, основного общего образования и среднего общего образования
G3: 1.1 | J3: 1.2 | K3: 1.3 | M3: 1.4 | T3: 1.5 | V3: 1.6 | W3: 1.7 | X3: 1.8 | Z3: 1.9 | AB3: 2.1 | AE3: 2.2 | AG3: 2.3 | AK3: 2.4 | AR3: 2.5 | AT3: 2.6 | BC3: 2.7 | BG3: 2.8 | BH3: 2.9 | BJ3: 2.10
G4: 1.1.1 | H4: 1.1.2 | I4: 1.1.3 | J4: 1.2.1 | K4: 1.3.1 | L4: 1.3.2 | M4: 1.4.1 | N4: 1.4.2 | Q4: 1.4.3 | R4: 1.4.4 | S4: 1.4.5 | T4: 1.5.1 | U4: 1.5.2 | V4: 1.6.1 | W4: 1.7.1 | X4: 1.8.1 | Y4: 1.8.2 | Z4: 1.9.1 | AA4: 1.9.2 | AB4: 2.1.1 | AC4: 2.1.2 | AD4: 2.1.3 | AE4: 2.2.1 | AF4: 2.2.2 | AG4: 2.3.1 | AH4: 2.3.2 | AI4: 2.3.3 | AK4: 2.4.1 | AL4: 2.4.2 | AO4: 2.4.3 | AQ4: 2.4.4 | AR4: 2.5.1 | AS4: 2.5.2 | AT4: 2.6.1 | AU4: 2.6.2 | AW4: 2.6.3 | AY4: 2.6.4 | BA4: 2.6.5 | BC4: 2.7.1 | BD4: 2.7.2 | BE4: 2.7.3 | BF4: 2.7.4 | BG4: 2.8.1 | BH4: 2.9.1 | BI4: 2.9.2 | BJ4: 2.10.1 | BK4: 2.10.2 | BL4: 2.10.3 | BM4: 2.10.4 | BN4: 2.10.5 | BO4: 2.10.6 | BP4: 2.10.7
G5: Доступность дошкольного образования (отношение численности детей в возрасте от 3 до 7 лет, получивших дошкольное образование в текущем году, к сумме численности детей в возрасте от 3 до 7 лет, получающих дошкольное образование в текущем году и численности детей в возрасте от 3 до 7 лет, находящихся в очереди на получение в текущем году дошкольного образования) | H5: Охват детей дошкольными образовательными организациями (отношение численности детей, посещающих дошкольные образовательные организации, к численности детей в возрасте от 2 месяцев до 7 лет включительно, скорректированной на численность детей соответствующих возрастов, обучающихся в общеобразовательных организациях) | I5: Удельный вес численности воспитанников частных дошкольных образовательных организаций в общей численности воспитанников дошкольных образовательных организаций | J5: Удельный вес численности детей, обучающихся в группах кратковременного пребывания, в общей численности воспитанников дошкольных образовательных организаций | K5: Численность воспитанников организаций дошкольного образования в расчете на 1 педагогического работника | L5: Отношение среднемесячной заработной платы педагогических работников дошкольных образовательных организаций к среднемесячной заработной плате в сфере общего образования в субъекте Российской Федерации (по государственным и муниципальным образовательным организациям) | M5: Площадь помещений, используемых непосредственно для нужд дошкольных образовательных организаций, в расчете на одного воспитанника | N5: Удельный вес числа организаций, имеющих водоснабжение, центральное отопление, канализацию, в общем числе дошкольных образовательных организаций: | Q5: Удельный вес числа организаций, имеющих физкультурные залы, в общем числе дошкольных образовательных организаций | R5: Удельный вес числа организаций, имеющих закрытые плавательные бассейны, в общем числе дошкольных образовательных организаций | S5: Число персональных компьютеров, доступных для использования детьми, в расчете на 100 воспитанников дошкольных образовательных организаций | T5: Удельный вес численности детей с ограниченными возможностями здоровья в общей численности воспитанников дошкольных образовательных организаций | U5: Удельный вес численности детей-инвалидов в общей численности воспитанников дошкольных образовательных организаций | V5: Пропущено дней по болезни одним ребенком в дошкольной образовательной организации в год | W5: Темп роста числа дошкольных образовательных организаций | X5: Общий объем финансовых средств, поступивших в дошкольные образовательные организации, в расчете на одного воспитанника | Y5: Удельный вес финансовых средств от приносящей доход деятельности в общем объеме финансовых средств дошкольных образовательных организаций | Z5: Удельный вес числа организаций, здания которых находятся в аварийном состоянии, в общем числе дошкольных образовательных организаций | AA5: Удельный вес числа организаций, здания которых требуют капитального ремонта, в общем числе дошкольных образовательных организаций | AB5: Охват детей начальным общим, основным общим и средним общим образованием (отношение численности учащихся, осваивающих образовательные программы начального общего, основного общего или среднего общего образования, к численности детей в возрасте 7-17 лет) | AC5: Удельный вес численности учащихся общеобразовательных организаций, обучающихся в соответствии с федеральным государственным образовательным стандартом, в общей численности учащихся общеобразовательных организаций | AD5: Оценка родителями учащихся общеобразовательных организаций возможности выбора общеобразовательной организации (оценка удельного веса численности родителей учащихся, отдавших своих детей в конкретную школу по причине отсутствия других вариантов для выбора, в общей численности родителей учащихся общеобразовательных организаций) | AE5: Удельный вес численности лиц, занимающихся во вторую и третью смены, в общей численности учащихся общеобразовательных организаций | AF5: Удельный вес численности лиц, углубленно изучающих отдельные предметы, в общей численности учащихся общеобразовательных организаций | AG5: Численность учащихся в общеобразовательных организациях в расчете на 1 педагогического работника | AH5: Удельный вес численности учителей в возрасте до 35 лет в общей численности учителей общеобразовательных организаций | AI5: Отношение среднемесячной заработной платы педагогических работников государственных и муниципальных общеобразовательных организаций к среднемесячной заработной плате в субъекте Российской Федерации: педагогических работников - всего; из них учителей | AK5: Общая площадь всех помещений общеобразовательных организаций в расчете на одного учащегося | AL5: Удельный вес числа организаций, имеющих водопровод, центральное отопление, канализацию, в общем числе общеобразовательных организаций: | AO5: Число персональных компьютеров, используемых в учебных целях, в расчете на 100 учащихся общеобразовательных организаций | AQ5: Удельный вес числа общеобразовательных организаций, имеющих скорость подключения к сети Интернет от 1 Мбит/с и выше, в общем числе общеобразовательных организаций, подключенных к сети Интернет | AR5: Удельный вес численности детей с ограниченными возможностями здоровья, обучающихся в классах, не являющихся специальными (коррекционными), общеобразовательных организаций, в общей численности детей с ограниченными возможностями здоровья, обучающихся в общеобразовательных организациях | AS5: Удельный вес численности детей-инвалидов, обучающихся в классах, не являющихся специальными (коррекционными), общеобразовательных организаций, в общей численности детей-инвалидов, обучающихся в общеобразовательных организациях | AT5: Отношение среднего балла единого государственного экзамена (далее - ЕГЭ) (в расчете на 1 предмет) в 10% общеобразовательных организаций с лучшими результатами ЕГЭ к среднему баллу ЕГЭ (в расчете на 1 предмет) в 10% общеобразовательных организаций с худшими результатами ЕГЭ | AU5: Среднее значение количества баллов по ЕГЭ, полученных выпускниками, освоившими образовательные программы среднего общего образования | AW5: Среднее значение количества баллов по государственной итоговой аттестации (далее - ГИА), полученных выпускниками, освоившими образовательные программы основного общего образования | AY5: Удельный вес численности выпускников, освоивших образовательные программы среднего общего образования, получивших количество баллов по ЕГЭ ниже минимального, в общей численности выпускников, освоивших образовательные программы среднего общего образования, сдававших ЕГЭ | BA5: Удельный вес численности выпускников, освоивших образовательные программы основного общего образования, получивших количество баллов по ГИА ниже минимального, в общей численности выпускников, освоивших образовательные программы основного общего образования, сдававших ГИА | BC5: Удельный вес лиц, обеспеченных горячим питанием, в общей численности обучающихся общеобразовательных организаций | BD5: Удельный вес числа организаций, имеющих логопедический пункт или логопедический кабинет, в общем числе общеобразовательных организаций | BE5: Удельный вес числа организаций, имеющих физкультурные залы, в общем числе общеобразовательных организаций | BF5: Удельный вес числа организаций, имеющих плавательные бассейны, в общем числе общеобразовательных организаций | BG5: Темп роста числа общеобразовательных организаций | BH5: Общий объем финансовых средств, поступивших в общеобразовательные организации, в расчете на одного учащегося | BI5: Удельный вес финансовых средств от приносящей доход деятельности в общем объеме финансовых средств общеобразовательных организаций | BJ5: Удельный вес числа организаций, имеющих пожарные краны и рукава, в общем числе общеобразовательных организаций | BK5: Удельный вес числа организаций, имеющих дымовые извещатели, в общем числе общеобразовательных организаций | BL5: Удельный вес числа организаций, имеющих "тревожную кнопку", в общем числе общеобразовательных организаций | BM5: Удельный вес числа организаций, имеющих охрану, в общем числе общеобразовательных организаций | BN5: Удельный вес числа организаций, имеющих систему видеонаблюдения, в общем числе общеобразовательных организаций | BO5: Удельный вес числа организаций, здания которых находятся в аварийном состоянии, в общем числе общеобразовательных организаций | BP5: Удельный вес числа организаций, здания которых требуют капитального ремонта, в общем числе общеобразовательных организаций
A6: =Лист1!A6 -> Муниципальный район | B6: =Лист1!B6 -> Наименование ОО по уставу | C6: =Лист1!C6 -> Адрес | D6: =Лист1!D6 -> E-mail | E6: =Лист1!E6 -> Ответственный координатор | F6: =Лист1!F6 -> Контактный телефон | N6: водоснабжение | O6: центральное отопление | P6: канализацию | AI6: всего | AJ6: из них учителей | AL6: водопровод | AM6: центральное отопление | AN6: канализацию | AO6: всего | AP6: с Интернетом | AU6: русский язык | AV6: математика | AW6: русский язык | AX6: математика | AY6: русский язык | AZ6: математика | BA6: русский язык | BB6: математика
A7: =IF(Лист1!A7<>"",Лист1!A7,"") -> Кочкуровский муниципальный район | B7: =IF(Лист1!B7<>"",Лист1!B7,"") -> МКУ "Центр информационно-методического и технического обеспечения муниципальных учреждений" Кочкуровского муниципального района | C7: =IF(Лист1!C7<>"",Лист1!C7,"") -> 431580, Кочкуровский район, село Кочкурово, улица Советская, д.16 | D7: =IF(Лист1!D7<>"",Лист1!D7,"") -> metod239@mail.ru | E7: =IF(Лист1!E7<>"",Лист1!E7,"") -> Червякова Татьяна Ивановна | F7: =IF(Лист1!F7<>"",Лист1!F7,"") -> 8 (83439)21233 | G7: =(Лист1!G7/(Лист1!G7+Лист1!H7))*100 -> 91.509434 | H7: =(Лист1!I7/(Лист1!J7-Лист1!K7))*100 -> 52.777778 | I7: =(Лист1!L7/Лист1!M7)*100 -> 0 | J7: =(Лист1!N7/Лист1!O7)*100 -> 6.0728745 | K7: =Лист1!P7/Лист1!Q7 -> 7.2647059 | L7: =(Лист2!A1/Лист2!B1)*100 -> 75.848771 | M7: =Лист1!V7/Лист1!W7 -> 23.242915 | N7: =(Лист1!X7/Лист1!$AA7)*100 -> 100 | O7: =(Лист1!Y7/Лист1!$AA7)*100 -> 100 | P7: =(Лист1!Z7/Лист1!$AA7)*100 -> 100 | Q7: =(Лист1!AB7/Лист1!AC7)*100 -> 100 | R7: =(Лист1!AD7/Лист1!AE7)*100 -> 33.333333 | S7: =(Лист1!AF7/Лист1!AG7)*100 -> 8.2474227 | T7: =(Лист1!AH7/Лист1!AI7)*100 -> 0.8097166 | U7: =(Лист1!AJ7/Лист1!AK7)*100 -> 0.8097166 | V7: =Лист1!AL7/Лист1!AM7 -> 10.485106 | W7: =(Лист1!AN7/Лист1!AO7)*100 -> 100 | X7: =Лист1!AP7/Лист1!AQ7 -> 112.07277 | Y7: =(Лист1!AR7/Лист1!AS7)*100 -> 0 | Z7: =(Лист1!AT7/Лист1!AU7)*100 -> 0 | AA7: =(Лист1!AV7/Лист1!AW7)*100 -> 0 | AB7: =((Лист1!AX7+Лист1!AY7+Лист1!AZ7+Лист1!BA7)/Лист1!BB7)*100 -> 66.787004 | AC7: =(Лист1!BC7/Лист1!BD7)*100 -> 44.864865 | AD7: =(Лист1!BE7/Лист1!BF7)*100 -> #DIV/0! | AE7: =(Лист1!BG7+Лист1!BH7)/Лист1!BI7*100 -> 0 | AF7: =Лист1!BJ7/Лист1!BK7*100 -> 0 | AG7: =Лист1!BL7/Лист1!BM7 -> 5.1869159 | AH7: =(Лист1!BN7/Лист1!BO7)*100 -> 11.650485 | AI7: =(Лист2!C1/Лист1!$BT7)*100 -> 101.77564 | AJ7: =(Лист2!D1/Лист1!$BT7)*100 -> 87.848818 | AK7: =(Лист1!BU7+Лист1!BV7)/((Лист1!BW7-Лист1!BX7-Лист1!BY7)+(Лист1!BZ7+0.1*Лист1!CA7)) -> 62.100402 | AL7: =(Лист1!CD7+Лист1!CG7)/(Лист1!CH7+Лист1!CI7)*100 -> 100 | AM7: =(Лист1!CC7+Лист1!CF7)/(Лист1!CH7+Лист1!CI7)*100 -> 100 | AN7: =(Лист1!CB7+Лист1!CE7)/(Лист1!CH7+Лист1!CI7)*100 -> 100 | AO7: =(Лист1!CJ7+Лист1!CL7)/(Лист1!CN7+Лист1!CO7)*100 -> 23.293173 | AP7: =(Лист1!CK7+Лист1!CM7)/(Лист1!CN7+Лист1!CO7)*100 -> 13.654618 | AQ7: =(Лист1!CP7+Лист1!CQ7)/(Лист1!CR7+Лист1!CS7)*100 -> 0 | AR7: =(Лист1!CT7/Лист1!CU7)*100 -> 100 | AS7: =(Лист1!CV7/Лист1!CW7)*100 -> 100 | AT7: =Лист1!CX7/Лист1!CY7 -> #DIV/0! | AU7: =Лист1!CZ7 -> 54 | AV7: =Лист1!DA7 -> 30 | AW7: =Лист1!DB7 -> 4 | AX7: =Лист1!DC7 -> 4 | AY7: =Лист1!DD7 -> 8.3 | AZ7: =Лист1!DE7 -> 12.5 | BA7: =Лист1!DF7 -> 0 | BB7: =Лист1!DG7 -> 0 | BC7: =(Лист1!DH7+Лист1!DI7)/(Лист1!DJ7+Лист1!DK7)*100 -> 96.576577 | BD7: =(Лист1!DL7/Лист1!DM7)*100 -> 14.285714 | BE7: =(Лист1!DN7+Лист1!DO7)/(Лист1!DP7+Лист1!DQ7)*100 -> 100 | BF7: =(Лист1!DR7+Лист1!DS7)/(Лист1!DT7+Лист1!DU7)*100 -> 0 | BG7: =((Лист1!DV7+Лист1!DW7)/(Лист1!DX7+Лист1!DY7))*100 -> 100 | BH7: =(Лист1!DZ7+Лист1!EA7)/(Лист1!EB7+Лист1!EC7) -> 121.0729 | BI7: =(Лист1!ED7+Лист1!EE7)/(Лист1!EF7+Лист1!EG7)*100 -> 100 | BJ7: =(Лист1!EH7+Лист1!EI7)/(Лист1!EJ7+Лист1!EK7)*100 -> 28.571429 | BK7: =(Лист1!EL7+Лист1!EM7)/(Лист1!EN7+Лист1!EO7)*100 -> 100 | BL7: =(Лист1!EP7+Лист1!EQ7)/(Лист1!ER7+Лист1!ES7)*100 -> 100 | BM7: =(Лист1!ET7+Лист1!EU7)/(Лист1!EV7+Лист1!EW7)*100 -> 100 | BN7: =(Лист1!EX7+Лист1!EY7)/(Лист1!EZ7+Лист1!FA7)*100 -> 71.428571 | BO7: =(Лист1!FB7+Лист1!FC7)/(Лист1!FD7+Лист1!FE7)*100 -> 0 | BP7: =(Лист1!FF7+Лист1!FG7)/(Лист1!FH7+Лист1!FI7)*100 -> 28.571429
A8: =IF(Лист1!A8<>"",Лист1!A8,"") | B8: =IF(Лист1!B8<>"",Лист1!B8,"") | C8: =IF(Лист1!C8<>"",Лист1!C8,"") | D8: =IF(Лист1!D8<>"",Лист1!D8,"") | E8: =IF(Лист1!E8<>"",Лист1!E8,"") | F8: =IF(Лист1!F8<>"",Лист1!F8,"") | G8: =(Лист1!G8/(Лист1!G8+Лист1!H8))*100 -> #DIV/0! | H8: =(Лист1!I8/(Лист1!J8-Лист1!K8))*100 -> #DIV/0! | I8: =(Лист1!L8/Лист1!M8)*100 -> #DIV/0! | J8: =(Лист1!N8/Лист1!O8)*100 -> #DIV/0! | K8: =Лист1!P8/Лист1!Q8 -> #DIV/0! | L8: =(Лист2!A2/Лист2!B2)*100 -> #DIV/0! | M8: =Лист1!V8/Лист1!W8 -> #DIV/0! | N8: =(Лист1!X8/Лист1!$AA8)*100 -> #DIV/0! | O8: =(Лист1!Y8/Лист1!$AA8)*100 -> #DIV/0! | P8: =(Лист1!Z8/Лист1!$AA8)*100 -> #DIV/0! | Q8: =(Лист1!AB8/Лист1!AC8)*100 -> #DIV/0! | R8: =(Лист1!AD8/Лист1!AE8)*100 -> #DIV/0! | S8: =(Лист1!AF8/Лист1!AG8)*100 -> #DIV/0! | T8: =(Лист1!AH8/Лист1!AI8)*100 -> #DIV/0! | U8: =(Лист1!AJ8/Лист1!AK8)*100 -> #DIV/0! | V8: =Лист1!AL8/Лист1!AM8 -> #DIV/0! | W8: =(Лист1!AN8/Лист1!AO8)*100 -> #DIV/0! | X8: =Лист1!AP8/Лист1!AQ8 -> #DIV/0! | Y8: =(Лист1!AR8/Лист1!AS8)*100 -> #DIV/0! | Z8: =(Лист1!AT8/Лист1!AU8)*100 -> #DIV/0! | AA8: =(Лист1!AV8/Лист1!AW8)*100 -> #DIV/0! | AB8: =((Лист1!AX8+Лист1!AY8+Лист1!AZ8+Лист1!BA8)/Лист1!BB8)*100 -> #DIV/0! | AC8: =(Лист1!BC8/Лист1!BD8)*100 -> #DIV/0! | AD8: =(Лист1!BE8/Лист1!BF8)*100 -> #DIV/0! | AE8: =(Лист1!BG8+Лист1!BH8)/Лист1!BI8*100 -> #DIV/0! | AF8: =Лист1!BJ8/Лист1!BK8*100 -> #DIV/0! | AG8: =Лист1!BL8/Лист1!BM8 -> #DIV/0! | AH8: =(Лист1!BN8/Лист1!BO8)*100 -> #DIV/0! | AI8: =(Лист2!C2/Лист1!$BT8)*100 -> #DIV/0! | AJ8: =(Лист2!D2/Лист1!$BT8)*100 -> #DIV/0! | AK8: =(Лист1!BU8+Лист1!BV8)/((Лист1!BW8-Лист1!BX8-Лист1!BY8)+(Лист1!BZ8+0.1*Лист1!CA8)) -> #DIV/0! | AL8: =(Лист1!CD8+Лист1!CG8)/(Лист1!CH8+Лист1!CI8)*100 -> #DIV/0! | AM8: =(Лист1!CC8+Лист1!CF8)/(Лист1!CH8+Лист1!CI8)*100 -> #DIV/0! | AN8: =(Лист1!CB8+Лист1!CE8)/(Лист1!CH8+Лист1!CI8)*100 -> #DIV/0! | AO8: =(Лист1!CJ8+Лист1!CL8)/(Лист1!CN8+Лист1!CO8)*100 -> #DIV/0! | AP8: =(Лист1!CK8+Лист1!CM8)/(Лист1!CN8+Лист1!CO8)*100 -> #DIV/0! | AQ8: =(Лист1!CP8+Лист1!CQ8)/(Лист1!CR8+Лист1!CS8)*100 -> #DIV/0! | AR8: =(Лист1!CT8/Лист1!CU8)*100 -> #DIV/0! | AS8: =(Лист1!CV8/Лист1!CW8)*100 -> #DIV/0! | AT8: =Лист1!CX8/Лист1!CY8 -> #DIV/0! | AU8: =Лист1!CZ8 -> 0 | AV8: =Лист1!DA8 -> 0 | AW8: =Лист1!DB8 -> 0 | AX8: =Лист1!DC8 -> 0 | AY8: =Лист1!DD8 -> 0 | AZ8: =Лист1!DE8 -> 0 | BA8: =Лист1!DF8 -> 0 | BB8: =Лист1!DG8 -> 0 | BC8: =(Лист1!DH8+Лист1!DI8)/(Лист1!DJ8+Лист1!DK8)*100 -> #DIV/0! | BD8: =(Лист1!DL8/Лист1!DM8)*100 -> #DIV/0! | BE8: =(Лист1!DN8+Лист1!DO8)/(Лист1!DP8+Лист1!DQ8)*100 -> #DIV/0! | BF8: =(Лист1!DR8+Лист1!DS8)/(Лист1!DT8+Лист1!DU8)*100 -> #DIV/0! | BG8: =((Лист1!DV8+Лист1!DW8)/(Лист1!DX8+Лист1!DY8))*100 -> #DIV/0! | BH8: =(Лист1!DZ8+Лист1!EA8)/(Лист1!EB8+Лист1!EC8) -> #DIV/0! | BI8: =(Лист1!ED8+Лист1!EE8)/(Лист1!EF8+Лист1!EG8)*100 -> #DIV/0! | BJ8: =(Лист1!EH8+Лист1!EI8)/(Лист1!EJ8+Лист1!EK8)*100 -> #DIV/0! | BK8: =(Лист1!EL8+Лист1!EM8)/(Лист1!EN8+Лист1!EO8)*100 -> #DIV/0! | BL8: =(Лист1!EP8+Лист1!EQ8)/(Лист1!ER8+Лист1!ES8)*100 -> #DIV/0! | BM8: =(Лист1!ET8+Лист1!EU8)/(Лист1!EV8+Лист1!EW8)*100 -> #DIV/0! | BN8: =(Лист1!EX8+Лист1!EY8)/(Лист1!EZ8+Лист1!FA8)*100 -> #DIV/0! | BO8: =(Лист1!FB8+Лист1!FC8)/(Лист1!FD8+Лист1!FE8)*100 -> #DIV/0! | BP8: =(Лист1!FF8+Лист1!FG8)/(Лист1!FH8+Лист1!FI8)*100 -> #DIV/0!
A9: =IF(Лист1!A9<>"",Лист1!A9,"") | B9: =IF(Лист1!B9<>"",Лист1!B9,"") | C9: =IF(Лист1!C9<>"",Лист1!C9,"") | D9: =IF(Лист1!D9<>"",Лист1!D9,"") | E9: =IF(Лист1!E9<>"",Лист1!E9,"") | F9: =IF(Лист1!F9<>"",Лист1!F9,"") | G9: =(Лист1!G9/(Лист1!G9+Лист1!H9))*100 -> #DIV/0! | H9: =(Лист1!I9/(Лист1!J9-Лист1!K9))*100 -> #DIV/0! | I9: =(Лист1!L9/Лист1!M9)*100 -> #DIV/0! | J9: =(Лист1!N9/Лист1!O9)*100 -> #DIV/0! | K9: =Лист1!P9/Лист1!Q9 -> #DIV/0! | L9: =(Лист2!A3/Лист2!B3)*100 -> #DIV/0! | M9: =Лист1!V9/Лист1!W9 -> #DIV/0! | N9: =(Лист1!X9/Лист1!$AA9)*100 -> #DIV/0! | O9: =(Лист1!Y9/Лист1!$AA9)*100 -> #DIV/0! | P9: =(Лист1!Z9/Лист1!$AA9)*100 -> #DIV/0! | Q9: =(Лист1!AB9/Лист1!AC9)*100 -> #DIV/0! | R9: =(Лист1!AD9/Лист1!AE9)*100 -> #DIV/0! | S9: =(Лист1!AF9/Лист1!AG9)*100 -> #DIV/0! | T9: =(Лист1!AH9/Лист1!AI9)*100 -> #DIV/0! | U9: =(Лист1!AJ9/Лист1!AK9)*100 -> #DIV/0! | V9: =Лист1!AL9/Лист1!AM9 -> #DIV/0! | W9: =(Лист1!AN9/Лист1!AO9)*100 -> #DIV/0! | X9: =Лист1!AP9/Лист1!AQ9 -> #DIV/0! | Y9: =(Лист1!AR9/Лист1!AS9)*100 -> #DIV/0! | Z9: =(Лист1!AT9/Лист1!AU9)*100 -> #DIV/0! | AA9: =(Лист1!AV9/Лист1!AW9)*100 -> #DIV/0! | AB9: =((Лист1!AX9+Лист1!AY9+Лист1!AZ9+Лист1!BA9)/Лист1!BB9)*100 -> #DIV/0! | AC9: =(Лист1!BC9/Лист1!BD9)*100 -> #DIV/0! | AD9: =(Лист1!BE9/Лист1!BF9)*100 -> #DIV/0! | AE9: =(Лист1!BG9+Лист1!BH9)/Лист1!BI9*100 -> #DIV/0! | AF9: =Лист1!BJ9/Лист1!BK9*100 -> #DIV/0! | AG9: =Лист1!BL9/Лист1!BM9 -> #DIV/0! | AH9: =(Лист1!BN9/Лист1!BO9)*100 -> #DIV/0! | AI9: =(Лист2!C3/Лист1!$BT9)*100 -> #DIV/0! | AJ9: =(Лист2!D3/Лист1!$BT9)*100 -> #DIV/0! | AK9: =(Лист1!BU9+Лист1!BV9)/((Лист1!BW9-Лист1!BX9-Лист1!BY9)+(Лист1!BZ9+0.1*Лист1!CA9)) -> #DIV/0! | AL9: =(Лист1!CD9+Лист1!CG9)/(Лист1!CH9+Лист1!CI9)*100 -> #DIV/0! | AM9: =(Лист1!CC9+Лист1!CF9)/(Лист1!CH9+Лист1!CI9)*100 -> #DIV/0! | AN9: =(Лист1!CB9+Лист1!CE9)/(Лист1!CH9+Лист1!CI9)*100 -> #DIV/0! | AO9: =(Лист1!CJ9+Лист1!CL9)/(Лист1!CN9+Лист1!CO9)*100 -> #DIV/0! | AP9: =(Лист1!CK9+Лист1!CM9)/(Лист1!CN9+Лист1!CO9)*100 -> #DIV/0! | AQ9: =(Лист1!CP9+Лист1!CQ9)/(Лист1!CR9+Лист1!CS9)*100 -> #DIV/0! | AR9: =(Лист1!CT9/Лист1!CU9)*100 -> #DIV/0! | AS9: =(Лист1!CV9/Лист1!CW9)*100 -> #DIV/0! | AT9: =Лист1!CX9/Лист1!CY9 -> #DIV/0! | AU9: =Лист1!CZ9 -> 0 | AV9: =Лист1!DA9 -> 0 | AW9: =Лист1!DB9 -> 0 | AX9: =Лист1!DC9 -> 0 | AY9: =Лист1!DD9 -> 0 | AZ9: =Лист1!DE9 -> 0 | BA9: =Лист1!DF9 -> 0 | BB9: =Лист1!DG9 -> 0 | BC9: =(Лист1!DH9+Лист1!DI9)/(Лист1!DJ9+Лист1!DK9)*100 -> #DIV/0! | BD9: =(Лист1!DL9/Лист1!DM9)*100 -> #DIV/0! | BE9: =(Лист1!DN9+Лист1!DO9)/(Лист1!DP9+Лист1!DQ9)*100 -> #DIV/0! | BF9: =(Лист1!DR9+Лист1!DS9)/(Лист1!DT9+Лист1!DU9)*100 -> #DIV/0! | BG9: =((Лист1!DV9+Лист1!DW9)/(Лист1!DX9+Лист1!DY9))*100 -> #DIV/0! | BH9: =(Лист1!DZ9+Лист1!EA9)/(Лист1!EB9+Лист1!EC9) -> #DIV/0! | BI9: =(Лист1!ED9+Лист1!EE9)/(Лист1!EF9+Лист1!EG9)*100 -> #DIV/0! | BJ9: =(Лист1!EH9+Лист1!EI9)/(Лист1!EJ9+Лист1!EK9)*100 -> #DIV/0! | BK9: =(Лист1!EL9+Лист1!EM9)/(Лист1!EN9+Лист1!EO9)*100 -> #DIV/0! | BL9: =(Лист1!EP9+Лист1!EQ9)/(Лист1!ER9+Лист1!ES9)*100 -> #DIV/0! | BM9: =(Лист1!ET9+Лист1!EU9)/(Лист1!EV9+Лист1!EW9)*100 -> #DIV/0! | BN9: =(Лист1!EX9+Лист1!EY9)/(Лист1!EZ9+Лист1!FA9)*100 -> #DIV/0! | BO9: =(Лист1!FB9+Лист1!FC9)/(Лист1!FD9+Лист1!FE9)*100 -> #DIV/0! | BP9: =(Лист1!FF9+Лист1!FG9)/(Лист1!FH9+Лист1!FI9)*100 -> #DIV/0!
A10: =IF(Лист1!A10<>"",Лист1!A10,"") | B10: =IF(Лист1!B10<>"",Лист1!B10,"") | C10: =IF(Лист1!C10<>"",Лист1!C10,"") | D10: =IF(Лист1!D10<>"",Лист1!D10,"") | E10: =IF(Лист1!E10<>"",Лист1!E10,"") | F10: =IF(Лист1!F10<>"",Лист1!F10,"") | G10: =(Лист1!G10/(Лист1!G10+Лист1!H10))*100 -> #DIV/0! | H10: =(Лист1!I10/(Лист1!J10-Лист1!K10))*100 -> #DIV/0! | I10: =(Лист1!L10/Лист1!M10)*100 -> #DIV/0! | J10: =(Лист1!N10/Лист1!O10)*100 -> #DIV/0! | K10: =Лист1!P10/Лист1!Q10 -> #DIV/0! | L10: =(Лист2!A4/Лист2!B4)*100 -> #DIV/0! | M10: =Лист1!V10/Лист1!W10 -> #DIV/0! | N10: =(Лист1!X10/Лист1!$AA10)*100 -> #DIV/0! | O10: =(Лист1!Y10/Лист1!$AA10)*100 -> #DIV/0! | P10: =(Лист1!Z10/Лист1!$AA10)*100 -> #DIV/0! | Q10: =(Лист1!AB10/Лист1!AC10)*100 -> #DIV/0! | R10: =(Лист1!AD10/Лист1!AE10)*100 -> #DIV/0! | S10: =(Лист1!AF10/Лист1!AG10)*100 -> #DIV/0! | T10: =(Лист1!AH10/Лист1!AI10)*100 -> #DIV/0! | U10: =(Лист1!AJ10/Лист1!AK10)*100 -> #DIV/0! | V10: =Лист1!AL10/Лист1!AM10 -> #DIV/0! | W10: =(Лист1!AN10/Лист1!AO10)*100 -> #DIV/0! | X10: =Лист1!AP10/Лист1!AQ10 -> #DIV/0! | Y10: =(Лист1!AR10/Лист1!AS10)*100 -> #DIV/0! | Z10: =(Лист1!AT10/Лист1!AU10)*100 -> #DIV/0! | AA10: =(Лист1!AV10/Лист1!AW10)*100 -> #DIV/0! | AB10: =((Лист1!AX10+Лист1!AY10+Лист1!AZ10+Лист1!BA10)/Лист1!BB10)*100 -> #DIV/0! | AC10: =(Лист1!BC10/Лист1!BD10)*100 -> #DIV/0! | AD10: =(Лист1!BE10/Лист1!BF10)*100 -> #DIV/0! | AE10: =(Лист1!BG10+Лист1!BH10)/Лист1!BI10*100 -> #DIV/0! | AF10: =Лист1!BJ10/Лист1!BK10*100 -> #DIV/0! | AG10: =Лист1!BL10/Лист1!BM10 -> #DIV/0! | AH10: =(Лист1!BN10/Лист1!BO10)*100 -> #DIV/0! | AI10: =(Лист2!C4/Лист1!$BT10)*100 -> #DIV/0! | AJ10: =(Лист2!D4/Лист1!$BT10)*100 -> #DIV/0! | AK10: =(Лист1!BU10+Лист1!BV10)/((Лист1!BW10-Лист1!BX10-Лист1!BY10)+(Лист1!BZ10+0.1*Лист1!CA10)) -> #DIV/0! | AL10: =(Лист1!CD10+Лист1!CG10)/(Лист1!CH10+Лист1!CI10)*100 -> #DIV/0! | AM10: =(Лист1!CC10+Лист1!CF10)/(Лист1!CH10+Лист1!CI10)*100 -> #DIV/0! | AN10: =(Лист1!CB10+Лист1!CE10)/(Лист1!CH10+Лист1!CI10)*100 -> #DIV/0! | AO10: =(Лист1!CJ10+Лист1!CL10)/(Лист1!CN10+Лист1!CO10)*100 -> #DIV/0! | AP10: =(Лист1!CK10+Лист1!CM10)/(Лист1!CN10+Лист1!CO10)*100 -> #DIV/0! | AQ10: =(Лист1!CP10+Лист1!CQ10)/(Лист1!CR10+Лист1!CS10)*100 -> #DIV/0! | AR10: =(Лист1!CT10/Лист1!CU10)*100 -> #DIV/0! | AS10: =(Лист1!CV10/Лист1!CW10)*100 -> #DIV/0! | AT10: =Лист1!CX10/Лист1!CY10 -> #DIV/0! | AU10: =Лист1!CZ10 -> 0 | AV10: =Лист1!DA10 -> 0 | AW10: =Лист1!DB10 -> 0 | AX10: =Лист1!DC10 -> 0 | AY10: =Лист1!DD10 -> 0 | AZ10: =Лист1!DE10 -> 0 | BA10: =Лист1!DF10 -> 0 | BB10: =Лист1!DG10 -> 0 | BC10: =(Лист1!DH10+Лист1!DI10)/(Лист1!DJ10+Лист1!DK10)*100 -> #DIV/0! | BD10: =(Лист1!DL10/Лист1!DM10)*100 -> #DIV/0! | BE10: =(Лист1!DN10+Лист1!DO10)/(Лист1!DP10+Лист1!DQ10)*100 -> #DIV/0! | BF10: =(Лист1!DR10+Лист1!DS10)/(Лист1!DT10+Лист1!DU10)*100 -> #DIV/0! | BG10: =((Лист1!DV10+Лист1!DW10)/(Лист1!DX10+Лист1!DY10))*100 -> #DIV/0! | BH10: =(Лист1!DZ10+Лист1!EA10)/(Лист1!EB10+Лист1!EC10) -> #DIV/0! | BI10: =(Лист1!ED10+Лист1!EE10)/(Лист1!EF10+Лист1!EG10)*100 -> #DIV/0! | BJ10: =(Лист1!EH10+Лист1!EI10)/(Лист1!EJ10+Лист1!EK10)*100 -> #DIV/0! | BK10: =(Лист1!EL10+Лист1!EM10)/(Лист1!EN10+Лист1!EO10)*100 -> #DIV/0! | BL10: =(Лист1!EP10+Лист1!EQ10)/(Лист1!ER10+Лист1!ES10)*100 -> #DIV/0! | BM10: =(Лист1!ET10+Лист1!EU10)/(Лист1!EV10+Лист1!EW10)*100 -> #DIV/0! | BN10: =(Лист1!EX10+Лист1!EY10)/(Лист1!EZ10+Лист1!FA10)*100 -> #DIV/0! | BO10: =(Лист1!FB10+Лист1!FC10)/(Лист1!FD10+Лист1!FE10)*100 -> #DIV/0! | BP10: =(Лист1!FF10+Лист1!FG10)/(Лист1!FH10+Лист1!FI10)*100 -> #DIV/0!
A11: =IF(Лист1!A11<>"",Лист1!A11,"") | B11: =IF(Лист1!B11<>"",Лист1!B11,"") | C11: =IF(Лист1!C11<>"",Лист1!C11,"") | D11: =IF(Лист1!D11<>"",Лист1!D11,"") | E11: =IF(Лист1!E11<>"",Лист1!E11,"") | F11: =IF(Лист1!F11<>"",Лист1!F11,"") | G11: =(Лист1!G11/(Лист1!G11+Лист1!H11))*100 -> #DIV/0! | H11: =(Лист1!I11/(Лист1!J11-Лист1!K11))*100 -> #DIV/0! | I11: =(Лист1!L11/Лист1!M11)*100 -> #DIV/0! | J11: =(Лист1!N11/Лист1!O11)*100 -> #DIV/0! | K11: =Лист1!P11/Лист1!Q11 -> #DIV/0! | L11: =(Лист2!A5/Лист2!B5)*100 -> #DIV/0! | M11: =Лист1!V11/Лист1!W11 -> #DIV/0! | N11: =(Лист1!X11/Лист1!$AA11)*100 -> #DIV/0! | O11: =(Лист1!Y11/Лист1!$AA11)*100 -> #DIV/0! | P11: =(Лист1!Z11/Лист1!$AA11)*100 -> #DIV/0! | Q11: =(Лист1!AB11/Лист1!AC11)*100 -> #DIV/0! | R11: =(Лист1!AD11/Лист1!AE11)*100 -> #DIV/0! | S11: =(Лист1!AF11/Лист1!AG11)*100 -> #DIV/0! | T11: =(Лист1!AH11/Лист1!AI11)*100 -> #DIV/0! | U11: =(Лист1!AJ11/Лист1!AK11)*100 -> #DIV/0! | V11: =Лист1!AL11/Лист1!AM11 -> #DIV/0! | W11: =(Лист1!AN11/Лист1!AO11)*100 -> #DIV/0! | X11: =Лист1!AP11/Лист1!AQ11 -> #DIV/0! | Y11: =(Лист1!AR11/Лист1!AS11)*100 -> #DIV/0! | Z11: =(Лист1!AT11/Лист1!AU11)*100 -> #DIV/0! | AA11: =(Лист1!AV11/Лист1!AW11)*100 -> #DIV/0! | AB11: =((Лист1!AX11+Лист1!AY11+Лист1!AZ11+Лист1!BA11)/Лист1!BB11)*100 -> #DIV/0! | AC11: =(Лист1!BC11/Лист1!BD11)*100 -> #DIV/0! | AD11: =(Лист1!BE11/Лист1!BF11)*100 -> #DIV/0! | AE11: =(Лист1!BG11+Лист1!BH11)/Лист1!BI11*100 -> #DIV/0! | AF11: =Лист1!BJ11/Лист1!BK11*100 -> #DIV/0! | AG11: =Лист1!BL11/Лист1!BM11 -> #DIV/0! | AH11: =(Лист1!BN11/Лист1!BO11)*100 -> #DIV/0! | AI11: =(Лист2!C5/Лист1!$BT11)*100 -> #DIV/0! | AJ11: =(Лист2!D5/Лист1!$BT11)*100 -> #DIV/0! | AK11: =(Лист1!BU11+Лист1!BV11)/((Лист1!BW11-Лист1!BX11-Лист1!BY11)+(Лист1!BZ11+0.1*Лист1!CA11)) -> #DIV/0! | AL11: =(Лист1!CD11+Лист1!CG11)/(Лист1!CH11+Лист1!CI11)*100 -> #DIV/0! | AM11: =(Лист1!CC11+Лист1!CF11)/(Лист1!CH11+Лист1!CI11)*100 -> #DIV/0! | AN11: =(Лист1!CB11+Лист1!CE11)/(Лист1!CH11+Лист1!CI11)*100 -> #DIV/0! | AO11: =(Лист1!CJ11+Лист1!CL11)/(Лист1!CN11+Лист1!CO11)*100 -> #DIV/0! | AP11: =(Лист1!CK11+Лист1!CM11)/(Лист1!CN11+Лист1!CO11)*100 -> #DIV/0! | AQ11: =(Лист1!CP11+Лист1!CQ11)/(Лист1!CR11+Лист1!CS11)*100 -> #DIV/0! | AR11: =(Лист1!CT11/Лист1!CU11)*100 -> #DIV/0! | AS11: =(Лист1!CV11/Лист1!CW11)*100 -> #DIV/0! | AT11: =Лист1!CX11/Лист1!CY11 -> #DIV/0! | AU11: =Лист1!CZ11 -> 0 | AV11: =Лист1!DA11 -> 0 | AW11: =Лист1!DB11 -> 0 | AX11: =Лист1!DC11 -> 0 | AY11: =Лист1!DD11 -> 0 | AZ11: =Лист1!DE11 -> 0 | BA11: =Лист1!DF11 -> 0 | BB11: =Лист1!DG11 -> 0 | BC11: =(Лист1!DH11+Лист1!DI11)/(Лист1!DJ11+Лист1!DK11)*100 -> #DIV/0! | BD11: =(Лист1!DL11/Лист1!DM11)*100 -> #DIV/0! | BE11: =(Лист1!DN11+Лист1!DO11)/(Лист1!DP11+Лист1!DQ11)*100 -> #DIV/0! | BF11: =(Лист1!DR11+Лист1!DS11)/(Лист1!DT11+Лист1!DU11)*100 -> #DIV/0! | BG11: =((Лист1!DV11+Лист1!DW11)/(Лист1!DX11+Лист1!DY11))*100 -> #DIV/0! | BH11: =(Лист1!DZ11+Лист1!EA11)/(Лист1!EB11+Лист1!EC11) -> #DIV/0! | BI11: =(Лист1!ED11+Лист1!EE11)/(Лист1!EF11+Лист1!EG11)*100 -> #DIV/0! | BJ11: =(Лист1!EH11+Лист1!EI11)/(Лист1!EJ11+Лист1!EK11)*100 -> #DIV/0! | BK11: =(Лист1!EL11+Лист1!EM11)/(Лист1!EN11+Лист1!EO11)*100 -> #DIV/0! | BL11: =(Лист1!EP11+Лист1!EQ11)/(Лист1!ER11+Лист1!ES11)*100 -> #DIV/0! | BM11: =(Лист1!ET11+Лист1!EU11)/(Лист1!EV11+Лист1!EW11)*100 -> #DIV/0! | BN11: =(Лист1!EX11+Лист1!EY11)/(Лист1!EZ11+Лист1!FA11)*100 -> #DIV/0! | BO11: =(Лист1!FB11+Лист1!FC11)/(Лист1!FD11+Лист1!FE11)*100 -> #DIV/0! | BP11: =(Лист1!FF11+Лист1!FG11)/(Лист1!FH11+Лист1!FI11)*100 -> #DIV/0!
A12: =IF(Лист1!A12<>"",Лист1!A12,"") | B12: =IF(Лист1!B12<>"",Лист1!B12,"") | C12: =IF(Лист1!C12<>"",Лист1!C12,"") | D12: =IF(Лист1!D12<>"",Лист1!D12,"") | E12: =IF(Лист1!E12<>"",Лист1!E12,"") | F12: =IF(Лист1!F12<>"",Лист1!F12,"") | G12: =(Лист1!G12/(Лист1!G12+Лист1!H12))*100 -> #DIV/0! | H12: =(Лист1!I12/(Лист1!J12-Лист1!K12))*100 -> #DIV/0! | I12: =(Лист1!L12/Лист1!M12)*100 -> #DIV/0! | J12: =(Лист1!N12/Лист1!O12)*100 -> #DIV/0! | K12: =Лист1!P12/Лист1!Q12 -> #DIV/0! | L12: =(Лист2!A6/Лист2!B6)*100 -> #DIV/0! | M12: =Лист1!V12/Лист1!W12 -> #DIV/0! | N12: =(Лист1!X12/Лист1!$AA12)*100 -> #DIV/0! | O12: =(Лист1!Y12/Лист1!$AA12)*100 -> #DIV/0! | P12: =(Лист1!Z12/Лист1!$AA12)*100 -> #DIV/0! | Q12: =(Лист1!AB12/Лист1!AC12)*100 -> #DIV/0! | R12: =(Лист1!AD12/Лист1!AE12)*100 -> #DIV/0! | S12: =(Лист1!AF12/Лист1!AG12)*100 -> #DIV/0! | T12: =(Лист1!AH12/Лист1!AI12)*100 -> #DIV/0! | U12: =(Лист1!AJ12/Лист1!AK12)*100 -> #DIV/0! | V12: =Лист1!AL12/Лист1!AM12 -> #DIV/0! | W12: =(Лист1!AN12/Лист1!AO12)*100 -> #DIV/0! | X12: =Лист1!AP12/Лист1!AQ12 -> #DIV/0! | Y12: =(Лист1!AR12/Лист1!AS12)*100 -> #DIV/0! | Z12: =(Лист1!AT12/Лист1!AU12)*100 -> #DIV/0! | AA12: =(Лист1!AV12/Лист1!AW12)*100 -> #DIV/0! | AB12: =((Лист1!AX12+Лист1!AY12+Лист1!AZ12+Лист1!BA12)/Лист1!BB12)*100 -> #DIV/0! | AC12: =(Лист1!BC12/Лист1!BD12)*100 -> #DIV/0! | AD12: =(Лист1!BE12/Лист1!BF12)*100 -> #DIV/0! | AE12: =(Лист1!BG12+Лист1!BH12)/Лист1!BI12*100 -> #DIV/0! | AF12: =Лист1!BJ12/Лист1!BK12*100 -> #DIV/0! | AG12: =Лист1!BL12/Лист1!BM12 -> #DIV/0! | AH12: =(Лист1!BN12/Лист1!BO12)*100 -> #DIV/0! | AI12: =(Лист2!C6/Лист1!$BT12)*100 -> #DIV/0! | AJ12: =(Лист2!D6/Лист1!$BT12)*100 -> #DIV/0! | AK12: =(Лист1!BU12+Лист1!BV12)/((Лист1!BW12-Лист1!BX12-Лист1!BY12)+(Лист1!BZ12+0.1*Лист1!CA12)) -> #DIV/0! | AL12: =(Лист1!CD12+Лист1!CG12)/(Лист1!CH12+Лист1!CI12)*100 -> #DIV/0! | AM12: =(Лист1!CC12+Лист1!CF12)/(Лист1!CH12+Лист1!CI12)*100 -> #DIV/0! | AN12: =(Лист1!CB12+Лист1!CE12)/(Лист1!CH12+Лист1!CI12)*100 -> #DIV/0! | AO12: =(Лист1!CJ12+Лист1!CL12)/(Лист1!CN12+Лист1!CO12)*100 -> #DIV/0! | AP12: =(Лист1!CK12+Лист1!CM12)/(Лист1!CN12+Лист1!CO12)*100 -> #DIV/0! | AQ12: =(Лист1!CP12+Лист1!CQ12)/(Лист1!CR12+Лист1!CS12)*100 -> #DIV/0! | AR12: =(Лист1!CT12/Лист1!CU12)*100 -> #DIV/0! | AS12: =(Лист1!CV12/Лист1!CW12)*100 -> #DIV/0! | AT12: =Лист1!CX12/Лист1!CY12 -> #DIV/0! | AU12: =Лист1!CZ12 -> 0 | AV12: =Лист1!DA12 -> 0 | AW12: =Лист1!DB12 -> 0 | AX12: =Лист1!DC12 -> 0 | AY12: =Лист1!DD12 -> 0 | AZ12: =Лист1!DE12 -> 0 | BA12: =Лист1!DF12 -> 0 | BB12: =Лист1!DG12 -> 0 | BC12: =(Лист1!DH12+Лист1!DI12)/(Лист1!DJ12+Лист1!DK12)*100 -> #DIV/0! | BD12: =(Лист1!DL12/Лист1!DM12)*100 -> #DIV/0! | BE12: =(Лист1!DN12+Лист1!DO12)/(Лист1!DP12+Лист1!DQ12)*100 -> #DIV/0! | BF12: =(Лист1!DR12+Лист1!DS12)/(Лист1!DT12+Лист1!DU12)*100 -> #DIV/0! | BG12: =((Лист1!DV12+Лист1!DW12)/(Лист1!DX12+Лист1!DY12))*100 -> #DIV/0! | BH12: =(Лист1!DZ12+Лист1!EA12)/(Лист1!EB12+Лист1!EC12) -> #DIV/0! | BI12: =(Лист1!ED12+Лист1!EE12)/(Лист1!EF12+Лист1!EG12)*100 -> #DIV/0! | BJ12: =(Лист1!EH12+Лист1!EI12)/(Лист1!EJ12+Лист1!EK12)*100 -> #DIV/0! | BK12: =(Лист1!EL12+Лист1!EM12)/(Лист1!EN12+Лист1!EO12)*100 -> #DIV/0! | BL12: =(Лист1!EP12+Лист1!EQ12)/(Лист1!ER12+Лист1!ES12)*100 -> #DIV/0! | BM12: =(Лист1!ET12+Лист1!EU12)/(Лист1!EV12+Лист1!EW12)*100 -> #DIV/0! | BN12: =(Лист1!EX12+Лист1!EY12)/(Лист1!EZ12+Лист1!FA12)*100 -> #DIV/0! | BO12: =(Лист1!FB12+Лист1!FC12)/(Лист1!FD12+Лист1!FE12)*100 -> #DIV/0! | BP12: =(Лист1!FF12+Лист1!FG12)/(Лист1!FH12+Лист1!FI12)*100 -> #DIV/0!
A13: =IF(Лист1!A13<>"",Лист1!A13,"") | B13: =IF(Лист1!B13<>"",Лист1!B13,"") | C13: =IF(Лист1!C13<>"",Лист1!C13,"") | D13: =IF(Лист1!D13<>"",Лист1!D13,"") | E13: =IF(Лист1!E13<>"",Лист1!E13,"") | F13: =IF(Лист1!F13<>"",Лист1!F13,"") | G13: =(Лист1!G13/(Лист1!G13+Лист1!H13))*100 -> #DIV/0! | H13: =(Лист1!I13/(Лист1!J13-Лист1!K13))*100 -> #DIV/0! | I13: =(Лист1!L13/Лист1!M13)*100 -> #DIV/0! | J13: =(Лист1!N13/Лист1!O13)*100 -> #DIV/0! | K13: =Лист1!P13/Лист1!Q13 -> #DIV/0! | L13: =(Лист2!A7/Лист2!B7)*100 -> #DIV/0! | M13: =Лист1!V13/Лист1!W13 -> #DIV/0! | N13: =(Лист1!X13/Лист1!$AA13)*100 -> #DIV/0! | O13: =(Лист1!Y13/Лист1!$AA13)*100 -> #DIV/0! | P13: =(Лист1!Z13/Лист1!$AA13)*100 -> #DIV/0! | Q13: =(Лист1!AB13/Лист1!AC13)*100 -> #DIV/0! | R13: =(Лист1!AD13/Лист1!AE13)*100 -> #DIV/0! | S13: =(Лист1!AF13/Лист1!AG13)*100 -> #DIV/0! | T13: =(Лист1!AH13/Лист1!AI13)*100 -> #DIV/0! | U13: =(Лист1!AJ13/Лист1!AK13)*100 -> #DIV/0! | V13: =Лист1!AL13/Лист1!AM13 -> #DIV/0! | W13: =(Лист1!AN13/Лист1!AO13)*100 -> #DIV/0! | X13: =Лист1!AP13/Лист1!AQ13 -> #DIV/0! | Y13: =(Лист1!AR13/Лист1!AS13)*100 -> #DIV/0! | Z13: =(Лист1!AT13/Лист1!AU13)*100 -> #DIV/0! | AA13: =(Лист1!AV13/Лист1!AW13)*100 -> #DIV/0! | AB13: =((Лист1!AX13+Лист1!AY13+Лист1!AZ13+Лист1!BA13)/Лист1!BB13)*100 -> #DIV/0! | AC13: =(Лист1!BC13/Лист1!BD13)*100 -> #DIV/0! | AD13: =(Лист1!BE13/Лист1!BF13)*100 -> #DIV/0! | AE13: =(Лист1!BG13+Лист1!BH13)/Лист1!BI13*100 -> #DIV/0! | AF13: =Лист1!BJ13/Лист1!BK13*100 -> #DIV/0! | AG13: =Лист1!BL13/Лист1!BM13 -> #DIV/0! | AH13: =(Лист1!BN13/Лист1!BO13)*100 -> #DIV/0! | AI13: =(Лист2!C7/Лист1!$BT13)*100 -> #DIV/0! | AJ13: =(Лист2!D7/Лист1!$BT13)*100 -> #DIV/0! | AK13: =(Лист1!BU13+Лист1!BV13)/((Лист1!BW13-Лист1!BX13-Лист1!BY13)+(Лист1!BZ13+0.1*Лист1!CA13)) -> #DIV/0! | AL13: =(Лист1!CD13+Лист1!CG13)/(Лист1!CH13+Лист1!CI13)*100 -> #DIV/0! | AM13: =(Лист1!CC13+Лист1!CF13)/(Лист1!CH13+Лист1!CI13)*100 -> #DIV/0! | AN13: =(Лист1!CB13+Лист1!CE13)/(Лист1!CH13+Лист1!CI13)*100 -> #DIV/0! | AO13: =(Лист1!CJ13+Лист1!CL13)/(Лист1!CN13+Лист1!CO13)*100 -> #DIV/0! | AP13: =(Лист1!CK13+Лист1!CM13)/(Лист1!CN13+Лист1!CO13)*100 -> #DIV/0! | AQ13: =(Лист1!CP13+Лист1!CQ13)/(Лист1!CR13+Лист1!CS13)*100 -> #DIV/0! | AR13: =(Лист1!CT13/Лист1!CU13)*100 -> #DIV/0! | AS13: =(Лист1!CV13/Лист1!CW13)*100 -> #DIV/0! | AT13: =Лист1!CX13/Лист1!CY13 -> #DIV/0! | AU13: =Лист1!CZ13 -> 0 | AV13: =Лист1!DA13 -> 0 | AW13: =Лист1!DB13 -> 0 | AX13: =Лист1!DC13 -> 0 | AY13: =Лист1!DD13 -> 0 | AZ13: =Лист1!DE13 -> 0 | BA13: =Лист1!DF13 -> 0 | BB13: =Лист1!DG13 -> 0 | BC13: =(Лист1!DH13+Лист1!DI13)/(Лист1!DJ13+Лист1!DK13)*100 -> #DIV/0! | BD13: =(Лист1!DL13/Лист1!DM13)*100 -> #DIV/0! | BE13: =(Лист1!DN13+Лист1!DO13)/(Лист1!DP13+Лист1!DQ13)*100 -> #DIV/0! | BF13: =(Лист1!DR13+Лист1!DS13)/(Лист1!DT13+Лист1!DU13)*100 -> #DIV/0! | BG13: =((Лист1!DV13+Лист1!DW13)/(Лист1!DX13+Лист1!DY13))*100 -> #DIV/0! | BH13: =(Лист1!DZ13+Лист1!EA13)/(Лист1!EB13+Лист1!EC13) -> #DIV/0! | BI13: =(Лист1!ED13+Лист1!EE13)/(Лист1!EF13+Лист1!EG13)*100 -> #DIV/0! | BJ13: =(Лист1!EH13+Лист1!EI13)/(Лист1!EJ13+Лист1!EK13)*100 -> #DIV/0! | BK13: =(Лист1!EL13+Лист1!EM13)/(Лист1!EN13+Лист1!EO13)*100 -> #DIV/0! | BL13: =(Лист1!EP13+Лист1!EQ13)/(Лист1!ER13+Лист1!ES13)*100 -> #DIV/0! | BM13: =(Лист1!ET13+Лист1!EU13)/(Лист1!EV13+Лист1!EW13)*100 -> #DIV/0! | BN13: =(Лист1!EX13+Лист1!EY13)/(Лист1!EZ13+Лист1!FA13)*100 -> #DIV/0! | BO13: =(Лист1!FB13+Лист1!FC13)/(Лист1!FD13+Лист1!FE13)*100 -> #DIV/0! | BP13: =(Лист1!FF13+Лист1!FG13)/(Лист1!FH13+Лист1!FI13)*100 -> #DIV/0!
A14: =IF(Лист1!A14<>"",Лист1!A14,"") | B14: =IF(Лист1!B14<>"",Лист1!B14,"") | C14: =IF(Лист1!C14<>"",Лист1!C14,"") | D14: =IF(Лист1!D14<>"",Лист1!D14,"") | E14: =IF(Лист1!E14<>"",Лист1!E14,"") | F14: =IF(Лист1!F14<>"",Лист1!F14,"") | G14: =(Лист1!G14/(Лист1!G14+Лист1!H14))*100 -> #DIV/0! | H14: =(Лист1!I14/(Лист1!J14-Лист1!K14))*100 -> #DIV/0! | I14: =(Лист1!L14/Лист1!M14)*100 -> #DIV/0! | J14: =(Лист1!N14/Лист1!O14)*100 -> #DIV/0! | K14: =Лист1!P14/Лист1!Q14 -> #DIV/0! | L14: =(Лист2!A8/Лист2!B8)*100 -> #DIV/0! | M14: =Лист1!V14/Лист1!W14 -> #DIV/0! | N14: =(Лист1!X14/Лист1!$AA14)*100 -> #DIV/0! | O14: =(Лист1!Y14/Лист1!$AA14)*100 -> #DIV/0! | P14: =(Лист1!Z14/Лист1!$AA14)*100 -> #DIV/0! | Q14: =(Лист1!AB14/Лист1!AC14)*100 -> #DIV/0! | R14: =(Лист1!AD14/Лист1!AE14)*100 -> #DIV/0! | S14: =(Лист1!AF14/Лист1!AG14)*100 -> #DIV/0! | T14: =(Лист1!AH14/Лист1!AI14)*100 -> #DIV/0! | U14: =(Лист1!AJ14/Лист1!AK14)*100 -> #DIV/0! | V14: =Лист1!AL14/Лист1!AM14 -> #DIV/0! | W14: =(Лист1!AN14/Лист1!AO14)*100 -> #DIV/0! | X14: =Лист1!AP14/Лист1!AQ14 -> #DIV/0! | Y14: =(Лист1!AR14/Лист1!AS14)*100 -> #DIV/0! | Z14: =(Лист1!AT14/Лист1!AU14)*100 -> #DIV/0! | AA14: =(Лист1!AV14/Лист1!AW14)*100 -> #DIV/0! | AB14: =((Лист1!AX14+Лист1!AY14+Лист1!AZ14+Лист1!BA14)/Лист1!BB14)*100 -> #DIV/0! | AC14: =(Лист1!BC14/Лист1!BD14)*100 -> #DIV/0! | AD14: =(Лист1!BE14/Лист1!BF14)*100 -> #DIV/0! | AE14: =(Лист1!BG14+Лист1!BH14)/Лист1!BI14*100 -> #DIV/0! | AF14: =Лист1!BJ14/Лист1!BK14*100 -> #DIV/0! | AG14: =Лист1!BL14/Лист1!BM14 -> #DIV/0! | AH14: =(Лист1!BN14/Лист1!BO14)*100 -> #DIV/0! | AI14: =(Лист2!C8/Лист1!$BT14)*100 -> #DIV/0! | AJ14: =(Лист2!D8/Лист1!$BT14)*100 -> #DIV/0! | AK14: =(Лист1!BU14+Лист1!BV14)/((Лист1!BW14-Лист1!BX14-Лист1!BY14)+(Лист1!BZ14+0.1*Лист1!CA14)) -> #DIV/0! | AL14: =(Лист1!CD14+Лист1!CG14)/(Лист1!CH14+Лист1!CI14)*100 -> #DIV/0! | AM14: =(Лист1!CC14+Лист1!CF14)/(Лист1!CH14+Лист1!CI14)*100 -> #DIV/0! | AN14: =(Лист1!CB14+Лист1!CE14)/(Лист1!CH14+Лист1!CI14)*100 -> #DIV/0! | AO14: =(Лист1!CJ14+Лист1!CL14)/(Лист1!CN14+Лист1!CO14)*100 -> #DIV/0! | AP14: =(Лист1!CK14+Лист1!CM14)/(Лист1!CN14+Лист1!CO14)*100 -> #DIV/0! | AQ14: =(Лист1!CP14+Лист1!CQ14)/(Лист1!CR14+Лист1!CS14)*100 -> #DIV/0! | AR14: =(Лист1!CT14/Лист1!CU14)*100 -> #DIV/0! | AS14: =(Лист1!CV14/Лист1!CW14)*100 -> #DIV/0! | AT14: =Лист1!CX14/Лист1!CY14 -> #DIV/0! | AU14: =Лист1!CZ14 -> 0 | AV14: =Лист1!DA14 -> 0 | AW14: =Лист1!DB14 -> 0 | AX14: =Лист1!DC14 -> 0 | AY14: =Лист1!DD14 -> 0 | AZ14: =Лист1!DE14 -> 0 | BA14: =Лист1!DF14 -> 0 | BB14: =Лист1!DG14 -> 0 | BC14: =(Лист1!DH14+Лист1!DI14)/(Лист1!DJ14+Лист1!DK14)*100 -> #DIV/0! | BD14: =(Лист1!DL14/Лист1!DM14)*100 -> #DIV/0! | BE14: =(Лист1!DN14+Лист1!DO14)/(Лист1!DP14+Лист1!DQ14)*100 -> #DIV/0! | BF14: =(Лист1!DR14+Лист1!DS14)/(Лист1!DT14+Лист1!DU14)*100 -> #DIV/0! | BG14: =((Лист1!DV14+Лист1!DW14)/(Лист1!DX14+Лист1!DY14))*100 -> #DIV/0! | BH14: =(Лист1!DZ14+Лист1!EA14)/(Лист1!EB14+Лист1!EC14) -> #DIV/0! | BI14: =(Лист1!ED14+Лист1!EE14)/(Лист1!EF14+Лист1!EG14)*100 -> #DIV/0! | BJ14: =(Лист1!EH14+Лист1!EI14)/(Лист1!EJ14+Лист1!EK14)*100 -> #DIV/0! | BK14: =(Лист1!EL14+Лист1!EM14)/(Лист1!EN14+Лист1!EO14)*100 -> #DIV/0! | BL14: =(Лист1!EP14+Лист1!EQ14)/(Лист1!ER14+Лист1!ES14)*100 -> #DIV/0! | BM14: =(Лист1!ET14+Лист1!EU14)/(Лист1!EV14+Лист1!EW14)*100 -> #DIV/0! | BN14: =(Лист1!EX14+Лист1!EY14)/(Лист1!EZ14+Лист1!FA14)*100 -> #DIV/0! | BO14: =(Лист1!FB14+Лист1!FC14)/(Лист1!FD14+Лист1!FE14)*100 -> #DIV/0! | BP14: =(Лист1!FF14+Лист1!FG14)/(Лист1!FH14+Лист1!FI14)*100 -> #DIV/0!
A15: =IF(Лист1!A15<>"",Лист1!A15,"") | B15: =IF(Лист1!B15<>"",Лист1!B15,"") | C15: =IF(Лист1!C15<>"",Лист1!C15,"") | D15: =IF(Лист1!D15<>"",Лист1!D15,"") | E15: =IF(Лист1!E15<>"",Лист1!E15,"") | F15: =IF(Лист1!F15<>"",Лист1!F15,"") | G15: =(Лист1!G15/(Лист1!G15+Лист1!H15))*100 -> #DIV/0! | H15: =(Лист1!I15/(Лист1!J15-Лист1!K15))*100 -> #DIV/0! | I15: =(Лист1!L15/Лист1!M15)*100 -> #DIV/0! | J15: =(Лист1!N15/Лист1!O15)*100 -> #DIV/0! | K15: =Лист1!P15/Лист1!Q15 -> #DIV/0! | L15: =(Лист2!A9/Лист2!B9)*100 -> #DIV/0! | M15: =Лист1!V15/Лист1!W15 -> #DIV/0! | N15: =(Лист1!X15/Лист1!$AA15)*100 -> #DIV/0! | O15: =(Лист1!Y15/Лист1!$AA15)*100 -> #DIV/0! | P15: =(Лист1!Z15/Лист1!$AA15)*100 -> #DIV/0! | Q15: =(Лист1!AB15/Лист1!AC15)*100 -> #DIV/0! | R15: =(Лист1!AD15/Лист1!AE15)*100 -> #DIV/0! | S15: =(Лист1!AF15/Лист1!AG15)*100 -> #DIV/0! | T15: =(Лист1!AH15/Лист1!AI15)*100 -> #DIV/0! | U15: =(Лист1!AJ15/Лист1!AK15)*100 -> #DIV/0! | V15: =Лист1!AL15/Лист1!AM15 -> #DIV/0! | W15: =(Лист1!AN15/Лист1!AO15)*100 -> #DIV/0! | X15: =Лист1!AP15/Лист1!AQ15 -> #DIV/0! | Y15: =(Лист1!AR15/Лист1!AS15)*100 -> #DIV/0! | Z15: =(Лист1!AT15/Лист1!AU15)*100 -> #DIV/0! | AA15: =(Лист1!AV15/Лист1!AW15)*100 -> #DIV/0! | AB15: =((Лист1!AX15+Лист1!AY15+Лист1!AZ15+Лист1!BA15)/Лист1!BB15)*100 -> #DIV/0! | AC15: =(Лист1!BC15/Лист1!BD15)*100 -> #DIV/0! | AD15: =(Лист1!BE15/Лист1!BF15)*100 -> #DIV/0! | AE15: =(Лист1!BG15+Лист1!BH15)/Лист1!BI15*100 -> #DIV/0! | AF15: =Лист1!BJ15/Лист1!BK15*100 -> #DIV/0! | AG15: =Лист1!BL15/Лист1!BM15 -> #DIV/0! | AH15: =(Лист1!BN15/Лист1!BO15)*100 -> #DIV/0! | AI15: =(Лист2!C9/Лист1!$BT15)*100 -> #DIV/0! | AJ15: =(Лист2!D9/Лист1!$BT15)*100 -> #DIV/0! | AK15: =(Лист1!BU15+Лист1!BV15)/((Лист1!BW15-Лист1!BX15-Лист1!BY15)+(Лист1!BZ15+0.1*Лист1!CA15)) -> #DIV/0! | AL15: =(Лист1!CD15+Лист1!CG15)/(Лист1!CH15+Лист1!CI15)*100 -> #DIV/0! | AM15: =(Лист1!CC15+Лист1!CF15)/(Лист1!CH15+Лист1!CI15)*100 -> #DIV/0! | AN15: =(Лист1!CB15+Лист1!CE15)/(Лист1!CH15+Лист1!CI15)*100 -> #DIV/0! | AO15: =(Лист1!CJ15+Лист1!CL15)/(Лист1!CN15+Лист1!CO15)*100 -> #DIV/0! | AP15: =(Лист1!CK15+Лист1!CM15)/(Лист1!CN15+Лист1!CO15)*100 -> #DIV/0! | AQ15: =(Лист1!CP15+Лист1!CQ15)/(Лист1!CR15+Лист1!CS15)*100 -> #DIV/0! | AR15: =(Лист1!CT15/Лист1!CU15)*100 -> #DIV/0! | AS15: =(Лист1!CV15/Лист1!CW15)*100 -> #DIV/0! | AT15: =Лист1!CX15/Лист1!CY15 -> #DIV/0! | AU15: =Лист1!CZ15 -> 0 | AV15: =Лист1!DA15 -> 0 | AW15: =Лист1!DB15 -> 0 | AX15: =Лист1!DC15 -> 0 | AY15: =Лист1!DD15 -> 0 | AZ15: =Лист1!DE15 -> 0 | BA15: =Лист1!DF15 -> 0 | BB15: =Лист1!DG15 -> 0 | BC15: =(Лист1!DH15+Лист1!DI15)/(Лист1!DJ15+Лист1!DK15)*100 -> #DIV/0! | BD15: =(Лист1!DL15/Лист1!DM15)*100 -> #DIV/0! | BE15: =(Лист1!DN15+Лист1!DO15)/(Лист1!DP15+Лист1!DQ15)*100 -> #DIV/0! | BF15: =(Лист1!DR15+Лист1!DS15)/(Лист1!DT15+Лист1!DU15)*100 -> #DIV/0! | BG15: =((Лист1!DV15+Лист1!DW15)/(Лист1!DX15+Лист1!DY15))*100 -> #DIV/0! | BH15: =(Лист1!DZ15+Лист1!EA15)/(Лист1!EB15+Лист1!EC15) -> #DIV/0! | BI15: =(Лист1!ED15+Лист1!EE15)/(Лист1!EF15+Лист1!EG15)*100 -> #DIV/0! | BJ15: =(Лист1!EH15+Лист1!EI15)/(Лист1!EJ15+Лист1!EK15)*100 -> #DIV/0! | BK15: =(Лист1!EL15+Лист1!EM15)/(Лист1!EN15+Лист1!EO15)*100 -> #DIV/0! | BL15: =(Лист1!EP15+Лист1!EQ15)/(Лист1!ER15+Лист1!ES15)*100 -> #DIV/0! | BM15: =(Лист1!ET15+Лист1!EU15)/(Лист1!EV15+Лист1!EW15)*100 -> #DIV/0! | BN15: =(Лист1!EX15+Лист1!EY15)/(Лист1!EZ15+Лист1!FA15)*100 -> #DIV/0! | BO15: =(Лист1!FB15+Лист1!FC15)/(Лист1!FD15+Лист1!FE15)*100 -> #DIV/0! | BP15: =(Лист1!FF15+Лист1!FG15)/(Лист1!FH15+Лист1!FI15)*100 -> #DIV/0!
A16: =IF(Лист1!A16<>"",Лист1!A16,"") | B16: =IF(Лист1!B16<>"",Лист1!B16,"") | C16: =IF(Лист1!C16<>"",Лист1!C16,"") | D16: =IF(Лист1!D16<>"",Лист1!D16,"") | E16: =IF(Лист1!E16<>"",Лист1!E16,"") | F16: =IF(Лист1!F16<>"",Лист1!F16,"") | G16: =(Лист1!G16/(Лист1!G16+Лист1!H16))*100 -> #DIV/0! | H16: =(Лист1!I16/(Лист1!J16-Лист1!K16))*100 -> #DIV/0! | I16: =(Лист1!L16/Лист1!M16)*100 -> #DIV/0! | J16: =(Лист1!N16/Лист1!O16)*100 -> #DIV/0! | K16: =Лист1!P16/Лист1!Q16 -> #DIV/0! | L16: =(Лист2!A10/Лист2!B10)*100 -> #DIV/0! | M16: =Лист1!V16/Лист1!W16 -> #DIV/0! | N16: =(Лист1!X16/Лист1!$AA16)*100 -> #DIV/0! | O16: =(Лист1!Y16/Лист1!$AA16)*100 -> #DIV/0! | P16: =(Лист1!Z16/Лист1!$AA16)*100 -> #DIV/0! | Q16: =(Лист1!AB16/Лист1!AC16)*100 -> #DIV/0! | R16: =(Лист1!AD16/Лист1!AE16)*100 -> #DIV/0! | S16: =(Лист1!AF16/Лист1!AG16)*100 -> #DIV/0! | T16: =(Лист1!AH16/Лист1!AI16)*100 -> #DIV/0! | U16: =(Лист1!AJ16/Лист1!AK16)*100 -> #DIV/0! | V16: =Лист1!AL16/Лист1!AM16 -> #DIV/0! | W16: =(Лист1!AN16/Лист1!AO16)*100 -> #DIV/0! | X16: =Лист1!AP16/Лист1!AQ16 -> #DIV/0! | Y16: =(Лист1!AR16/Лист1!AS16)*100 -> #DIV/0! | Z16: =(Лист1!AT16/Лист1!AU16)*100 -> #DIV/0! | AA16: =(Лист1!AV16/Лист1!AW16)*100 -> #DIV/0! | AB16: =((Лист1!AX16+Лист1!AY16+Лист1!AZ16+Лист1!BA16)/Лист1!BB16)*100 -> #DIV/0! | AC16: =(Лист1!BC16/Лист1!BD16)*100 -> #DIV/0! | AD16: =(Лист1!BE16/Лист1!BF16)*100 -> #DIV/0! | AE16: =(Лист1!BG16+Лист1!BH16)/Лист1!BI16*100 -> #DIV/0! | AF16: =Лист1!BJ16/Лист1!BK16*100 -> #DIV/0! | AG16: =Лист1!BL16/Лист1!BM16 -> #DIV/0! | AH16: =(Лист1!BN16/Лист1!BO16)*100 -> #DIV/0! | AI16: =(Лист2!C10/Лист1!$BT16)*100 -> #DIV/0! | AJ16: =(Лист2!D10/Лист1!$BT16)*100 -> #DIV/0! | AK16: =(Лист1!BU16+Лист1!BV16)/((Лист1!BW16-Лист1!BX16-Лист1!BY16)+(Лист1!BZ16+0.1*Лист1!CA16)) -> #DIV/0! | AL16: =(Лист1!CD16+Лист1!CG16)/(Лист1!CH16+Лист1!CI16)*100 -> #DIV/0! | AM16: =(Лист1!CC16+Лист1!CF16)/(Лист1!CH16+Лист1!CI16)*100 -> #DIV/0! | AN16: =(Лист1!CB16+Лист1!CE16)/(Лист1!CH16+Лист1!CI16)*100 -> #DIV/0! | AO16: =(Лист1!CJ16+Лист1!CL16)/(Лист1!CN16+Лист1!CO16)*100 -> #DIV/0! | AP16: =(Лист1!CK16+Лист1!CM16)/(Лист1!CN16+Лист1!CO16)*100 -> #DIV/0! | AQ16: =(Лист1!CP16+Лист1!CQ16)/(Лист1!CR16+Лист1!CS16)*100 -> #DIV/0! | AR16: =(Лист1!CT16/Лист1!CU16)*100 -> #DIV/0! | AS16: =(Лист1!CV16/Лист1!CW16)*100 -> #DIV/0! | AT16: =Лист1!CX16/Лист1!CY16 -> #DIV/0! | AU16: =Лист1!CZ16 -> 0 | AV16: =Лист1!DA16 -> 0 | AW16: =Лист1!DB16 -> 0 | AX16: =Лист1!DC16 -> 0 | AY16: =Лист1!DD16 -> 0 | AZ16: =Лист1!DE16 -> 0 | BA16: =Лист1!DF16 -> 0 | BB16: =Лист1!DG16 -> 0 | BC16: =(Лист1!DH16+Лист1!DI16)/(Лист1!DJ16+Лист1!DK16)*100 -> #DIV/0! | BD16: =(Лист1!DL16/Лист1!DM16)*100 -> #DIV/0! | BE16: =(Лист1!DN16+Лист1!DO16)/(Лист1!DP16+Лист1!DQ16)*100 -> #DIV/0! | BF16: =(Лист1!DR16+Лист1!DS16)/(Лист1!DT16+Лист1!DU16)*100 -> #DIV/0! | BG16: =((Лист1!DV16+Лист1!DW16)/(Лист1!DX16+Лист1!DY16))*100 -> #DIV/0! | BH16: =(Лист1!DZ16+Лист1!EA16)/(Лист1!EB16+Лист1!EC16) -> #DIV/0! | BI16: =(Лист1!ED16+Лист1!EE16)/(Лист1!EF16+Лист1!EG16)*100 -> #DIV/0! | BJ16: =(Лист1!EH16+Лист1!EI16)/(Лист1!EJ16+Лист1!EK16)*100 -> #DIV/0! | BK16: =(Лист1!EL16+Лист1!EM16)/(Лист1!EN16+Лист1!EO16)*100 -> #DIV/0! | BL16: =(Лист1!EP16+Лист1!EQ16)/(Лист1!ER16+Лист1!ES16)*100 -> #DIV/0! | BM16: =(Лист1!ET16+Лист1!EU16)/(Лист1!EV16+Лист1!EW16)*100 -> #DIV/0! | BN16: =(Лист1!EX16+Лист1!EY16)/(Лист1!EZ16+Лист1!FA16)*100 -> #DIV/0! | BO16: =(Лист1!FB16+Лист1!FC16)/(Лист1!FD16+Лист1!FE16)*100 -> #DIV/0! | BP16: =(Лист1!FF16+Лист1!FG16)/(Лист1!FH16+Лист1!FI16)*100 -> #DIV/0!
A17: =IF(Лист1!A17<>"",Лист1!A17,"") | B17: =IF(Лист1!B17<>"",Лист1!B17,"") | C17: =IF(Лист1!C17<>"",Лист1!C17,"") | D17: =IF(Лист1!D17<>"",Лист1!D17,"") | E17: =IF(Лист1!E17<>"",Лист1!E17,"") | F17: =IF(Лист1!F17<>"",Лист1!F17,"") | G17: =(Лист1!G17/(Лист1!G17+Лист1!H17))*100 -> #DIV/0! | H17: =(Лист1!I17/(Лист1!J17-Лист1!K17))*100 -> #DIV/0! | I17: =(Лист1!L17/Лист1!M17)*100 -> #DIV/0! | J17: =(Лист1!N17/Лист1!O17)*100 -> #DIV/0! | K17: =Лист1!P17/Лист1!Q17 -> #DIV/0! | L17: =(Лист2!A11/Лист2!B11)*100 -> #DIV/0! | M17: =Лист1!V17/Лист1!W17 -> #DIV/0! | N17: =(Лист1!X17/Лист1!$AA17)*100 -> #DIV/0! | O17: =(Лист1!Y17/Лист1!$AA17)*100 -> #DIV/0! | P17: =(Лист1!Z17/Лист1!$AA17)*100 -> #DIV/0! | Q17: =(Лист1!AB17/Лист1!AC17)*100 -> #DIV/0! | R17: =(Лист1!AD17/Лист1!AE17)*100 -> #DIV/0! | S17: =(Лист1!AF17/Лист1!AG17)*100 -> #DIV/0! | T17: =(Лист1!AH17/Лист1!AI17)*100 -> #DIV/0! | U17: =(Лист1!AJ17/Лист1!AK17)*100 -> #DIV/0! | V17: =Лист1!AL17/Лист1!AM17 -> #DIV/0! | W17: =(Лист1!AN17/Лист1!AO17)*100 -> #DIV/0! | X17: =Лист1!AP17/Лист1!AQ17 -> #DIV/0! | Y17: =(Лист1!AR17/Лист1!AS17)*100 -> #DIV/0! | Z17: =(Лист1!AT17/Лист1!AU17)*100 -> #DIV/0! | AA17: =(Лист1!AV17/Лист1!AW17)*100 -> #DIV/0! | AB17: =((Лист1!AX17+Лист1!AY17+Лист1!AZ17+Лист1!BA17)/Лист1!BB17)*100 -> #DIV/0! | AC17: =(Лист1!BC17/Лист1!BD17)*100 -> #DIV/0! | AD17: =(Лист1!BE17/Лист1!BF17)*100 -> #DIV/0! | AE17: =(Лист1!BG17+Лист1!BH17)/Лист1!BI17*100 -> #DIV/0! | AF17: =Лист1!BJ17/Лист1!BK17*100 -> #DIV/0! | AG17: =Лист1!BL17/Лист1!BM17 -> #DIV/0! | AH17: =(Лист1!BN17/Лист1!BO17)*100 -> #DIV/0! | AI17: =(Лист2!C11/Лист1!$BT17)*100 -> #DIV/0! | AJ17: =(Лист2!D11/Лист1!$BT17)*100 -> #DIV/0! | AK17: =(Лист1!BU17+Лист1!BV17)/((Лист1!BW17-Лист1!BX17-Лист1!BY17)+(Лист1!BZ17+0.1*Лист1!CA17)) -> #DIV/0! | AL17: =(Лист1!CD17+Лист1!CG17)/(Лист1!CH17+Лист1!CI17)*100 -> #DIV/0! | AM17: =(Лист1!CC17+Лист1!CF17)/(Лист1!CH17+Лист1!CI17)*100 -> #DIV/0! | AN17: =(Лист1!CB17+Лист1!CE17)/(Лист1!CH17+Лист1!CI17)*100 -> #DIV/0! | AO17: =(Лист1!CJ17+Лист1!CL17)/(Лист1!CN17+Лист1!CO17)*100 -> #DIV/0! | AP17: =(Лист1!CK17+Лист1!CM17)/(Лист1!CN17+Лист1!CO17)*100 -> #DIV/0! | AQ17: =(Лист1!CP17+Лист1!CQ17)/(Лист1!CR17+Лист1!CS17)*100 -> #DIV/0! | AR17: =(Лист1!CT17/Лист1!CU17)*100 -> #DIV/0! | AS17: =(Лист1!CV17/Лист1!CW17)*100 -> #DIV/0! | AT17: =Лист1!CX17/Лист1!CY17 -> #DIV/0! | AU17: =Лист1!CZ17 -> 0 | AV17: =Лист1!DA17 -> 0 | AW17: =Лист1!DB17 -> 0 | AX17: =Лист1!DC17 -> 0 | AY17: =Лист1!DD17 -> 0 | AZ17: =Лист1!DE17 -> 0 | BA17: =Лист1!DF17 -> 0 | BB17: =Лист1!DG17 -> 0 | BC17: =(Лист1!DH17+Лист1!DI17)/(Лист1!DJ17+Лист1!DK17)*100 -> #DIV/0! | BD17: =(Лист1!DL17/Лист1!DM17)*100 -> #DIV/0! | BE17: =(Лист1!DN17+Лист1!DO17)/(Лист1!DP17+Лист1!DQ17)*100 -> #DIV/0! | BF17: =(Лист1!DR17+Лист1!DS17)/(Лист1!DT17+Лист1!DU17)*100 -> #DIV/0! | BG17: =((Лист1!DV17+Лист1!DW17)/(Лист1!DX17+Лист1!DY17))*100 -> #DIV/0! | BH17: =(Лист1!DZ17+Лист1!EA17)/(Лист1!EB17+Лист1!EC17) -> #DIV/0! | BI17: =(Лист1!ED17+Лист1!EE17)/(Лист1!EF17+Лист1!EG17)*100 -> #DIV/0! | BJ17: =(Лист1!EH17+Лист1!EI17)/(Лист1!EJ17+Лист1!EK17)*100 -> #DIV/0! | BK17: =(Лист1!EL17+Лист1!EM17)/(Лист1!EN17+Лист1!EO17)*100 -> #DIV/0! | BL17: =(Лист1!EP17+Лист1!EQ17)/(Лист1!ER17+Лист1!ES17)*100 -> #DIV/0! | BM17: =(Лист1!ET17+Лист1!EU17)/(Лист1!EV17+Лист1!EW17)*100 -> #DIV/0! | BN17: =(Лист1!EX17+Лист1!EY17)/(Лист1!EZ17+Лист1!FA17)*100 -> #DIV/0! | BO17: =(Лист1!FB17+Лист1!FC17)/(Лист1!FD17+Лист1!FE17)*100 -> #DIV/0! | BP17: =(Лист1!FF17+Лист1!FG17)/(Лист1!FH17+Лист1!FI17)*100 -> #DIV/0!
A18: =IF(Лист1!A18<>"",Лист1!A18,"") | B18: =IF(Лист1!B18<>"",Лист1!B18,"") | C18: =IF(Лист1!C18<>"",Лист1!C18,"") | D18: =IF(Лист1!D18<>"",Лист1!D18,"") | E18: =IF(Лист1!E18<>"",Лист1!E18,"") | F18: =IF(Лист1!F18<>"",Лист1!F18,"") | G18: =(Лист1!G18/(Лист1!G18+Лист1!H18))*100 -> #DIV/0! | H18: =(Лист1!I18/(Лист1!J18-Лист1!K18))*100 -> #DIV/0! | I18: =(Лист1!L18/Лист1!M18)*100 -> #DIV/0! | J18: =(Лист1!N18/Лист1!O18)*100 -> #DIV/0! | K18: =Лист1!P18/Лист1!Q18 -> #DIV/0! | L18: =(Лист2!A12/Лист2!B12)*100 -> #DIV/0! | M18: =Лист1!V18/Лист1!W18 -> #DIV/0! | N18: =(Лист1!X18/Лист1!$AA18)*100 -> #DIV/0! | O18: =(Лист1!Y18/Лист1!$AA18)*100 -> #DIV/0! | P18: =(Лист1!Z18/Лист1!$AA18)*100 -> #DIV/0! | Q18: =(Лист1!AB18/Лист1!AC18)*100 -> #DIV/0! | R18: =(Лист1!AD18/Лист1!AE18)*100 -> #DIV/0! | S18: =(Лист1!AF18/Лист1!AG18)*100 -> #DIV/0! | T18: =(Лист1!AH18/Лист1!AI18)*100 -> #DIV/0! | U18: =(Лист1!AJ18/Лист1!AK18)*100 -> #DIV/0! | V18: =Лист1!AL18/Лист1!AM18 -> #DIV/0! | W18: =(Лист1!AN18/Лист1!AO18)*100 -> #DIV/0! | X18: =Лист1!AP18/Лист1!AQ18 -> #DIV/0! | Y18: =(Лист1!AR18/Лист1!AS18)*100 -> #DIV/0! | Z18: =(Лист1!AT18/Лист1!AU18)*100 -> #DIV/0! | AA18: =(Лист1!AV18/Лист1!AW18)*100 -> #DIV/0! | AB18: =((Лист1!AX18+Лист1!AY18+Лист1!AZ18+Лист1!BA18)/Лист1!BB18)*100 -> #DIV/0! | AC18: =(Лист1!BC18/Лист1!BD18)*100 -> #DIV/0! | AD18: =(Лист1!BE18/Лист1!BF18)*100 -> #DIV/0! | AE18: =(Лист1!BG18+Лист1!BH18)/Лист1!BI18*100 -> #DIV/0! | AF18: =Лист1!BJ18/Лист1!BK18*100 -> #DIV/0! | AG18: =Лист1!BL18/Лист1!BM18 -> #DIV/0! | AH18: =(Лист1!BN18/Лист1!BO18)*100 -> #DIV/0! | AI18: =(Лист2!C12/Лист1!$BT18)*100 -> #DIV/0! | AJ18: =(Лист2!D12/Лист1!$BT18)*100 -> #DIV/0! | AK18: =(Лист1!BU18+Лист1!BV18)/((Лист1!BW18-Лист1!BX18-Лист1!BY18)+(Лист1!BZ18+0.1*Лист1!CA18)) -> #DIV/0! | AL18: =(Лист1!CD18+Лист1!CG18)/(Лист1!CH18+Лист1!CI18)*100 -> #DIV/0! | AM18: =(Лист1!CC18+Лист1!CF18)/(Лист1!CH18+Лист1!CI18)*100 -> #DIV/0! | AN18: =(Лист1!CB18+Лист1!CE18)/(Лист1!CH18+Лист1!CI18)*100 -> #DIV/0! | AO18: =(Лист1!CJ18+Лист1!CL18)/(Лист1!CN18+Лист1!CO18)*100 -> #DIV/0! | AP18: =(Лист1!CK18+Лист1!CM18)/(Лист1!CN18+Лист1!CO18)*100 -> #DIV/0! | AQ18: =(Лист1!CP18+Лист1!CQ18)/(Лист1!CR18+Лист1!CS18)*100 -> #DIV/0! | AR18: =(Лист1!CT18/Лист1!CU18)*100 -> #DIV/0! | AS18: =(Лист1!CV18/Лист1!CW18)*100 -> #DIV/0! | AT18: =Лист1!CX18/Лист1!CY18 -> #DIV/0! | AU18: =Лист1!CZ18 -> 0 | AV18: =Лист1!DA18 -> 0 | AW18: =Лист1!DB18 -> 0 | AX18: =Лист1!DC18 -> 0 | AY18: =Лист1!DD18 -> 0 | AZ18: =Лист1!DE18 -> 0 | BA18: =Лист1!DF18 -> 0 | BB18: =Лист1!DG18 -> 0 | BC18: =(Лист1!DH18+Лист1!DI18)/(Лист1!DJ18+Лист1!DK18)*100 -> #DIV/0! | BD18: =(Лист1!DL18/Лист1!DM18)*100 -> #DIV/0! | BE18: =(Лист1!DN18+Лист1!DO18)/(Лист1!DP18+Лист1!DQ18)*100 -> #DIV/0! | BF18: =(Лист1!DR18+Лист1!DS18)/(Лист1!DT18+Лист1!DU18)*100 -> #DIV/0! | BG18: =((Лист1!DV18+Лист1!DW18)/(Лист1!DX18+Лист1!DY18))*100 -> #DIV/0! | BH18: =(Лист1!DZ18+Лист1!EA18)/(Лист1!EB18+Лист1!EC18) -> #DIV/0! | BI18: =(Лист1!ED18+Лист1!EE18)/(Лист1!EF18+Лист1!EG18)*100 -> #DIV/0! | BJ18: =(Лист1!EH18+Лист1!EI18)/(Лист1!EJ18+Лист1!EK18)*100 -> #DIV/0! | BK18: =(Лист1!EL18+Лист1!EM18)/(Лист1!EN18+Лист1!EO18)*100 -> #DIV/0! | BL18: =(Лист1!EP18+Лист1!EQ18)/(Лист1!ER18+Лист1!ES18)*100 -> #DIV/0! | BM18: =(Лист1!ET18+Лист1!EU18)/(Лист1!EV18+Лист1!EW18)*100 -> #DIV/0! | BN18: =(Лист1!EX18+Лист1!EY18)/(Лист1!EZ18+Лист1!FA18)*100 -> #DIV/0! | BO18: =(Лист1!FB18+Лист1!FC18)/(Лист1!FD18+Лист1!FE18)*100 -> #DIV/0! | BP18: =(Лист1!FF18+Лист1!FG18)/(Лист1!FH18+Лист1!FI18)*100 -> #DIV/0!
... A2507: =IF(Лист1!A2507<>"",Лист1!A2507,"") | B2507: =IF(Лист1!B2507<>"",Лист1!B2507,"") | C2507: =IF(Лист1!C2507<>"",Лист1!C2507,"") | D2507: =IF(Лист1!D2507<>"",Лист1!D2507,"") | E2507: =IF(Лист1!E2507<>"",Лист1!E2507,"") | F2507: =IF(Лист1!F2507<>"",Лист1!F2507,"") | G2507: =(Лист1!G2507/(Лист1!G2507+Лист1!H2507))*100 -> #DIV/0! | H2507: =(Лист1!I2507/(Лист1!J2507-Лист1!K2507))*100 -> #DIV/0! | I2507: =(Лист1!L2507/Лист1!M2507)*100 -> #DIV/0! | J2507: =(Лист1!N2507/Лист1!O2507)*100 -> #DIV/0! | K2507: =Лист1!P2507/Лист1!Q2507 -> #DIV/0! | L2507: =(Лист2!A2501/Лист2!B2501)*100 -> #DIV/0! | M2507: =Лист1!V2507/Лист1!W2507 -> #DIV/0! | N2507: =(Лист1!X2507/Лист1!$AA2507)*100 -> #DIV/0! | O2507: =(Лист1!Y2507/Лист1!$AA2507)*100 -> #DIV/0! | P2507: =(Лист1!Z2507/Лист1!$AA2507)*100 -> #DIV/0! | Q2507: =(Лист1!AB2507/Лист1!AC2507)*100 -> #DIV/0! | R2507: =(Лист1!AD2507/Лист1!AE2507)*100 -> #DIV/0! | S2507: =(Лист1!AF2507/Лист1!AG2507)*100 -> #DIV/0! | T2507: =(Лист1!AH2507/Лист1!AI2507)*100 -> #DIV/0! | U2507: =(Лист1!AJ2507/Лист1!AK2507)*100 -> #DIV/0! | V2507: =Лист1!AL2507/Лист1!AM2507 -> #DIV/0! | W2507: =(Лист1!AN2507/Лист1!AO2507)*100 -> #DIV/0! | X2507: =Лист1!AP2507/Лист1!AQ2507 -> #DIV/0! | Y2507: =(Лист1!AR2507/Лист1!AS2507)*100 -> #DIV/0! | Z2507: =(Лист1!AT2507/Лист1!AU2507)*100 -> #DIV/0! | AA2507: =(Лист1!AV2507/Лист1!AW2507)*100 -> #DIV/0! | AB2507: =((Лист1!AX2507+Лист1!AY2507+Лист1!AZ2507+Лист1!BA2507)/Лист1!BB2507)*100 -> #DIV/0! | AC2507: =(Лист1!BC2507/Лист1!BD2507)*100 -> #DIV/0! | AD2507: =(Лист1!BE2507/Лист1!BF2507)*100 -> #DIV/0! | AE2507: =(Лист1!BG2507+Лист1!BH2507)/Лист1!BI2507*100 -> #DIV/0! | AF2507: =Лист1!BJ2507/Лист1!BK2507*100 -> #DIV/0! | AG2507: =Лист1!BL2507/Лист1!BM2507 -> #DIV/0! | AH2507: =(Лист1!BN2507/Лист1!BO2507)*100 -> #DIV/0! | AI2507: =(Лист2!C2501/Лист1!$BT2507)*100 -> #DIV/0! | AJ2507: =(Лист2!D2501/Лист1!$BT2507)*100 -> #DIV/0! | AK2507: =(Лист1!BU2507+Лист1!BV2507)/((Лист1!BW2507-Лист1!BX2507-Лист1!BY2507)+(Лист1!BZ2507+0.1*Лист1!CA2507)) -> #DIV/0! | AL2507: =(Лист1!CD2507+Лист1!CG2507)/(Лист1!CH2507+Лист1!CI2507)*100 -> #DIV/0! | AM2507: =(Лист1!CC2507+Лист1!CF2507)/(Лист1!CH2507+Лист1!CI2507)*100 -> #DIV/0! | AN2507: =(Лист1!CB2507+Лист1!CE2507)/(Лист1!CH2507+Лист1!CI2507)*100 -> #DIV/0! | AO2507: =(Лист1!CJ2507+Лист1!CL2507)/(Лист1!CN2507+Лист1!CO2507)*100 -> #DIV/0! | AP2507: =(Лист1!CK2507+Лист1!CM2507)/(Лист1!CN2507+Лист1!CO2507)*100 -> #DIV/0! | AQ2507: =(Лист1!CP2507+Лист1!CQ2507)/(Лист1!CR2507+Лист1!CS2507)*100 -> #DIV/0! | AR2507: =(Лист1!CT2507/Лист1!CU2507)*100 -> #DIV/0! | AS2507: =(Лист1!CV2507/Лист1!CW2507)*100 -> #DIV/0! | AT2507: =Лист1!CX2507/Лист1!CY2507 -> #DIV/0! | AU2507: =Лист1!CZ2507 -> 0 | AV2507: =Лист1!DA2507 -> 0 | AW2507: =Лист1!DB2507 -> 0 | AX2507: =Лист1!DC2507 -> 0 | AY2507: =Лист1!DD2507 -> 0 | AZ2507: =Лист1!DE2507 -> 0 | BA2507: =Лист1!DF2507 -> 0 | BB2507: =Лист1!DG2507 -> 0 | BC2507: =(Лист1!DH2507+Лист1!DI2507)/(Лист1!DJ2507+Лист1!DK2507)*100 -> #DIV/0! | BD2507: =(Лист1!DL2507/Лист1!DM2507)*100 -> #DIV/0! | BE2507: =(Лист1!DN2507+Лист1!DO2507)/(Лист1!DP2507+Лист1!DQ2507)*100 -> #DIV/0! | BF2507: =(Лист1!DR2507+Лист1!DS2507)/(Лист1!DT2507+Лист1!DU2507)*100 -> #DIV/0! | BG2507: =((Лист1!DV2507+Лист1!DW2507)/(Лист1!DX2507+Лист1!DY2507))*100 -> #DIV/0! | BH2507: =(Лист1!DZ2507+Лист1!EA2507)/(Лист1!EB2507+Лист1!EC2507) -> #DIV/0! | BI2507: =(Лист1!ED2507+Лист1!EE2507)/(Лист1!EF2507+Лист1!EG2507)*100 -> #DIV/0! | BJ2507: =(Лист1!EH2507+Лист1!EI2507)/(Лист1!EJ2507+Лист1!EK2507)*100 -> #DIV/0! | BK2507: =(Лист1!EL2507+Лист1!EM2507)/(Лист1!EN2507+Лист1!EO2507)*100 -> #DIV/0! | BL2507: =(Лист1!EP2507+Лист1!EQ2507)/(Лист1!ER2507+Лист1!ES2507)*100 -> #DIV/0! | BM2507: =(Лист1!ET2507+Лист1!EU2507)/(Лист1!EV2507+Лист1!EW2507)*100 -> #DIV/0! | BN2507: =(Лист1!EX2507+Лист1!EY2507)/(Лист1!EZ2507+Лист1!FA2507)*100 -> #DIV/0! | BO2507: =(Лист1!FB2507+Лист1!FC2507)/(Лист1!FD2507+Лист1!FE2507)*100 -> #DIV/0! | BP2507: =(Лист1!FF2507+Лист1!FG2507)/(Лист1!FH2507+Лист1!FI2507)*100 -> #DIV/0!
