Workbook
Name sub_1002: Лист1!$AX$2

Sheet Лист1
G1: I. Общее образование
G2: 1. Сведения о развитии дошкольного образования | AX2: 2. Сведения о развитии начального общего образования, основного общего образования и среднего общего образования
G3: 1.1 | N3: 1.2 | P3: 1.3 | V3: 1.4 | AH3: 1.5 | AL3: 1.6 | AN3: 1.7 | AP3: 1.8 | AT3: 1.9 | AX3: 2.1 | BG3: 2.2 | BL3: 2.3 | BU3: 2.4 | CT3: 2.5 | CX3: 2.6 | DH3: 2.7 | DV3: 2.8 | DZ3: 2.9 | EH3: 2.10
G4: 1.1.1 | I4: 1.1.2 | L4: 1.1.3 | N4: 1.2.1 | P4: 1.3.1 | R4: 1.3.2 | V4: 1.4.1 | X4: 1.4.2 | AB4: 1.4.3 | AD4: 1.4.4 | AF4: 1.4.5 | AH4: 1.5.1 | AJ4: 1.5.2 | AL4: 1.6.1 | AN4: 1.7.1 | AP4: 1.8.1 | AR4: 1.8.2 | AT4: 1.9.1 | AV4: 1.9.2 | AX4: 2.1.1 | BC4: 2.1.2 | BE4: 2.1.3 | BG4: 2.2.1 | BJ4: 2.2.2 | BL4: 2.3.1 | BN4: 2.3.2 | BP4: 2.3.3 | BU4: 2.4.1 | CB4: 2.4.2 | CJ4: 2.4.3 | CP4: 2.4.4 | CT4: 2.5.1 | CV4: 2.5.2 | CX4: 2.6.1 | CZ4: 2.6.2 | DB4: 2.6.3 | DD4: 2.6.4 | DF4: 2.6.5 | DH4: 2.7.1 | DL4: 2.7.2 | DN4: 2.7.3 | DR4: 2.7.4 | DV4: 2.8.1 | DZ4: 2.9.1 | ED4: 2.9.2 | EH4: 2.10.1 | EL4: 2.10.2 | EP4: 2.10.3 | ET4: 2.10.4 | EX4: 2.10.5 | FB4: 2.10.6 | FF4: 2.10.7
G5: численность воспитанников в возрасте 3-6 лет (число полных лет) дошкольных образовательных организаций; | H5: численность детей в возрасте 3-6 лет (число полных лет), стоящих на учете для определения в дошкольные образовательные организации. | I5: численность воспитанников образовательных организаций (включая филиалы), реализующих образовательные программы дошкольного образования; | J5: численность детей в возрасте от 2 месяцев (численность детей в возрасте от 2 месяцев до 1 года принимается как 10/12 численности детей в возрасте до 1 года) до 7 лет включительно (на 1 января следующего за отчетным года) (рассчитывается Министерством образования и науки Российской Федерации); | K5: численность детей в возрасте 5-7 лет, обучающихся в образовательных организациях, реализующих образовательные программы начального общего образования (без учащихся 1-х классов, организованных в дошкольных образовательных организациях, обучающихся по образовательным программам начального общего образования). | L5: численность воспитанников частных образовательных организаций (включая филиалы), реализующих образовательные программы дошкольного образования; | M5: численность воспитанников образовательных организаций (включая филиалы), реализующих образовательные программы дошкольного образования - всего. | N5: численность воспитанников образовательных организаций (включая филиалы), реализующих образовательные программы дошкольного образования, обучающихся в группах кратковременного пребывания; | O5: численность воспитанников образовательных организаций (включая филиалы), реализующих образовательные программы дошкольного образования. | P5: численность воспитанников образовательных организаций (включая филиалы), реализующих образовательные программы дошкольного образования; | Q5: численность педагогических работников (без внешних совместителей) образовательных организаций (включая филиалы), реализующих образовательные программы дошкольного образования. | R5: фонд начисленной заработной платы педагогических работников списочного состава (без внешних совместителей) государственных и муниципальных образовательных организаций (включая филиалы), реализующих образовательные программы дошкольного образования - всего; | S5: фонд начисленной заработной платы педагогических работников списочного состава (без внешних совместителей) государственных и муниципальных образовательных организаций (включая филиалы), реализующих образовательные программы начального общего, основного общего и среднего общего образования - всего; | T5: средняя численность педагогических работников (без внешних совместителей) государственных и муниципальных образовательных организаций (включая филиалы), реализующих образовательные программы дошкольного образования; | U5: средняя численность педагогических работников (без внешних совместителей) государственных и муниципальных образовательных организаций (включая филиалы), реализующих образовательные программы начального общего, основного общего и среднего общего образования. | V5: общая площадь помещений, реально используемых непосредственно для нужд дошкольных образовательных организаций (включая филиалы; без учета организаций, деятельность которых приостановлена; без учета площади помещений, сданных в аренду (субаренду); | W5: численность воспитанников дошкольных образовательных организаций (включая филиалы). | X5: число дошкольных образовательных организаций с учетом находящихся на капитальном ремонте (включая филиалы), имеющих водоснабжение; | Y5: число дошкольных образовательных организаций с учетом находящихся на капитальном ремонте (включая филиалы), имеющих центральное отопление; | Z5: число дошкольных образовательных организаций с учетом находящихся на капитальном ремонте (включая филиалы), имеющих канализацию; | AA5: число дошкольных образовательных организаций с учетом находящихся на капитальном ремонте (включая филиалы). | AB5: число дошкольных образовательных организаций с учетом находящихся на капитальном ремонте (включая филиалы), имеющих физкультурные залы; | AC5: число дошкольных образовательных организаций с учетом находящихся на капитальном ремонте (включая филиалы); | AD5: число дошкольных образовательных организаций (включая филиалы), имеющих закрытые плавательные бассейны; | AE5: число дошкольных образовательных организаций (включая филиалы). | AF5: число персональных компьютеров в дошкольных образовательных организациях, с учетом находящихся на капитальном ремонте, доступных для использования детьми (включая филиалы); | AG5: Численность воспитанников дошкольных образовательных организаций (включая филиалы) в возрасте 3 года и старше. | AH5: численность детей с ограниченными возможностями здоровья, обучающихся в образовательных организациях (включая филиалы), реализующих образовательные программы дошкольного образования; | AI5: численность воспитанников образовательных организаций (включая филиалы), реализующих образовательные программы дошкольного образования. | AJ5: численность детей-инвалидов, обучающихся в образовательных организациях (включая филиалы), реализующих образовательные программы дошкольного образования; | AK5: численность воспитанников образовательных организаций (включая филиалы), реализующих образовательные программы дошкольного образования. | AL5: число дней, пропущенных воспитанниками образовательных организаций (включая филиалы), реализующих образовательные программы дошкольного образования, по болезни; | AM5: среднегодовая численность воспитанников образовательных организаций (включая филиалы), реализующих образовательные программы дошкольного образования. | AN5: число дошкольных образовательных организаций с учетом находящихся на капитальном ремонте (без учета филиалов) в отчетном году t; | AO5: число дошкольных образовательных организаций с учетом находящихся на капитальном ремонте (без учета филиалов) в году t-1, предшествовавшем отчетному году t. | AP5: общий объем финансирования дошкольных образовательных организаций (включая филиалы); | AQ5: среднегодовая численность воспитанников дошкольных образовательных организаций (включая филиалы). | AR5: объем финансовых средств от приносящей доход деятельности (внебюджетных средств), поступивших в дошкольные образовательные организации (включая филиалы); | AS5: общий объем финансирования дошкольных образовательных организаций (включая филиалы). | AT5: число дошкольных образовательных организаций с учетом находящихся на капитальном ремонте (включая филиалы), здания которых находятся в аварийном состоянии; | AU5: число дошкольных образовательных организаций с учетом находящихся на капитальном ремонте (включая филиалы). | AV5: число дошкольных образовательных организаций (включая филиалы), здания которых требуют капитального ремонта; | AW5: Ч - число дошкольных образовательных организаций (включая филиалы). | AX5: численность обучающихся образовательных организаций (включая филиалы), реализующих образовательные программы начального общего, основного общего и среднего общего образования (за исключением вечерних (сменных) общеобразовательных организаций); | AY5: численность обучающихся вечерних (сменных) общеобразовательных организаций (включая филиалы); | AZ5: численность обучающихся в отделениях на базе основного общего образования образовательных организаций, реализующих образовательные программы среднего профессионального образования; | BA5: численность обучающихся, осваивающих образовательные программы на базе основного общего образования в образовательных организациях, реализующих образовательные программы среднего профессионального образования; | BB5: численность постоянного населения в возрасте 7-17 лет (на 1 января следующего за отчетным года). | BC5: численность обучающихся образовательных организаций (включая филиалы), реализующих образовательные программы начального общего, основного общего и среднего общего образования (без вечерних (сменных) общеобразовательных организаций), осваивающих образовательные программы, соответствующие требованиям федеральных государственных образовательных стандартов начального общего, основного общего и среднего общего образования; | BD5: численность учащихся образовательных организаций (включая филиалы), реализующих образовательные программы начального общего, основного общего и среднего общего образования (без вечерних (сменных) общеобразовательных организаций). | BE5: численность респондентов (родителей учащихся общеобразовательных организаций), выбравших при ответе на вопрос анкеты "Рассматривали ли Вы при поступлении в данную школу наряду с ней другие возможные варианты или нет? (отметьте, пожалуйста, один ответ)" вариант "Нет, т.к. она единственная в нашем населенном пункте" (Социологический опрос родителей учащихся общеобразовательных организаций); | BF5: численность респондентов (родителей учащихся общеобразовательных организаций), отвечавших на вопрос анкеты "Рассматривали ли Вы при поступлении в данную школу наряду с ней другие возможные варианты или нет? (отметьте, пожалуйста, один ответ)" (Социологический опрос родителей учащихся общеобразовательных организаций). | BG5: численность учащихся (без учащихся 1-х классов, организованных в дошкольных образовательных организациях, обучающихся по образовательным программам начального общего образования) образовательных организаций (включая филиалы), реализующих образовательные программы начального общего, основного общего и среднего общего образования, занимающихся во вторую смену; | BH5: численность учащихся (без учащихся 1-х классов, организованных в дошкольных образовательных организациях, обучающихся по образовательным программам начального общего образования) образовательных организаций (включая филиалы), реализующих образовательные программы начального общего, основного общего и среднего общего образования, занимающихся в третью смену; | BI5: численность учащихся (без учащихся 1-х классов, организованных в дошкольных образовательных организациях, обучающихся по образовательным программам начального общего образования) образовательных организаций (включая филиалы), реализующих образовательные программы начального общего, основного общего и среднего общего образования. | BJ5: численность учащихся (без учащихся 1-х классов, организованных в дошкольных образовательных организациях, обучающихся по образовательным программам начального общего образования) общеобразовательных организаций (включая филиалы; без вечерних (сменных) общеобразовательных организаций) с углубленным изучением отдельных предметов; | BK5: численность учащихся (без учащихся 1-х классов, организованных в дошкольных образовательных организациях, обучающихся по образовательным программам начального общего образования) общеобразовательных организаций (включая (филиалы: без вечерних (сменных) общеобразовательных организаций). | BL5: численность учащихся образовательных организаций (включая филиалы), реализующих образовательные программы начального общего, основного общего и среднего общего образования (за исключением вечерних (сменных) общеобразовательных организаций). | BM5: численность педагогических работников (без внешних совместителей) образовательных организаций (включая филиалы), реализующих образовательные программы начального общего, основного общего и среднего общего образования (за исключением вечерних (сменных) общеобразовательных организаций). | BN5: численность учителей (без внешних совместителей) образовательных организаций (включая филиалы), реализующих образовательные программы начального общего, основного общего и среднего общего образования (без вечерних (сменных) общеобразовательных организаций) в возрасте до 35 лет; | BO5: общая численность учителей (без внешних совместителей) образовательных организаций (включая филиалы), реализующих образовательные программы начального общего, основного общего и среднего общего образования (без вечерних (сменных) общеобразовательных организаций). | BP5: фонд начисленной заработной платы педагогических работников списочного состава (без внешних совместителей) государственных и муниципальных образовательных организаций (включая филиалы), реализующих образовательные программы начального общего, основного общего и среднего общего образования - всего; | BQ5: фонд начисленной заработной платы учителей списочного состава (без внешних совместителей) государственных и муниципальных образовательных организаций (включая филиалы), реализующих образовательные программы начального общего, основного общего и среднего общего образования - всего; | BR5: средняя численность педагогических работников (без внешних совместителей) государственных и муниципальных образовательных организаций (включая филиалы), реализующих образовательные программы начального общего, основного общего и среднего общего образования; | BS5: средняя численность учителей (без внешних совместителей) государственных и муниципальных образовательных организаций (включая филиалы), реализующих образовательные программы начального общего, основного общего и среднего общего образования; | BT5: среднемесячная номинальная начисленная заработная плата в субъекте Российской Федерации. | BU5: общая площадь помещений общеобразовательных организаций (включая филиалы; без учета находящихся на капитальном ремонте; без вечерних (сменных) общеобразовательных организаций); | BV5: общая площадь помещений вечерних (сменных) общеобразовательных организаций (включая филиалы); | BW5: численность учащихся (без учащихся 1-х классов, организованных в дошкольных образовательных организациях, обучающихся по образовательным программам начального общего образования) общеобразовательных организаций (включая филиалы; без вечерних (сменных) общеобразовательных организаций); | BX5: численность учащихся (без учащихся 1-х классов, организованных в дошкольных образовательных организациях, обучающихся по образовательным программам начального общего образования) общеобразовательных организаций (включая филиалы; без вечерних (сменных) общеобразовательных организаций), занимающихся во вторую смену; | BY5: численность учащихся (без учащихся 1-х классов, организованных в дошкольных образовательных организациях, обучающихся по образовательным программам начального общего образования) общеобразовательных организаций (включая филиалы; без вечерних (сменных) общеобразовательных организаций), занимающихся в третью смену; | BZ5: численность учащихся вечерних (сменных) общеобразовательных организаций (включая филиалы), обучающихся по очной форме обучения; | CA5: численность учащихся вечерних (сменных) общеобразовательных организаций (включая филиалы), обучающихся по заочной форме обучения. | CB5: число общеобразовательных организаций включая филиалы; без учета находящихся на капитальном ремонте; без вечерних (сменных) общеобразовательных организаций), имеющих канализацию | CC5: число общеобразовательных организаций включая филиалы; без учета находящихся на капитальном ремонте; без вечерних (сменных) общеобразовательных организаций), имеющих центральное отопление | CD5: число общеобразовательных организаций включая филиалы; без учета находящихся на капитальном ремонте; без вечерних (сменных) общеобразовательных организаций), имеющих водопровод | CE5: число вечерних (сменных) общеобразовательных организаций (включая филиалы), имеющих канализацию | CF5: число вечерних (сменных) общеобразовательных организаций (включая филиалы), имеющих центральное отопление | CG5: число вечерних (сменных) общеобразовательных организаций (включая филиалы), имеющих водопровод | CH5: число общеобразовательных организаций (включая филиалы; без учета находящихся на капитальном ремонте; без вечерних (сменных) общеобразовательных организаций); | CI5: число вечерних (сменных) общеобразовательных организаций (включая филиалы). | CJ5: число компьютеров, используемых в учебных целях, в общеобразовательных организациях (включая филиалы; без учета находящихся на капитальном ремонте; без вечерних (сменных) общеобразовательных организаций); | CK5: число компьютеров, используемых в учебных целях, имеющих доступ к Интернету, в общеобразовательных организациях (включая филиалы; без учета находящихся на капитальном ремонте; без вечерних (сменных) общеобразовательных организаций); | CL5: число компьютеров, используемых в учебных целях, в вечерних (сменных) общеобразовательных организациях (включая филиалы); | CM5: число компьютеров, используемых в учебных целях, имеющих доступ к Интернету, в вечерних (сменных) общеобразовательных организациях (включая филиалы); | CN5: численность учащихся (без учащихся 1-х классов, организованных в дошкольных образовательных организациях, обучающихся по образовательным программам начального общего образования) общеобразовательных организаций (включая филиалы: без вечерних (сменных) общеобразовательных организаций); | CO5: численность учащихся вечерних (сменных) общеобразовательных организаций (включая филиалы). | CP5: число общеобразовательных организаций (включая филиалы; без учета находящихся на капитальном ремонте; без вечерних (сменных) общеобразовательных организаций), имеющих скорость подключения к сети Интернет от 1 Мбит/с и выше; | CQ5: число вечерних (сменных) общеобразовательных организациях (включая филиалы), имеющих скорость подключения к сети Интернет от 1 Мбит/с и выше; | CR5: число общеобразовательных организаций (включая филиалы; без учета находящихся на капитальном ремонте; без вечерних (сменных) общеобразовательных организаций); | CS5: число вечерних (сменных) общеобразовательных организаций (включая филиалы). | CT5: численность обучающихся с ограниченными возможностями здоровья в классах, не являющихся специальными (коррекционными), образовательных организаций (включая филиалы), реализующих образовательные программы начального общего, основного общего и среднего общего образования (без вечерних (сменных) общеобразовательных организаций). Показывается численность обучающихся с ограниченными возможностями здоровья в образовательных организациях (включая филиалы), реализующих образовательные программы начального общего, основного общего и среднего общего образования (без вечерних (сменных) общеобразовательных организаций), исключая специальные (коррекционные) образовательные организации и классы для обучающихся, воспитанников с ограниченными возможностями здоровья | CU5: численность обучающихся с ограниченными возможностями здоровья в образовательных организациях (включая филиалы), реализующих образовательные программы начального общего, основного общего и среднего общего образования (без вечерних (сменных) общеобразовательных организаций). | CV5: численность детей-инвалидов, обучающихся в классах, не являющихся специальными (коррекционными), образовательных организаций (включая филиалы), реализующих образовательные программы начального общего, основного общего и среднего общего образования (без вечерних (сменных) общеобразовательных организаций). Показывается численность детей-инвалидов, обучающихся в образовательных организациях (включая филиалы), реализующих образовательные программы начального общего, основного общего и среднего общего образования (без вечерних (сменных) общеобразовательных организаций), исключая специальные (коррекционные) образовательные организации и классы для обучающихся, воспитанников с ограниченными возможностями здоровья; | CW5: численность детей-инвалидов, обучающихся в образовательных организациях (включая филиалы), реализующих образовательные программы начального общего, основного общего и среднего общего образования (без вечерних (сменных) общеобразовательных организаций). | CX5: среднее значение количества баллов по ЕГЭ (в расчете на один предмет), полученных выпускниками, завершившими обучение по образовательным программам среднего общего образования, 10% образовательных организаций, реализующих образовательные программы среднего общего образования, с лучшими результатами ЕГЭ (база данных результатов ЕГЭ); | CY5: среднее значение количества баллов по ЕГЭ (в расчете на один предмет), полученных выпускниками, завершившими обучение по образовательным программам среднего общего образования, 10% образовательных организаций, реализующих образовательные программы среднего общего образования, с худшими результатами ЕГЭ (база данных результатов ЕГЭ). | CZ5: среднее значение тестовых баллов, полученных выпускниками, завершившими обучение по образовательным программам среднего общего образования, по результатам ЕГЭ по предмету русский язык | DA5: среднее значение тестовых баллов, полученных выпускниками, завершившими обучение по образовательным программам среднего общего образования, по результатам ЕГЭ по предмету математика | DB5: среднее значение тестовых баллов, полученных выпускниками, завершившими обучение по образовательным программам основного общего образования, по результатам ГИА по предмету русский язык | DC5: среднее значение тестовых баллов, полученных выпускниками, завершившими обучение по образовательным программам основного общего образования, по результатам ГИА по предмету математика | DD5: доля получивших ниже минимального количества баллов среди выпускников, завершивших обучение по программам среднего общего образования, по результатам ЕГЭ по предмету русский язык | DE5: доля получивших ниже минимального количества баллов среди выпускников, завершивших обучение по программам среднего общего образования, по результатам ЕГЭ по предмету математика | DF5: доля получивших ниже минимального количества баллов среди выпускников 9-х классов образовательных организаций, реализующих образовательные программы основного общего образования по результатам ГИА по предмету русский язык | DG5: доля получивших ниже минимального количества баллов среди выпускников 9-х классов образовательных организаций, реализующих образовательные программы основного общего образования по результатам ГИА по предмету | DH5: численность обучающихся (без учащихся 1-х классов, организованных в дошкольных образовательных организациях, обучающихся по образовательным программам начального общего образования) общеобразовательных организаций (включая филиалы; за исключением вечерних (сменных) общеобразовательных организаций), пользующихся горячим питанием; | DI5: численность обучающихся вечерних (сменных) общеобразовательных организаций (включая филиалы), пользующихся горячим питанием; | DJ5: Численность обучающихся (без учащихся 1-х классов, организованных в дошкольных образовательных организациях, обучающихся по образовательным программам начального общего образования) общеобразовательных организаций (включая филиалы; за исключением вечерних (сменных) общеобразовательных организаций); | DK5: численность обучающихся вечерних (сменных) общеобразовательных организаций (включая филиалы). | DL5: число общеобразовательных организаций (включая филиалы), имеющих логопедический пункт или логопедический кабинет (без вечерних (сменных) общеобразовательных организаций); | DM5: число общеобразовательных организаций (включая филиалы; без учета находящихся на капитальном ремонте; без вечерних (сменных) общеобразовательных организаций). | DN5: число общеобразовательных организаций (включая филиалы; без учета находящихся на капитальном ремонте; без вечерних (сменных) общеобразовательных организаций), имеющих физкультурные залы; | DO5: число вечерних (сменных) общеобразовательных организаций (включая филиалы), имеющих физкультурные залы; | DP5: число общеобразовательных организаций (включая филиалы; без учета находящихся на капитальном ремонте; без вечерних (сменных) общеобразовательных организаций); | DQ5: число вечерних (сменных) общеобразовательных организаций (включая филиалы). | DR5: число общеобразовательных организаций (включая филиалы; без учета находящихся на капитальном ремонте; без вечерних (сменных) общеобразовательных организаций), имеющих плавательные бассейны; | DS5: число вечерних (сменных) общеобразовательных организаций (включая филиалы), имеющих плавательные бассейны; | DT5: число общеобразовательных организаций (включая филиалы; без учета находящихся на капитальном ремонте; без вечерних (сменных) общеобразовательных организаций); | DU5: число вечерних (сменных) общеобразовательных организаций (включая филиалы); | DV5: число общеобразовательных организаций (включая филиалы; без учета находящихся на капитальном ремонте; без вечерних (сменных) общеобразовательных организаций) в отчетном году t; | DW5: число вечерних (сменных) общеобразовательных организаций (включая филиалы) в отчетном году t; | DX5: число общеобразовательных организаций (включая филиалы; без учета находящихся на капитальном ремонте; без вечерних (сменных) общеобразовательных организаций) в году t-1, предшествовавшем отчетному году t; | DY5: число вечерних (сменных) общеобразовательных организаций (включая филиалы) в году t-1, предшествовавшем отчетному году t. | DZ5: объем финансирования государственных и муниципальных общеобразовательных организаций (включая филиалы); | EA5: объем финансирования частных общеобразовательных организаций (включая филиалы); | EB5: среднегодовая численность учащихся государственных и муниципальных общеобразовательных организаций (включая филиалы); | EC5: среднегодовая численность учащихся частных общеобразовательных организаций (включая филиалы). | ED5: объем средств от приносящей доход деятельности (внебюджетных средств), поступивших в государственные и муниципальные общеобразовательные организации (включая филиалы); | EE5: объем средств от приносящей доход деятельности (внебюджетных средств), поступивших в частные общеобразовательные организации (включая филиалы); | EF5: общий объем финансирования государственных и муниципальных общеобразовательных организаций (включая филиалы); | EG5: общий объем финансирования частных общеобразовательных организаций (включая филиалы). | EH5: число общеобразовательных организаций (включая филиалы; без учета находящихся на капитальном ремонте; без вечерних (сменных) общеобразовательных организаций), имеющих пожарные краны и рукава; | EI5: число вечерних (сменных) общеобразовательных организаций (включая филиалы), имеющих пожарные краны и рукава; | EJ5: число общеобразовательных организаций (включая филиалы; без учета находящихся на капитальном ремонте; без вечерних (сменных) общеобразовательных организаций); | EK5: число вечерних (сменных) общеобразовательных организаций (включая филиалы). | EL5: число общеобразовательных организаций (включая филиалы; без учета находящихся на капитальном ремонте; без вечерних (сменных) общеобразовательных организаций), имеющих дымовые извещатели; | EM5: число вечерних (сменных) общеобразовательных организаций (включая филиалы), имеющих дымовые извещатели; | EN5: число общеобразовательных организаций (включая филиалы; без учета находящихся на капитальном ремонте; без вечерних (сменных) общеобразовательных организаций); | EO5: число вечерних (сменных) общеобразовательных организаций (включая филиалы). | EP5: число общеобразовательных организаций (включая филиалы; без учета находящихся на капитальном ремонте; без вечерних (сменных) общеобразовательных организаций), имеющих "тревожную кнопку"; | EQ5: число вечерних (сменных) общеобразовательных организаций (включая филиалы), имеющих "тревожную кнопку"; | ER5: число общеобразовательных организаций (включая филиалы; без учета находящихся на капитальном ремонте; без вечерних (сменных) общеобразовательных организаций); | ES5: число вечерних (сменных) общеобразовательных организаций (включая филиалы). | ET5: число общеобразовательных организаций (включая филиалы; без учета находящихся на капитальном ремонте; без вечерних (сменных) общеобразовательных организаций), имеющих охрану; | EU5: число вечерних (сменных) общеобразовательных организаций (включая филиалы), имеющих охрану; | EV5: число общеобразовательных организаций (включая филиалы; без учета находящихся на капитальном ремонте; без вечерних (сменных) общеобразовательных организаций); | EW5: число вечерних (сменных) общеобразовательных организаций (включая филиалы). | EX5: число общеобразовательных организаций (включая филиалы; без учета находящихся на капитальном ремонте; без вечерних (сменных) общеобразовательных организаций), имеющих систему видеонаблюдения; | EY5: число вечерних (сменных) общеобразовательных организаций (включая филиалы), имеющих систему видеонаблюдения; | EZ5: число общеобразовательных организаций (включая филиалы; без учета находящихся на капитальном ремонте; без вечерних (сменных) общеобразовательных организаций); | FA5: число вечерних (сменных) общеобразовательных организаций (включая филиалы). | FB5: число общеобразовательных организаций (включая филиалы; без учета находящихся на капитальном ремонте; без вечерних (сменных) общеобразовательных организаций), здания которых находятся в аварийном состоянии; | FC5: число вечерних (сменных) общеобразовательных организаций, здания которых находятся в аварийном состоянии (включая филиалы); | FD5: число общеобразовательных организаций (включая филиалы; без учета находящихся на капитальном ремонте; без вечерних (сменных) общеобразовательных организаций); | FE5: число вечерних (сменных) общеобразовательных организаций (включая филиалы). | FF5: число общеобразовательных организаций (включая филиалы; без учета находящихся на капитальном ремонте; без вечерних (сменных) общеобразовательных организаций), здания которых требуют капитального ремонта; | FG5: число вечерних (сменных) общеобразовательных организаций (включая филиалы), здания которых требуют капитального ремонта; | FH5: число общеобразовательных организаций (включая филиалы; без учета находящихся на капитальном ремонте; без вечерних (сменных) общеобразовательных организаций); | FI5: число вечерних (сменных) общеобразовательных организаций (включая филиалы).
A6: Муниципальный район | B6: Наименование ОО по уставу | C6: Адрес | D6: E-mail | E6: Ответственный координатор | F6: Контактный телефон | G6: ЧВ(до) | H6: ЧД(у) | I6: Ч(до) | J6: Н | K6: С(1) | L6: В(дн) | M6: В(д) | N6: ЧВ(кп) | O6: ЧВ | P6: Ч(до) | Q6: ПР(до) | R6: ФОТ(1) | S6: ФОТ(2) | T6: Ч(сп1) | U6: Ч(сп2) | V6: П(л) | W6: ЧВ | X6: Ч(в) | Y6: Ч(ЦО) | Z6: Ч(к) | AA6: Ч | AB6: Ч(фз) | AC6: Ч | AD6: Ч(бас) | AE6: Ч | AF6: ЧК | AG6: ЧВ | AH6: ЧВ(овз) | AI6: ЧВ | AJ6: Ч(инв) | AK6: ЧВ | AL6: Д | AM6: ЧВ | AN6: Ч(до) | AO6: Ч(до)(-1) | AP6: ОС | AQ6: ЧВ | AR6: ВБС | AS6: ОС | AT6: Ч(а) | AU6: Ч | AV6: Ч(кр) | AW6: Ч | AX6: ЧУ(дн) | AY6: ЧУ(веч) | AZ6: ЧО(рс) | BA6: ЧО(ссз) | BB6: Н(7-17) | BC6: ЧУ(фгос) | BD6: ЧУ | BE6: ЧР(ов) | BF6: ЧР | BG6: ЧУ(II) | BH6: ЧУ(III) | BI6: ЧУ | BJ6: ЧУ | BK6: ЧУ(оо) | BL6: ЧУ | BM6: ПР | BN6: У(35) | BO6: У | BP6: ФОТ(пр) | BQ6: ФОТ(у) | BR6: Ч(сп,пр) | BS6: Ч(сп,у) | BT6: З(э) | BU6: Пл(дн) | BV6: Пл(веч) | BW6: ЧУ(дн) | BX6: ЧУ(дн,II) | BY6: ЧУ(дн,III) | BZ6: ЧУ(веч,оч) | CA6: ЧУ(веч,заоч) | CB6: Ч(дн,к) | CC6: Ч(дн,цо) | CD6: Ч(дн,в) | CE6: Ч(веч,к) | CF6: Ч(веч,цо) | CG6: Ч(веч,в) | CH6: Ч(дн) | CI6: Ч(веч) | CJ6: ЧК(дн) | CK6: ЧК(дн,и) | CL6: ЧК(веч) | CM6: ЧК(веч,и) | CN6: ЧУ(дн) | CO6: ЧУ(веч) | CP6: ЧС(дн) | CQ6: ЧС(веч) | CR6: Ч(дн) | CS6: Ч(веч) | CT6: ЧУ(овз,об) | CU6: ЧУ(овз) | CV6: ЧУ(инв,об) | CW6: ЧУ(инв) | CX6: СБ(егэ,10л) | CY6: СБ(егэ,10х) | CZ6: СБ(егэ,1) | DA6: СБ(егэ,2) | DB6: СБ(гиа,1) | DC6: СБ(гиа,2) | DD6: М(егэ,1) | DE6: М(егэ,2) | DF6: М(гиа,1) | DG6: М(гиа,2) | DH6: ЧУ(дн,гп) | DI6: ЧУ(веч,гп) | DJ6: ЧУ(дн) | DK6: ЧУ(веч) | DL6: Ч(лпк) | DM6: Ч | DN6: Ч(дн,фз) | DO6: Ч(веч,фз) | DP6: Ч(дн) | DQ6: Ч(веч) | DR6: Ч(дн,бас) | DS6: Ч(веч, бас) | DT6: Ч(дн) | DU6: Ч(веч) | DV6: Ч(дн) | DW6: Ч(веч) | DX6: Ч(дн)(-1) | DY6: Ч(веч)(-1) | DZ6: ОФ(гм) | EA6: ОФ(нг) | EB6: ЧУ(гм) | EC6: ЧУ(нг) | ED6: ВБС(гм) | EE6: ВБС(нг) | EF6: ОС(гм) | EG6: ОС(нг) | EH6: Ч(дн,пкр) | EI6: Ч(веч,пкр) | EJ6: Ч(дн) | EK6: Ч(веч) | EL6: Ч(дн,ди) | EM6: Ч(веч,ди) | EN6: Ч(дн) | EO6: Ч(веч) | EP6: Ч(дн,тк) | EQ6: Ч(веч,тк) | ER6: Ч(дн) | ES6: Ч(веч) | ET6: Ч(дн,охр) | EU6: Ч(веч,охр) | EV6: Ч(дн) | EW6: Ч(веч) | EX6: Ч(дн,вн) | EY6: Ч(веч,вн) | EZ6: Ч(дн) | FA6: Ч(веч) | FB6: Ч(дн,а) | FC6: Ч(веч,а) | FD6: Ч(дн) | FE6: Ч(веч) | FF6: Ч(дн,кр) | FG6: Ч(веч,кр) | FH6: Ч(дн) | FI6: Ч(веч)
A7: Кочкуровский муниципальный район | B7: МКУ "Центр информационно-методического и технического обеспечения муниципальных учреждений" Кочкуровского муниципального района | C7: 431580, Кочкуровский район, село Кочкурово, улица Советская, д.16 | D7: metod239@mail.ru | E7: Червякова Татьяна Ивановна | F7: 8 (83439)21233 | G7: 194 | H7: 18 | I7: 247 | J7: 574 | K7: 106 | L7: 0 | M7: 247 | N7: 15 | O7: 247 | P7: 247 | Q7: 34 | R7: 7172.6 | S7: 29760 | T7: 34 | U7: 107 | V7: 5741 | W7: 247 | X7: 3 | Y7: 3 | Z7: 3 | AA7: 3 | AB7: 3 | AC7: 3 | AD7: 1 | AE7: 3 | AF7: 16 | AG7: 194 | AH7: 2 | AI7: 247 | AJ7: 2 | AK7: 247 | AL7: 2464 | AM7: 235 | AN7: 3 | AO7: 3 | AP7: 26337.1 | AQ7: 235 | AR7: 0 | AS7: 26337.1 | AT7: 0 | AU7: 3 | AV7: 0 | AW7: 3 | AX7: 555 | AY7: 0 | AZ7: 0 | BA7: 0 | BB7: 831 | BC7: 249 | BD7: 555 | BE7: 0 | BF7: 0 | BG7: 0 | BH7: 0 | BI7: 555 | BJ7: 0 | BK7: 555 | BL7: 555 | BM7: 107 | BN7: 12 | BO7: 103 | BP7: 29760 | BQ7: 24727.4 | BR7: 107 | BS7: 103 | BT7: 22773.2 | BU7: 15463 | BV7: 0 | BW7: 249 | BX7: 0 | BY7: 0 | BZ7: 0 | CA7: 0 | CB7: 7 | CC7: 7 | CD7: 7 | CE7: 0 | CF7: 0 | CG7: 0 | CH7: 7 | CI7: 0 | CJ7: 58 | CK7: 34 | CL7: 0 | CM7: 0 | CN7: 249 | CO7: 0 | CP7: 0 | CQ7: 0 | CR7: 7 | CS7: 0 | CT7: 9 | CU7: 9 | CV7: 9 | CW7: 9 | CZ7: 54 | DA7: 30 | DB7: 4 | DC7: 4 | DD7: 8.3 | DE7: 12.5 | DF7: 0 | DG7: 0 | DH7: 536 | DI7: 0 | DJ7: 555 | DK7: 0 | DL7: 1 | DM7: 7 | DN7: 7 | DO7: 0 | DP7: 7 | DQ7: 0 | DR7: 0 | DS7: 0 | DT7: 7 | DU7: 0 | DV7: 7 | DW7: 0 | DX7: 7 | DY7: 0 | DZ7: 69253.7 | EA7: 0 | EB7: 572 | EC7: 0 | ED7: 69253.7 | EE7: 0 | EF7: 69253.7 | EG7: 0 | EH7: 2 | EI7: 0 | EJ7: 7 | EK7: 0 | EL7: 7 | EM7: 0 | EN7: 7 | EO7: 0 | EP7: 7 | EQ7: 0 | ER7: 7 | ES7: 0 | ET7: 7 | EU7: 0 | EV7: 7 | EW7: 0 | EX7: 5 | EY7: 0 | EZ7: 7 | FA7: 0 | FB7: 0 | FC7: 0 | FD7: 7 | FE7: 0 | FF7: 2 | FG7: 0 | FH7: 7 | FI7: 0

Sheet Лист2
A1: =(Лист1!R7/Лист1!T7/12)*1000 -> 17579.902 | B1: =(Лист1!S7/Лист1!U7/12)*1000 -> 23177.57 | C1: =((Лист1!BP7/Лист1!BR7)/12)*1000 -> 23177.57 | D1: =((Лист1!BQ7/Лист1!BS7)/12)*1000 -> 20005.987
A2: =(Лист1!R8/Лист1!T8/12)*1000 -> #DIV/0! | B2: =(Лист1!S8/Лист1!U8/12)*1000 -> #DIV/0! | C2: =((Лист1!BP8/Лист1!BR8)/12)*1000 -> #DIV/0! | D2: =((Лист1!BQ8/Лист1!BS8)/12)*1000 -> #DIV/0!
A3: =(Лист1!R9/Лист1!T9/12)*1000 -> #DIV/0! | B3: =(Лист1!S9/Лист1!U9/12)*1000 -> #DIV/0! | C3: =((Лист1!BP9/Лист1!BR9)/12)*1000 -> #DIV/0! | D3: =((Лист1!BQ9/Лист1!BS9)/12)*1000 -> #DIV/0!
A4: =(Лист1!R10/Лист1!T10/12)*1000 -> #DIV/0! | B4: =(Лист1!S10/Лист1!U10/12)*1000 -> #DIV/0! | C4: =((Лист1!BP10/Лист1!BR10)/12)*1000 -> #DIV/0! | D4: =((Лист1!BQ10/Лист1!BS10)/12)*1000 -> #DIV/0!
A5: =(Лист1!R11/Лист1!T11/12)*1000 -> #DIV/0! | B5: =(Лист1!S11/Лист1!U11/12)*1000 -> #DIV/0! | C5: =((Лист1!BP11/Лист1!BR11)/12)*1000 -> #DIV/0! | D5: =((Лист1!BQ11/Лист1!BS11)/12)*1000 -> #DIV/0!
A6: =(Лист1!R12/Лист1!T12/12)*1000 -> #DIV/0! | B6: =(Лист1!S12/Лист1!U12/12)*1000 -> #DIV/0! | C6: =((Лист1!BP12/Лист1!BR12)/12)*1000 -> #DIV/0! | D6: =((Лист1!BQ12/Лист1!BS12)/12)*1000 -> #DIV/0!
A7: =(Лист1!R13/Лист1!T13/12)*1000 -> #DIV/0! | B7: =(Лист1!S13/Лист1!U13/12)*1000 -> #DIV/0! | C7: =((Лист1!BP13/Лист1!BR13)/12)*1000 -> #DIV/0! | D7: =((Лист1!BQ13/Лист1!BS13)/12)*1000 -> #DIV/0!
A8: =(Лист1!R14/Лист1!T14/12)*1000 -> #DIV/0! | B8: =(Лист1!S14/Лист1!U14/12)*1000 -> #DIV/0! | C8: =((Лист1!BP14/Лист1!BR14)/12)*1000 -> #DIV/0! | D8: =((Лист1!BQ14/Лист1!BS14)/12)*1000 -> #DIV/0!
A9: =(Лист1!R15/Лист1!T15/12)*1000 -> #DIV/0! | B9: =(Лист1!S15/Лист1!U15/12)*1000 -> #DIV/0! | C9: =((Лист1!BP15/Лист1!BR15)/12)*1000 -> #DIV/0! | D9: =((Лист1!BQ15/Лист1!BS15)/12)*1000 -> #DIV/0!
A10: =(Лист1!R16/Лист1!T16/12)*1000 -> #DIV/0! | B10: =(Лист1!S16/Лист1!U16/12)*1000 -> #DIV/0! | C10: =((Лист1!BP16/Лист1!BR16)/12)*1000 -> #DIV/0! | D10: =((Лист1!BQ16/Лист1!BS16)/12)*1000 -> #DIV/0!
A11: =(Лист1!R17/Лист1!T17/12)*1000 -> #DIV/0! | B11: =(Лист1!S17/Лист1!U17/12)*1000 -> #DIV/0! | C11: =((Лист1!BP17/Лист1!BR17)/12)*1000 -> #DIV/0! | D11: =((Лист1!BQ17/Лист1!BS17)/12)*1000 -> #DIV/0!
A12: =(Лист1!R18/Лист1!T18/12)*1000 -> #DIV/0! | B12: =(Лист1!S18/Лист1!U18/12)*1000 -> #DIV/0! | C12: =((Лист1!BP18/Лист1!BR18)/12)*1000 -> #DIV/0! | D12: =((Лист1!BQ18/Лист1!BS18)/12)*1000 -> #DIV/0!
... A2500: =(Лист1!R2506/Лист1!T2506/12)*1000 -> #DIV/0! | B2500: =(Лист1!S2506/Лист1!U2506/12)*1000 -> #DIV/0! | C2500: =((Лист1!BP2506/Лист1!BR2506)/12)*1000 -> #DIV/0! | D2500: =((Лист1!BQ2506/Лист1!BS2506)/12)*1000 -> #DIV/0!

Sheet Лист3
G1: I. Общее образование
G2: 1. Сведения о развитии дошкольного образования | AB2: 2. Сведения о развитии начального общего образования, основного общего образования и среднего общего образования
G3: 1.1 | J3: 1.2 | K3: 1.3 | M3: 1.4 | T3: 1.5 | V3: 1.6 | W3: 1.7 | X3: 1.8 | Z3: 1.9 | AB3: 2.1 | AE3: 2.2 | AG3: 2.3 | AK3: 2.4 | AR3: 2.5 | AT3: 2.6 | BC3: 2.7 | BG3: 2.8 | BH3: 2.9 | BJ3: 2.10
G4: 1.1.1 | H4: 1.1.2 | I4: 1.1.3 | J4: 1.2.1 | K4: 1.3.1 | L4: 1.3.2 | M4: 1.4.1 | N4: 1.4.2 | Q4: 1.4.3 | R4: 1.4.4 | S4: 1.4.5 | T4: 1.5.1 | U4: 1.5.2 | V4: 1.6.1 | W4: 1.7.1 | X4: 1.8.1 | Y4: 1.8.2 | Z4: 1.9.1 | AA4: 1.9.2 | AB4: 2.1.1 | AC4: 2.1.2 | AD4: 2.1.3 | AE4: 2.2.1 | AF4: 2.2.2 | AG4: 2.3.1 | AH4: 2.3.2 | AI4: 2.3.3 | AK4: 2.4.1 | AL4: 2.4.2 | AO4: 2.4.3 | AQ4: 2.4.4 | AR4: 2.5.1 | AS4: 2.5.2 | AT4: 2.6.1 | AU4: 2.6.2 | AW4: 2.6.3 | AY4: 2.6.4 | BA4: 2.6.5 | BC4: 2.7.1 | BD4: 2.7.2 | BE4: 2.7.3 | BF4: 2.7.4 | BG4: 2.8.1 | BH4: 2.9.1 | BI4: 2.9.2 | BJ4: 2.10.1 | BK4: 2.10.2 | BL4: 2.10.3 | BM4: 2.10.4 | BN4: 2.10.5 | BO4: 2.10.6 | BP4: 2.10.7
G5: Доступность дошкольного образования (отношение численности детей в возрасте от 3 до 7 лет, получивших дошкольное образование в текущем году, к сумме численности детей в возрасте от 3 до 7 лет, получающих дошкольное образование в текущем году и численности детей в возрасте от 3 до 7 лет, находящихся в очереди на получение в текущем году дошкольного образования) | H5: Охват детей дошкольными образовательными организациями (отношение численности детей, посещающих дошкольные образовательные организации, к численности детей в возрасте от 2 месяцев до 7 лет включительно, скорректированной на численность детей соответствующих возрастов, обучающихся в общеобразовательных организациях) | I5: Удельный вес численности воспитанников частных дошкольных образовательных организаций в общей численности воспитанников дошкольных образовательных организаций | J5: Удельный вес численности детей, обучающихся в группах кратковременного пребывания, в общей численности воспитанников дошкольных образовательных организаций | K5: Численность воспитанников организаций дошкольного образования в расчете на 1 педагогического работника | L5: Отношение среднемесячной заработной платы педагогических работников дошкольных образовательных организаций к среднемесячной заработной плате в сфере общего образования в субъекте Российской Федерации (по государственным и муниципальным образовательным организациям) | M5: Площадь помещений, используемых непосредственно для нужд дошкольных образовательных организаций, в расчете на одного воспитанника | N5: Удельный вес числа организаций, имеющих водоснабжение, центральное отопление, канализацию, в общем числе дошкольных образовательных организаций: | Q5: Удельный вес числа организаций, имеющих физкультурные залы, в общем числе дошкольных образовательных организаций | R5: Удельный вес числа организаций, имеющих закрытые плавательные бассейны, в общем числе дошкольных образовательных организаций | S5: Число персональных компьютеров, доступных для использования детьми, в расчете на 100 воспитанников дошкольных образовательных организаций | T5: Удельный вес численности детей с ограниченными возможностями здоровья в общей численности воспитанников дошкольных образовательных организаций | U5: Удельный вес численности детей-инвалидов в общей численности воспитанников дошкольных образовательных организаций | V5: Пропущено дней по болезни одним ребенком в дошкольной образовательной организации в год | W5: Темп роста числа дошкольных образовательных организаций | X5: Общий объем финансовых средств, поступивших в дошкольные образовательные организации, в расчете на одного воспитанника | Y5: Удельный вес финансовых средств от приносящей доход деятельности в общем объеме финансовых средств дошкольных образовательных организаций | Z5: Удельный вес числа организаций, здания которых находятся в аварийном состоянии, в общем числе дошкольных образовательных организаций | AA5: Удельный вес числа организаций, здания которых требуют капитального ремонта, в общем числе дошкольных образовательных организаций | AB5: Охват детей начальным общим, основным общим и средним общим образованием (отношение численности учащихся, осваивающих образовательные программы начального общего, основного общего или среднего общего образования, к численности детей в возрасте 7-17 лет) | AC5: Удельный вес численности учащихся общеобразовательных организаций, обучающихся в соответствии с федеральным государственным образовательным стандартом, в общей численности учащихся общеобразовательных организаций | AD5: Оценка родителями учащихся общеобразовательных организаций возможности выбора общеобразовательной организации (оценка удельного веса численности родителей учащихся, отдавших своих детей в конкретную школу по причине отсутствия других вариантов для выбора, в общей численности родителей учащихся общеобразовательных организаций) | AE5: Удельный вес численности лиц, занимающихся во вторую и третью смены, в общей численности учащихся общеобразовательных организаций | AF5: Удельный вес численности лиц, углубленно изучающих отдельные предметы, в общей численности учащихся общеобразовательных организаций | AG5: Численность учащихся в общеобразовательных организациях в расчете на 1 педагогического работника | AH5: Удельный вес численности учителей в возрасте до 35 лет в общей численности учителей общеобразовательных организаций | AI5: Отношение среднемесячной заработной платы педагогических работников государственных и муниципальных общеобразовательных организаций к среднемесячной заработной плате в субъекте Российской Федерации: педагогических работников - всего; из них учителей | AK5: Общая площадь всех помещений общеобразовательных организаций в расчете на одного учащегося | AL5: Удельный вес числа организаций, имеющих водопровод, центральное отопление, канализацию, в общем числе общеобразовательных организаций: | AO5: Число персональных компьютеров, используемых в учебных целях, в расчете на 100 учащихся общеобразовательных организаций | AQ5: Удельный вес числа общеобразовательных организаций, имеющих скорость подключения к сети Интернет от 1 Мбит/с и выше, в общем числе общеобразовательных организаций, подключенных к сети Интернет | AR5: Удельный вес численности детей с ограниченными возможностями здоровья, обучающихся в классах, не являющихся специальными (коррекционными), общеобразовательных организаций, в общей численности детей с ограниченными возможностями здоровья, обучающихся в общеобразовательных организациях | AS5: Удельный вес численности детей-инвалидов, обучающихся в классах, не являющихся специальными (коррекционными), общеобразовательных организаций, в общей численности детей-инвалидов, обучающихся в общеобразовательных организациях | AT5: Отношение среднего балла единого государственного экзамена (далее - ЕГЭ) (в расчете на 1 предмет) в 10% общеобразовательных организаций с лучшими результатами ЕГЭ к среднему баллу ЕГЭ (в расчете на 1 предмет) в 10% общеобразовательных организаций с худшими результатами ЕГЭ | AU5: Среднее значение количества баллов по ЕГЭ, полученных выпускниками, освоившими образовательные программы среднего общего образования | AW5: Среднее значение количества баллов по государственной итоговой аттестации (далее - ГИА), полученных выпускниками, освоившими образовательные программы основного общего образования | AY5: Удельный вес численности выпускников, освоивших образовательные программы среднего общего образования, получивших количество баллов по ЕГЭ ниже минимального, в общей численности выпускников, освоивших образовательные программы среднего общего образования, сдававших ЕГЭ | BA5: Удельный вес численности выпускников, освоивших образовательные программы основного общего образования, получивших количество баллов по ГИА ниже минимального, в общей численности выпускников, освоивших образовательные программы основного общего образования, сдававших ГИА | BC5: Удельный вес лиц, обеспеченных горячим питанием, в общей численности обучающихся общеобразовательных организаций | BD5: Удельный вес числа организаций, имеющих логопедический пункт или логопедический кабинет, в общем числе общеобразовательных организаций | BE5: Удельный вес числа организаций, имеющих физкультурные залы, в общем числе общеобразовательных организаций | BF5: Удельный вес числа организаций, имеющих плавательные бассейны, в общем числе общеобразовательных организаций | BG5: Темп роста числа общеобразовательных организаций | BH5: Общий объем финансовых средств, поступивших в общеобразовательные организации, в расчете на одного учащегося | BI5: Удельный вес финансовых средств от приносящей доход деятельности в общем объеме финансовых средств общеобразовательных организаций | BJ5: Удельный вес числа организаций, имеющих пожарные краны и рукава, в общем числе общеобразовательных организаций | BK5: Удельный вес числа организаций, имеющих дымовые извещатели, в общем числе общеобразовательных организаций | BL5: Удельный вес числа организаций, имеющих "тревожную кнопку", в общем числе общеобразовательных организаций | BM5: Удельный вес числа организаций, имеющих охрану, в общем числе общеобразовательных организаций | BN5: Удельный вес числа организаций, имеющих систему видеонаблюдения, в общем числе общеобразовательных организаций | BO5: Удельный вес числа организаций, здания которых находятся в аварийном состоянии, в общем числе общеобразовательных организаций | BP5: Удельный вес числа организаций, здания которых требуют капитального ремонта, в общем числе общеобразовательных организаций
A6: =Лист1!A6 -> Муниципальный район | B6: =Лист1!B6 -> Наименование ОО по уставу | C6: =Лист1!C6 -> Адрес | D6: =Лист1!D6 -> E-mail | E6: =Лист1!E6 -> Ответственный координатор | F6: =Лист1!F6 -> Контактный телефон | N6: водоснабжение | O6: центральное отопление | P6: канализацию | AI6: всего | AJ6: из них учителей | AL6: водопровод | AM6: центральное отопление | AN6: канализацию | AO6: всего | AP6: с Интернетом | AU6: русский язык | AV6: математика | AW6: русский язык | AX6: математика | AY6: русский язык | AZ6: математика | BA6: русский язык | BB6: математика
A7: =IF(Лист1!A7<>"",Лист1!A7,"") -> Кочкуровский муниципальный район | B7: =IF(Лист1!B7<>"",Лист1!B7,"") -> МКУ "Центр информационно-методического и технического обеспечения муниципальных учреждений" Кочкуровского муниципального района | C7: =IF(Лист1!C7<>"",Лист1!C7,"") -> 431580, Кочкуровский район, село Кочкурово, улица Советская, д.16 | D7: =IF(Лист1!D7<>"",Лист1!D7,"") -> metod239@mail.ru | E7: =IF(Лист1!E7<>"",Лист1!E7,"") -> Червякова Татьяна Ивановна | F7: =IF(Лист1!F7<>"",Лист1!F7,"") -> 8 (83439)21233 | G7: =(Лист1!G7/(Лист1!G7+Лист1!H7))*100 -> 91.509434 | H7: =(Лист1!I7/(Лист1!J7-Лист1!K7))*100 -> 52.777778 | I7: =(Лист1!L7/Лист1!M7)*100 -> 0 | J7: =(Лист1!N7/Лист1!O7)*100 -> 6.0728745 | K7: =Лист1!P7/Лист1!Q7 -> 7.2647059 | L7: =(Лист2!A1/Лист2!B1)*100 -> 75.848771 | M7: =Лист1!V7/Лист1!W7 -> 23.242915 | N7: =(Лист1!X7/Лист1!$AA7)*100 -> 100 | O7: =(Лист1!Y7/Лист1!$AA7)*100 -> 100 | P7: =(Лист1!Z7/Лист1!$AA7)*100 -> 100 | Q7: =(Лист1!AB7/Лист1!AC7)*100 -> 100 | R7: =(Лист1!AD7/Лист1!AE7)*100 -> 33.333333 | S7: =(Лист1!AF7/Лист1!AG7)*100 -> 8.2474227 | T7: =(Лист1!AH7/Лист1!AI7)*100 -> 0.8097166 | U7: =(Лист1!AJ7/Лист1!AK7)*100 -> 0.8097166 | V7: =Лист1!AL7/Лист1!AM7 -> 10.485106 | W7: =(Лист1!AN7/Лист1!AO7)*100 -> 100 | X7: =Лист1!AP7/Лист1!AQ7 -> 112.07277 | Y7: =(Лист1!AR7/Лист1!AS7)*100 -> 0 | Z7: =(Лист1!AT7/Лист1!AU7)*100 -> 0 | AA7: =(Лист1!AV7/Лист1!AW7)*100 -> 0 | AB7: =((Лист1!AX7+Лист1!AY7+Лист1!AZ7+Лист1!BA7)/Лист1!BB7)*100 -> 66.787004 | AC7: =(Лист1!BC7/Лист1!BD7)*100 -> 44.864865 | AD7: =(Лист1!BE7/Лист1!BF7)*100 -> #DIV/0! | AE7: =(Лист1!BG7+Лист1!BH7)/Лист1!BI7*100 -> 0 | AF7: =Лист1!BJ7/Лист1!BK7*100 -> 0 | AG7: =Лист1!BL7/Лист1!BM7 -> 5.1869159 | AH7: =(Лист1!BN7/Лист1!BO7)*100 -> 11.650485 | AI7: =(Лист2!C1/Лист1!$BT7)*100 -> 101.77564 | AJ7: =(Лист2!D1/Лист1!$BT7)*100 -> 87.848818 | AK7: =(Лист1!BU7+Лист1!BV7)/((Лист1!BW7-Лист1!BX7-Лист1!BY7)+(Лист1!BZ7+0.1*Лист1!CA7)) -> 62.100402 | AL7: =(Лист1!CD7+Лист1!CG7)/(Лист1!CH7+Лист1!CI7)*100 -> 100 | AM7: =(Лист1!CC7+Лист1!CF7)/(Лист1!CH7+Лист1!CI7)*100 -> 100 | AN7: =(Лист1!CB7+Лист1!CE7)/(Лист1!CH7+Лист1!CI7)*100 -> 100 | AO7: =(Лист1!CJ7+Лист1!CL7)/(Лист1!CN7+Лист1!CO7)*100 -> 23.293173 | AP7: =(Лист1!CK7+Лист1!CM7)/(Лист1!CN7+Лист1!CO7)*100 -> 13.654618 | AQ7: =(Лист1!CP7+Лист1!CQ7)/(Лист1!CR7+Лист1!CS7)*100 -> 0 | AR7: =(Лист1!CT7/Лист1!CU7)*100 -> 100 | AS7: =(Лист1!CV7/Лист1!CW7)*100 -> 100 | AT7: =Лист1!CX7/Лист1!CY7 -> #DIV/0! | AU7: =Лист1!CZ7 -> 54 | AV7: =Лист1!DA7 -> 30 | AW7: =Лист1!DB7 -> 4 | AX7: =Лист1!DC7 -> 4 | AY7: =Лист1!DD7 -> 8.3 | AZ7: =Лист1!DE7 -> 12.5 | BA7: =Лист1!DF7 -> 0 | BB7: =Лист1!DG7 -> 0 | BC7: =(Лист1!DH7+Лист1!DI7)/(Лист1!DJ7+Лист1!DK7)*100 -> 96.576577 | BD7: =(Лист1!DL7/Лист1!DM7)*100 -> 14.285714 | BE7: =(Лист1!DN7+Лист1!DO7)/(Лист1!DP7+Лист1!DQ7)*100 -> 100 | BF7: =(Лист1!DR7+Лист1!DS7)/(Лист1!DT7+Лист1!DU7)*100 -> 0 | BG7: =((Лист1!DV7+Лист1!DW7)/(Лист1!DX7+Лист1!DY7))*100 -> 100 | BH7: =(Лист1!DZ7+Лист1!EA7)/(Лист1!EB7+Лист1!EC7) -> 121.0729 | BI7: =(Лист1!ED7+Лист1!EE7)/(Лист1!EF7+Лист1!EG7)*100 -> 100 | BJ7: =(Лист1!EH7+Лист1!EI7)/(Лист1!EJ7+Лист1!EK7)*100 -> 28.571429 | BK7: =(Лист1!EL7+Лист1!EM7)/(Лист1!EN7+Лист1!EO7)*100 -> 100 | BL7: =(Лист1!EP7+Лист1!EQ7)/(Лист1!ER7+Лист1!ES7)*100 -> 100 | BM7: =(Лист1!ET7+Лист1!EU7)/(Лист1!EV7+Лист1!EW7)*100 -> 100 | BN7: =(Лист1!EX7+Лист1!EY7)/(Лист1!EZ7+Лист1!FA7)*100 -> 71.428571 | BO7: =(Лист1!FB7+Лист1!FC7)/(Лист1!FD7+Лист1!FE7)*100 -> 0 | BP7: =(Лист1!FF7+Лист1!FG7)/(Лист1!FH7+Лист1!FI7)*100 -> 28.571429
A8: =IF(Лист1!A8<>"",Лист1!A8,"") | B8: =IF(Лист1!B8<>"",Лист1!B8,"") | C8: =IF(Лист1!C8<>"",Лист1!C8,"") | D8: =IF(Лист1!D8<>"",Лист1!D8,"") | E8: =IF(Лист1!E8<>"",Лист1!E8,"") | F8: =IF(Лист1!F8<>"",Лист1!F8,"") | G8: =(Лист1!G8/(Лист1!G8+Лист1!H8))*100 -> #DIV/0! | H8: =(Лист1!I8/(Лист1!J8-Лист1!K8))*100 -> #DIV/0! | I8: =(Лист1!L8/Лист1!M8)*100 -> #DIV/0! | J8: =(Лист1!N8/Лист1!O8)*100 -> #DIV/0! | K8: =Лист1!P8/Лист1!Q8 -> #DIV/0! | L8: =(Лист2!A2/Лист2!B2)*100 -> #DIV/0! | M8: =Лист1!V8/Лист1!W8 -> #DIV/0! | N8: =(Лист1!X8/Лист1!$AA8)*100 -> #DIV/0! | O8: =(Лист1!Y8/Лист1!$AA8)*100 -> #DIV/0! | P8: =(Лист1!Z8/Лист1!$AA8)*100 -> #DIV/0! | Q8: =(Лист1!AB8/Лист1!AC8)*100 -> #DIV/0! | R8: =(Лист1!AD8/Лист1!AE8)*100 -> #DIV/0! | S8: =(Лист1!AF8/Лист1!AG8)*100 -> #DIV/0! | T8: =(Лист1!AH8/Лист1!AI8)*100 -> #DIV/0! | U8: =(Лист1!AJ8/Лист1!AK8)*100 -> #DIV/0! | V8: =Лист1!AL8/Лист1!AM8 -> #DIV/0! | W8: =(Лист1!AN8/Лист1!AO8)*100 -> #DIV/0! | X8: =Лист1!AP8/Лист1!AQ8 -> #DIV/0! | Y8: =(Лист1!AR8/Лист1!AS8)*100 -> #DIV/0! | Z8: =(Лист1!AT8/Лист1!AU8)*100 -> #DIV/0! | AA8: =(Лист1!AV8/Лист1!AW8)*100 -> #DIV/0! | AB8: =((Лист1!AX8+Лист1!AY8+Лист1!AZ8+Лист1!BA8)/Лист1!BB8)*100 -> #DIV/0! | AC8: =(Лист1!BC8/Лист1!BD8)*100 -> #DIV/0! | AD8: =(Лист1!BE8/Лист1!BF8)*100 -> #DIV/0! | AE8: =(Лист1!BG8+Лист1!BH8)/Лист1!BI8*100 -> #DIV/0! | AF8: =Лист1!BJ8/Лист1!BK8*100 -> #DIV/0! | AG8: =Лист1!BL8/Лист1!BM8 -> #DIV/0! | AH8: =(Лист1!BN8/Лист1!BO8)*100 -> #DIV/0! | AI8: =(Лист2!C2/Лист1!$BT8)*100 -> #DIV/0! | AJ8: =(Лист2!D2/Лист1!$BT8)*100 -> #DIV/0! | AK8: =(Лист1!BU8+Лист1!BV8)/((Лист1!BW8-Лист1!BX8-Лист1!BY8)+(Лист1!BZ8+0.1*Лист1!CA8)) -> #DIV/0! | AL8: =(Лист1!CD8+Лист1!CG8)/(Лист1!CH8+Лист1!CI8)*100 -> #DIV/0! | AM8: =(Лист1!CC8+Лист1!CF8)/(Лист1!CH8+Лист1!CI8)*100 -> #DIV/0! | AN8: =(Лист1!CB8+Лист1!CE8)/(Лист1!CH8+Лист1!CI8)*100 -> #DIV/0! | AO8: =(Лист1!CJ8+Лист1!CL8)/(Лист1!CN8+Лист1!CO8)*100 -> #DIV/0! | AP8: =(Лист1!CK8+Лист1!CM8)/(Лист1!CN8+Лист1!CO8)*100 -> #DIV/0! | AQ8: =(Лист1!CP8+Лист1!CQ8)/(Лист1!CR8+Лист1!CS8)*100 -> #DIV/0! | AR8: =(Лист1!CT8/Лист1!CU8)*100 -> #DIV/0! | AS8: =(Лист1!CV8/Лист1!CW8)*100 -> #DIV/0! | AT8: =Лист1!CX8/Лист1!CY8 -> #DIV/0! | AU8: =Лист1!CZ8 -> 0 | AV8: =Лист1!DA8 -> 0 | AW8: =Лист1!DB8 -> 0 | AX8: =Лист1!DC8 -> 0 | AY8: =Лист1!DD8 -> 0 | AZ8: =Лист1!DE8 -> 0 | BA8: =Лист1!DF8 -> 0 | BB8: =Лист1!DG8 -> 0 | BC8: =(Лист1!DH8+Лист1!DI8)/(Лист1!DJ8+Лист1!DK8)*100 -> #DIV/0! | BD8: =(Лист1!DL8/Лист1!DM8)*100 -> #DIV/0! | BE8: =(Лист1!DN8+Лист1!DO8)/(Лист1!DP8+Лист1!DQ8)*100 -> #DIV/0! | BF8: =(Лист1!DR8+Лист1!DS8)/(Лист1!DT8+Лист1!DU8)*100 -> #DIV/0! | BG8: =((Лист1!DV8+Лист1!DW8)/(Лист1!DX8+Лист1!DY8))*100 -> #DIV/0! | BH8: =(Лист1!DZ8+Лист1!EA8)/(Лист1!EB8+Лист1!EC8) -> #DIV/0! | BI8: =(Лист1!ED8+Лист1!EE8)/(Лист1!EF8+Лист1!EG8)*100 -> #DIV/0! | BJ8: =(Лист1!EH8+Лист1!EI8)/(Лист1!EJ8+Лист1!EK8)*100 -> #DIV/0! | BK8: =(Лист1!EL8+Лист1!EM8)/(Лист1!EN8+Лист1!EO8)*100 -> #DIV/0! | BL8: =(Лист1!EP8+Лист1!EQ8)/(Лист1!ER8+Лист1!ES8)*100 -> #DIV/0! | BM8: =(Лист1!ET8+Лист1!EU8)/(Лист1!EV8+Лист1!EW8)*100 -> #DIV/0! | BN8: =(Лист1!EX8+Лист1!EY8)/(Лист1!EZ8+Лист1!FA8)*100 -> #DIV/0! | BO8: =(Лист1!FB8+Лист1!FC8)/(Лист1!FD8+Лист1!FE8)*100 -> #DIV/0! | BP8: =(Лист1!FF8+Лист1!FG8)/(Лист1!FH8+Лист1!FI8)*100 -> #DIV/0!
A9: =IF(Лист1!A9<>"",Лист1!A9,"") | B9: =IF(Лист1!B9<>"",Лист1!B9,"") | C9: =IF(Лист1!C9<>"",Лист1!C9,"") | D9: =IF(Лист1!D9<>"",Лист1!D9,"") | E9: =IF(Лист1!E9<>"",Лист1!E9,"") | F9: =IF(Лист1!F9<>"",Лист1!F9,"") | G9: =(Лист1!G9/(Лист1!G9+Лист1!H9))*100 -> #DIV/0! | H9: =(Лист1!I9/(Лист1!J9-Лист1!K9))*100 -> #DIV/0! | I9: =(Лист1!L9/Лист1!M9)*100 -> #DIV/0! | J9: =(Лист1!N9/Лист1!O9)*100 -> #DIV/0! | K9: =Лист1!P9/Лист1!Q9 -> #DIV/0! | L9: =(Лист2!A3/Лист2!B3)*100 -> #DIV/0! | M9: =Лист1!V9/Лист1!W9 -> #DIV/0! | N9: =(Лист1!X9/Лист1!$AA9)*100 -> #DIV/0! | O9: =(Лист1!Y9/Лист1!$AA9)*100 -> #DIV/0! | P9: =(Лист1!Z9/Лист1!$AA9)*100 -> #DIV/0! | Q9: =(Лист1!AB9/Лист1!AC9)*100 -> #DIV/0! | R9: =(Лист1!AD9/Лист1!AE9)*100 -> #DIV/0! | S9: =(Лист1!AF9/Лист1!AG9)*100 -> #DIV/0! | T9: =(Лист1!AH9/Лист1!AI9)*100 -> #DIV/0! | U9: =(Лист1!AJ9/Лист1!AK9)*100 -> #DIV/0! | V9: =Лист1!AL9/Лист1!AM9 -> #DIV/0! | W9: =(Лист1!AN9/Лист1!AO9)*100 -> #DIV/0! | X9: =Лист1!AP9/Лист1!AQ9 -> #DIV/0! | Y9: =(Лист1!AR9/Лист1!AS9)*100 -> #DIV/0! | Z9: =(Лист1!AT9/Лист1!AU9)*100 -> #DIV/0! | AA9: =(Лист1!AV9/Лист1!AW9)*100 -> #DIV/0! | AB9: =((Лист1!AX9+Лист1!AY9+Лист1!AZ9+Лист1!BA9)/Лист1!BB9)*100 -> #DIV/0! | AC9: =(Лист1!BC9/Лист1!BD9)*100 -> #DIV/0! | AD9: =(Лист1!BE9/Лист1!BF9)*100 -> #DIV/0! | AE9: =(Лист1!BG9+Лист1!BH9)/Лист1!BI9*100 -> #DIV/0! | AF9: =Лист1!BJ9/Лист1!BK9*100 -> #DIV/0! | AG9: =Лист1!BL9/Лист1!BM9 -> #DIV/0! | AH9: =(Лист1!BN9/Лист1!BO9)*100 -> #DIV/0! | AI9: =(Лист2!C3/Лист1!$BT9)*100 -> #DIV/0! | AJ9: =(Лист2!D3/Лист1!$BT9)*100 -> #DIV/0! | AK9: =(Лист1!BU9+Лист1!BV9)/((Лист1!BW9-Лист1!BX9-Лист1!BY9)+(Лист1!BZ9+0.1*Лист1!CA9)) -> #DIV/0! | AL9: =(Лист1!CD9+Лист1!CG9)/(Лист1!CH9+Лист1!CI9)*100 -> #DIV/0! | AM9: =(Лист1!CC9+Лист1!CF9)/(Лист1!CH9+Лист1!CI9)*100 -> #DIV/0! | AN9: =(Лист1!CB9+Лист1!CE9)/(Лист1!CH9+Лист1!CI9)*100 -> #DIV/0! | AO9: =(Лист1!CJ9+Лист1!CL9)/(Лист1!CN9+Лист1!CO9)*100 -> #DIV/0! | AP9: =(Лист1!CK9+Лист1!CM9)/(Лист1!CN9+Лист1!CO9)*100 -> #DIV/0! | AQ9: =(Лист1!CP9+Лист1!CQ9)/(Лист1!CR9+Лист1!CS9)*100 -> #DIV/0! | AR9: =(Лист1!CT9/Лист1!CU9)*100 -> #DIV/0! | AS9: =(Лист1!CV9/Лист1!CW9)*100 -> #DIV/0! | AT9: =Лист1!CX9/Лист1!CY9 -> #DIV/0! | AU9: =Лист1!CZ9 -> 0 | AV9: =Лист1!DA9 -> 0 | AW9: =Лист1!DB9 -> 0 | AX9: =Лист1!DC9 -> 0 | AY9: =Лист1!DD9 -> 0 | AZ9: =Лист1!DE9 -> 0 | BA9: =Лист1!DF9 -> 0 | BB9: =Лист1!DG9 -> 0 | BC9: =(Лист1!DH9+Лист1!DI9)/(Лист1!DJ9+Лист1!DK9)*100 -> #DIV/0! | BD9: =(Лист1!DL9/Лист1!DM9)*100 -> #DIV/0! | BE9: =(Лист1!DN9+Лист1!DO9)/(Лист1!DP9+Лист1!DQ9)*100 -> #DIV/0! | BF9: =(Лист1!DR9+Лист1!DS9)/(Лист1!DT9+Лист1!DU9)*100 -> #DIV/0! | BG9: =((Лист1!DV9+Лист1!DW9)/(Лист1!DX9+Лист1!DY9))*100 -> #DIV/0! | BH9: =(Лист1!DZ9+Лист1!EA9)/(Лист1!EB9+Лист1!EC9) -> #DIV/0! | BI9: =(Лист1!ED9+Лист1!EE9)/(Лист1!EF9+Лист1!EG9)*100 -> #DIV/0! | BJ9: =(Лист1!EH9+Лист1!EI9)/(Лист1!EJ9+Лист1!EK9)*100 -> #DIV/0! | BK9: =(Лист1!EL9+Лист1!EM9)/(Лист1!EN9+Лист1!EO9)*100 -> #DIV/0! | BL9: =(Лист1!EP9+Лист1!EQ9)/(Лист1!ER9+Лист1!ES9)*100 -> #DIV/0! | BM9: =(Лист1!ET9+Лист1!EU9)/(Лист1!EV9+Лист1!EW9)*100 -> #DIV/0! | BN9: =(Лист1!EX9+Лист1!EY9)/(Лист1!EZ9+Лист1!FA9)*100 -> #DIV/0! | BO9: =(Лист1!FB9+Лист1!FC9)/(Лист1!FD9+Лист1!FE9)*100 -> #DIV/0! | BP9: =(Лист1!FF9+Лист1!FG9)/(Лист1!FH9+Лист1!FI9)*100 -> #DIV/0!
