Workbook
Name sub_1002: Лист1!#REF!

Sheet Лист1
G1: Дополнительное образование
G2: Сведения о развитии дополнительного образования детей и взрослых
G3: 5.1 | K3: 5.2 | V3: 5.3 | Y3: 5.4 | AH3: 5.5 | AN3: 5.6 | AR3: 5.7 | AT3: 5.8 | BB3: 5.9
G4: 5.1.1 | K4: 5.2.1 | V4: 5.3.1 | Y4: 5.4.1 | AA4: 5.4.2 | AE4: 5.4.3 | AH4: 5.5.1 | AN4: 5.6.1 | AP4: 5.6.2 | AR4: 5.7.1 | AT4: 5.8.1 | AV4: 5.8.2 | AX4: 5.8.3 | AZ4: 5.8.4 | BB4: 5.9.1
G5: численность детей, обучающихся в образовательных организациях дополнительного образования (включая филиалы) (указывается на основе данных о возрастном составе обучающихся); | H5: численность детей, обучающихся в образовательных организациях дополнительного образования (включая филиалы) - в музыкальных, художественных, хореографических школах и школах искусств (указывается на основе данных о возрастном составе обучающихся); | I5: численность детей, обучающихся в образовательных организациях дополнительного образования (включая филиалы) - в детских, юношеских спортивных школах; | J5: численность населения в возрасте 5-18 лет на 1 января следующего за отчетным года. | K5: численность детей, обучающихся по дополнительным общеобразовательным программам в образовательных организациях дополнительного образования (включая филиалы) по видам образовательной деятельности: | L5: работающие по всем видам образовательной деятельности; | M5: художественная; | N5: эколого-биологическая; | O5: туристско-краеведческая; | P5: техническая; | Q5: спортивная; | R5: военно-патриотическая и спортивно-техническая; | S5: другие. | T5: численность детей, обучающихся по дополнительным общеобразовательным программам в образовательных организациях дополнительного образования (включая филиалы) - в музыкальных, художественных, хореографических школах и школах искусств; | U5: численность детей, обучающихся по дополнительным общеобразовательным программам в образовательных организациях дополнительного образования (включая филиалы) - в детских, юношеских спортивных школах. | V5: фонд начисленной заработной платы педагогических работников списочного состава (без внешних совместителей) государственных и муниципальных образовательных организаций дополнительного образования (включая филиалы), реализующих дополнительные общеобразовательные программы для детей, - всего; | W5: средняя численность педагогических работников (без внешних совместителей) государственных и муниципальных образовательных организаций дополнительного образования (включая филиалы), реализующих дополнительные общеобразовательные программы для детей; | X5: среднемесячная номинальная начисленная заработная плата в субъекте Российской Федерации. | Y5: общая площадь всех помещений образовательных организаций дополнительного образования (включая филиалы), реализующих дополнительные общеобразовательные программы для детей; | Z5: численность детей, обучающихся в образовательных организациях дополнительного образования (включая филиалы). | AA5: число образовательных организаций дополнительного образования (включая филиалы), реализующих дополнительные общеобразовательные программы для детей, имеющих водопровод | AB5: число образовательных организаций дополнительного образования (включая филиалы), реализующих дополнительные общеобразовательные программы для детей, имеющих центральное отопление | AC5: число образовательных организаций дополнительного образования (включая филиалы), реализующих дополнительные общеобразовательные программы для детей, имеющих канализацию | AD5: число образовательных организаций дополнительного образования (включая филиалы), реализующих дополнительные общеобразовательные программы для детей. | AE5: число персональных компьютеров, используемых в учебных целях, в образовательных организациях дополнительного образования (включая филиалы), реализующих дополнительные общеобразовательные программы для детей; | AF5: число персональных компьютеров, используемых в учебных целях, имеющих доступ к Интернету, в образовательных организациях дополнительного образования (включая филиалы), реализующих дополнительные общеобразовательные программы для детей; | AG5: численность детей, обучающихся в образовательных организациях дополнительного образования (включая филиалы). | AH5: число образовательных организаций дополнительного образования (включая филиалы), реализующих дополнительные общеобразовательные программы для детей системы образования в отчетном году t; | AI5: число музыкальных, художественных, хореографических школ и школ искусств в отчетном году t; | AJ5: число детских, юношеских спортивных школ в отчетном году t; | AK5: число образовательных организаций дополнительного образования (включая филиалы), реализующих дополнительные общеобразовательные программы для детей в году t-1, предшествовавшем отчетному году t; | AL5: число музыкальных, художественных, хореографических школ и школ искусств в году t-1, предшествовавшем отчетному году t; | AM5: число детских, юношеских спортивных школ в году t-1, предшествовавшем отчетному году t. | AN5: общий объем финансирования образовательных организаций дополнительного образования (включая филиалы), реализующих дополнительные общеобразовательные программы для детей; | AO5: численность детей, обучающихся в образовательных организациях дополнительного образования (включая филиалы); | AP5: объем средств от приносящей доход деятельности (внебюджетных средств), поступивших в образовательные организации дополнительного образования (включая филиалы), реализующие дополнительные общеобразовательные программы для детей; | AQ5: общий объем финансирования образовательных организаций дополнительного образования (включая филиалы), реализующих дополнительные общеобразовательные программы для детей. | AR5: число организаций дополнительного образования (включая филиалы), реализующих дополнительные общеобразовательные программы для детей, имеющих филиалы; | AS5: число организаций дополнительного образования (включая филиалы), реализующих дополнительные общеобразовательные программы для детей. | AT5: число образовательных организаций дополнительного образования (включая филиалы), реализующих дополнительные общеобразовательные программы для детей, имеющих пожарные краны и рукава; | AU5: число образовательных организаций дополнительного образования (включая филиалы), реализующих дополнительные общеобразовательные программы для детей. | AV5: число образовательных организаций дополнительного образования (включая филиалы), реализующих дополнительные общеобразовательные программы для детей, имеющих дымовые извещатели; | AW5: число образовательных организаций дополнительного образования (включая филиалы), реализующих дополнительные общеобразовательные программы для детей. | AX5: число образовательных организаций дополнительного образования (включая филиалы), реализующих дополнительные общеобразовательные программы для детей, здания которых находятся в аварийном состоянии; | AY5: число образовательных организаций дополнительного образования (включая филиалы), реализующих дополнительные общеобразовательные программы для детей. | AZ5: число образовательных организаций дополнительного образования (включая филиалы), реализующих дополнительные общеобразовательные программы для детей, здания которых требуют капитального ремонта; | BA5: число образовательных организаций дополнительного образования (включая филиалы), реализующих дополнительные общеобразовательные программы для детей. | BB5: ребенок приобрел актуальные знания, умения, практические навыки - тому, чему не учат в школе, но очень важно для жизни (социологический опрос родителей детей, обучающихся в организациях дополнительного образования); | BC5: ребенку удалось проявить и развить свой талант, способности (социологический опрос родителей детей, обучающихся в организациях дополнительного образования); | BD5: ребенок сориентировался в мире профессий, освоил значимые для профессиональной деятельности навыки (социологический опрос родителей детей, обучающихся в организациях дополнительного образования); | BE5: ребенок смог улучшить свои знания по школьной программе, стал лучше учиться в школе (социологический опрос родителей детей, обучающихся в организациях дополнительного образования). | BF5: численность респондентов (родителей детей, обучающихся в организациях дополнительного образования), ответивших на вопрос "Выберите из списка то, что, по вашему мнению, стало результатом занятий вашего ребенка в кружке, секции, клубе и т.п.? (Ответьте про организацию, в которой Вам была выдана данная анкета. Если Ваш ребенок посещает несколько кружков, выберите тот, в котором ребенок занимается больше всего или тот, который Вы считаете главным, отметьте не более 3-х вариантов)" школе (социологический опрос родителей детей, обучающихся в организациях дополнительного образования).
A6: Муниципальный район | B6: Наименование ОО по уставу | C6: Адрес | D6: E-mail | E6: Ответственный координатор | F6: Контактный телефон | G6: ЧО(дод,обр) | H6: ЧО(дод,культ) | I6: ЧО(дод,спорт) | J6: Н(5-18) | K6: ЧО(обр) | L6: ЧО(1,обр) | M6: ЧО(2,обр) | N6: ЧО(3,обр) | O6: ЧО(4,обр) | P6: ЧО(5,обр) | Q6: ЧО(6,обр) | R6: ЧО(7,обр) | S6: ЧО(8,обр) | T6: ЧО(культ) | U6: ЧО(спорт) | V6: ФОТ(пр) | W6: ЧС(сп,пр) | X6: З(э) | Y6: П(л) | Z6: ЧО | AA6: Ч(в) | AB6: Ч(цо) | AC6: Ч(к) | AD6: Ч | AE6: ЧК | AF6: ЧК(и) | AG6: ЧО | AH6: Ч(дод,обр) | AI6: Ч(дод,культ) | AJ6: Ч(дод,спорт) | AK6: Ч(дод,обр)(-1) | AL6: Ч(дод,культ)(-1) | AM6: Ч(дод,спорт)(-1) | AN6: ОС | AO6: ЧО | AP6: ВБС | AQ6: ОС | AR6: Ч(г ф) | AS6: Ч(г) | AT6: Ч(пкр) | AU6: Ч | AV6: Ч(ди) | AW6: Ч | AX6: Ч(а) | AY6: Ч | AZ6: Ч(кр) | BA6: Ч | BB6: Р(1) | BC6: Р(2) | BD6: Р(3) | BE6: Р(4) | BF6: Р
A7: Кочкуровский муниципальный район | B7: МКУ "Центр информационно-методического и технического обеспечения муниципальных учреждений" Кочкуровского муниципального района | C7: 431580, Кочкуровский район, село Кочкурово, улица Советская, д.16 | D7: metod239@mail.ru | E7: Червякова Татьяна Ивановна | F7: 8 (83439)21233 | G7: 727 | H7: 425 | I7: 302 | J7: 811 | K7: 727 | L7: 0 | M7: 222 | N7: 42 | O7: 15 | P7: 10 | Q7: 313 | R7: 0 | S7: 125 | T7: 425 | U7: 302 | V7: 4291.3 | W7: 22 | X7: 40308.3 | Y7: 1507.4 | Z7: 727 | AA7: 4 | AB7: 4 | AC7: 4 | AD7: 4 | AE7: 7 | AF7: 3 | AG7: 727 | AH7: 4 | AI7: 3 | AJ7: 1 | AK7: 4 | AL7: 3 | AM7: 1 | AN7: 16775.7 | AO7: 727 | AP7: 100.4 | AQ7: 16200.9 | AR7: 0 | AS7: 4 | AT7: 4 | AU7: 4 | AV7: 4 | AW7: 4 | AX7: 0 | AY7: 4 | AZ7: 1 | BA7: 4 | BB7: 0 | BC7: 0 | BD7: 0 | BE7: 0 | BF7: 0

Sheet Лист2
A1: =Лист1!L7+Лист1!M7+Лист1!N7+Лист1!O7+Лист1!P7+Лист1!Q7+Лист1!R7+Лист1!S7 -> 727 | B1: =Лист1!K7+Лист1!T7+Лист1!U7 -> 1454 | C1: =((Лист1!V7/Лист1!W7)/12)*1000 -> 16254.924
A2: =Лист1!L8+Лист1!M8+Лист1!N8+Лист1!O8+Лист1!P8+Лист1!Q8+Лист1!R8+Лист1!S8 -> 0 | B2: =Лист1!K8+Лист1!T8+Лист1!U8 -> 0 | C2: =((Лист1!V8/Лист1!W8)/12)*1000 -> #DIV/0!
A3: =Лист1!L9+Лист1!M9+Лист1!N9+Лист1!O9+Лист1!P9+Лист1!Q9+Лист1!R9+Лист1!S9 -> 0 | B3: =Лист1!K9+Лист1!T9+Лист1!U9 -> 0 | C3: =((Лист1!V9/Лист1!W9)/12)*1000 -> #DIV/0!
A4: =Лист1!L10+Лист1!M10+Лист1!N10+Лист1!O10+Лист1!P10+Лист1!Q10+Лист1!R10+Лист1!S10 -> 0 | B4: =Лист1!K10+Лист1!T10+Лист1!U10 -> 0 | C4: =((Лист1!V10/Лист1!W10)/12)*1000 -> #DIV/0!
A5: =Лист1!L11+Лист1!M11+Лист1!N11+Лист1!O11+Лист1!P11+Лист1!Q11+Лист1!R11+Лист1!S11 -> 0 | B5: =Лист1!K11+Лист1!T11+Лист1!U11 -> 0 | C5: =((Лист1!V11/Лист1!W11)/12)*1000 -> #DIV/0!
A6: =Лист1!L12+Лист1!M12+Лист1!N12+Лист1!O12+Лист1!P12+Лист1!Q12+Лист1!R12+Лист1!S12 -> 0 | B6: =Лист1!K12+Лист1!T12+Лист1!U12 -> 0 | C6: =((Лист1!V12/Лист1!W12)/12)*1000 -> #DIV/0!
A7: =Лист1!L13+Лист1!M13+Лист1!N13+Лист1!O13+Лист1!P13+Лист1!Q13+Лист1!R13+Лист1!S13 -> 0 | B7: =Лист1!K13+Лист1!T13+Лист1!U13 -> 0 | C7: =((Лист1!V13/Лист1!W13)/12)*1000 -> #DIV/0!
A8: =Лист1!L14+Лист1!M14+Лист1!N14+Лист1!O14+Лист1!P14+Лист1!Q14+Лист1!R14+Лист1!S14 -> 0 | B8: =Лист1!K14+Лист1!T14+Лист1!U14 -> 0 | C8: =((Лист1!V14/Лист1!W14)/12)*1000 -> #DIV/0!
A9: =Лист1!L15+Лист1!M15+Лист1!N15+Лист1!O15+Лист1!P15+Лист1!Q15+Лист1!R15+Лист1!S15 -> 0 | B9: =Лист1!K15+Лист1!T15+Лист1!U15 -> 0 | C9: =((Лист1!V15/Лист1!W15)/12)*1000 -> #DIV/0!
A10: =Лист1!L16+Лист1!M16+Лист1!N16+Лист1!O16+Лист1!P16+Лист1!Q16+Лист1!R16+Лист1!S16 -> 0 | B10: =Лист1!K16+Лист1!T16+Лист1!U16 -> 0 | C10: =((Лист1!V16/Лист1!W16)/12)*1000 -> #DIV/0!
A11: =Лист1!L17+Лист1!M17+Лист1!N17+Лист1!O17+Лист1!P17+Лист1!Q17+Лист1!R17+Лист1!S17 -> 0 | B11: =Лист1!K17+Лист1!T17+Лист1!U17 -> 0 | C11: =((Лист1!V17/Лист1!W17)/12)*1000 -> #DIV/0!
A12: =Лист1!L18+Лист1!M18+Лист1!N18+Лист1!O18+Лист1!P18+Лист1!Q18+Лист1!R18+Лист1!S18 -> 0 | B12: =Лист1!K18+Лист1!T18+Лист1!U18 -> 0 | C12: =((Лист1!V18/Лист1!W18)/12)*1000 -> #DIV/0!
... A1000: =Лист1!L1006+Лист1!M1006+Лист1!N1006+Лист1!O1006+Лист1!P1006+Лист1!Q1006+Лист1!R1006+Лист1!S1006 -> 0 | B1000: =Лист1!K1006+Лист1!T1006+Лист1!U1006 -> 0 | C1000: =((Лист1!V1006/Лист1!W1006)/12)*1000 -> #DIV/0!

Sheet Лист3
G1: III. Дополнительное образование
G2: 5. Сведения о развитии дополнительного образования детей и взрослых
G3: 5.1 | H3: 5.2 | R3: 5.3 | S3: 5.4 | Y3: 5.5 | Z3: 5.6 | AB3: 5.7 | AC3: 5.8 | AG3: 5.9
G4: 5.1.1 | H4: 5.2.1 | R4: 5.3.1 | S4: 5.4.1 | T4: 5.4.2 | W4: 5.4.3 | Y4: 5.5.1 | Z4: 5.6.1 | AA4: 5.6.2 | AB4: 5.7.1 | AC4: 5.8.1 | AD4: 5.8.2 | AE4: 5.8.3 | AF4: 5.8.4 | AG4: 5.9.1
G5: Охват детей в возрасте 5-18 лет дополнительными общеобразовательными программами (удельный вес численности детей, получающих услуги дополнительного образования, в общей численности детей в возрасте 5-18 лет) | H5: Структура численности обучающихся в организациях дополнительного образования по видам образовательной деятельности (удельный вес численности детей, обучающихся в организациях, реализующих дополнительные общеобразовательные программы различных видов, в общей численности детей, обучающихся в организациях, реализующих дополнительные общеобразовательные программы) | R5: Отношение среднемесячной заработной платы педагогических работников государственных и муниципальных образовательных организаций дополнительного образования к среднемесячной заработной плате в субъекте Российской Федерации | S5: Общая площадь всех помещений организаций дополнительного образования в расчете на одного обучающегося | T5: Удельный вес числа организаций, имеющих водопровод, центральное отопление, канализацию, в общем числе образовательных организаций дополнительного образования: водопровод; центральное отопление; канализацию | W5: Число персональных компьютеров, используемых в учебных целях, в расчете на 100 обучающихся организаций дополнительного образования: всего; имеющих доступ к Интернету | Y5: Темп роста числа образовательных организаций дополнительного образования | Z5: Общий объем финансовых средств, поступивших в образовательные организации дополнительного образования, в расчете на одного обучающегося | AA5: Удельный вес финансовых средств от приносящей доход деятельности в общем объеме финансовых средств образовательных организаций дополнительного образования | AB5: Удельный вес числа организаций, имеющих филиалы, в общем числе образовательных организаций дополнительного образования | AC5: Удельный вес числа организаций, имеющих пожарные краны и рукава, в общем числе образовательных организаций дополнительного образования | AD5: Удельный вес числа организаций, имеющих дымовые извещатели, в общем числе образовательных организаций дополнительного образования | AE5: Удельный вес числа организаций, здания которых находятся в аварийном состоянии, в общем числе образовательных организаций дополнительного образования | AF5: Удельный вес числа организаций, здания которых требуют капитального ремонта, в общем числе образовательных организаций дополнительного образования | AG5: Результаты занятий детей в организациях дополнительного образования (оценка удельного веса родителей детей, обучающихся в образовательных организациях дополнительного образования, отметивших различные результаты обучения их детей, в общей численности родителей детей, обучающихся в образовательных организациях дополнительного образования):
A6: =Лист1!A6 -> Муниципальный район | B6: =Лист1!B6 -> Наименование ОО по уставу | C6: =Лист1!C6 -> Адрес | D6: =Лист1!D6 -> E-mail | E6: =Лист1!E6 -> Ответственный координатор | F6: =Лист1!F6 -> Контактный телефон | H6: по всем видам | I6: художественная | J6: эколого-биологическая | K6: туристко-краеведческая | L6: техническая | M6: спортивная | N6: военно-патриотическая и спортивно-техническая | O6: другие | P6: культ | Q6: спорт | T6: водоснабжение | U6: центральное отопление | V6: канализация | W6: всего | X6: с Интернетом | AG6: актуальные знания | AH6: выявление и развитие таланта | AI6: профессиональная ориентация | AJ6: улучшение знаний
A7: =IF(Лист1!A7="","",Лист1!A7) -> Кочкуровский муниципальный район | B7: =IF(Лист1!B7="","",Лист1!B7) -> МКУ "Центр информационно-методического и технического обеспечения муниципальных учреждений" Кочкуровского муниципального района | C7: =IF(Лист1!C7="","",Лист1!C7) -> 431580, Кочкуровский район, село Кочкурово, улица Советская, д.16 | D7: =IF(Лист1!D7="","",Лист1!D7) -> metod239@mail.ru | E7: =IF(Лист1!E7="","",Лист1!E7) -> Червякова Татьяна Ивановна | F7: =IF(Лист1!F7="","",Лист1!F7) -> 8 (83439)21233 | G7: =((Лист1!G7+Лист1!H7+Лист1!I7)/Лист1!J7)*100 -> 179.28483 | H7: =Лист2!A1/Лист2!B1*100 -> 50 | I7: =Лист1!L7/Лист2!$B1*100 -> 0 | J7: =Лист1!M7/Лист2!$B1*100 -> 15.268226 | K7: =Лист1!N7/Лист2!$B1*100 -> 2.8885832 | L7: =Лист1!O7/Лист2!$B1*100 -> 1.0316369 | M7: =Лист1!P7/Лист2!$B1*100 -> 0.68775791 | N7: =Лист1!Q7/Лист2!$B1*100 -> 21.526823 | O7: =Лист1!R7/Лист2!$B1*100 -> 0 | P7: =Лист1!S7/Лист2!$B1*100 -> 8.5969739 | Q7: =Лист1!T7/Лист2!$B1*100 -> 29.229711 | R7: =(Лист2!C1/Лист1!X7)*100 -> 40.326494 | S7: =(Лист1!Y7/Лист1!Z7)*100 -> 207.34525 | T7: =(Лист1!AA7/Лист1!$AD7)*100 -> 100 | U7: =(Лист1!AB7/Лист1!$AD7)*100 -> 100 | V7: =(Лист1!AC7/Лист1!$AD7)*100 -> 100 | W7: =(Лист1!AE7/Лист1!$AG7)*100 -> 0.96286107 | X7: =(Лист1!AF7/Лист1!$AG7)*100 -> 0.41265475 | Y7: =((Лист1!AH7+Лист1!AI7+Лист1!AJ7)/(Лист1!AK7+Лист1!AL7+Лист1!AM7))*100 -> 100 | Z7: =Лист1!AN7/Лист1!AO7 -> 23.075241 | AA7: =(Лист1!AP7/Лист1!AQ7)*100 -> 0.61971866 | AB7: =(Лист1!AR7/Лист1!AS7)*100 -> 0 | AC7: =(Лист1!AT7/Лист1!AU7)*100 -> 100 | AD7: =(Лист1!AV7/Лист1!AW7)*100 -> 100 | AE7: =(Лист1!AX7/Лист1!AY7)*100 -> 0 | AF7: =(Лист1!AZ7/Лист1!BA7)*100 -> 25 | AG7: =(Лист1!BB7/Лист1!$BF7)*100 -> #DIV/0! | AH7: =(Лист1!BC7/Лист1!$BF7)*100 -> #DIV/0! | AI7: =(Лист1!BD7/Лист1!$BF7)*100 -> #DIV/0! | AJ7: =(Лист1!BE7/Лист1!$BF7)*100 -> #DIV/0!
A8: =IF(Лист1!A8="","",Лист1!A8) | B8: =IF(Лист1!B8="","",Лист1!B8) | C8: =IF(Лист1!C8="","",Лист1!C8) | D8: =IF(Лист1!D8="","",Лист1!D8) | E8: =IF(Лист1!E8="","",Лист1!E8) | F8: =IF(Лист1!F8="","",Лист1!F8) | G8: =((Лист1!G8+Лист1!H8+Лист1!I8)/Лист1!J8)*100 -> #DIV/0! | H8: =Лист2!A2/Лист2!B2*100 -> #DIV/0! | I8: =Лист1!L8/Лист2!$B2*100 -> #DIV/0! | J8: =Лист1!M8/Лист2!$B2*100 -> #DIV/0! | K8: =Лист1!N8/Лист2!$B2*100 -> #DIV/0! | L8: =Лист1!O8/Лист2!$B2*100 -> #DIV/0! | M8: =Лист1!P8/Лист2!$B2*100 -> #DIV/0! | N8: =Лист1!Q8/Лист2!$B2*100 -> #DIV/0! | O8: =Лист1!R8/Лист2!$B2*100 -> #DIV/0! | P8: =Лист1!S8/Лист2!$B2*100 -> #DIV/0! | Q8: =Лист1!T8/Лист2!$B2*100 -> #DIV/0! | R8: =(Лист2!C2/Лист1!X8)*100 -> #DIV/0! | S8: =(Лист1!Y8/Лист1!Z8)*100 -> #DIV/0! | T8: =(Лист1!AA8/Лист1!$AD8)*100 -> #DIV/0! | U8: =(Лист1!AB8/Лист1!$AD8)*100 -> #DIV/0! | V8: =(Лист1!AC8/Лист1!$AD8)*100 -> #DIV/0! | W8: =(Лист1!AE8/Лист1!$AG8)*100 -> #DIV/0! | X8: =(Лист1!AF8/Лист1!$AG8)*100 -> #DIV/0! | Y8: =((Лист1!AH8+Лист1!AI8+Лист1!AJ8)/(Лист1!AK8+Лист1!AL8+Лист1!AM8))*100 -> #DIV/0! | Z8: =Лист1!AN8/Лист1!AO8 -> #DIV/0! | AA8: =(Лист1!AP8/Лист1!AQ8)*100 -> #DIV/0! | AB8: =(Лист1!AR8/Лист1!AS8)*100 -> #DIV/0! | AC8: =(Лист1!AT8/Лист1!AU8)*100 -> #DIV/0! | AD8: =(Лист1!AV8/Лист1!AW8)*100 -> #DIV/0! | AE8: =(Лист1!AX8/Лист1!AY8)*100 -> #DIV/0! | AF8: =(Лист1!AZ8/Лист1!BA8)*100 -> #DIV/0! | AG8: =(Лист1!BB8/Лист1!$BF8)*100 -> #DIV/0! | AH8: =(Лист1!BC8/Лист1!$BF8)*100 -> #DIV/0! | AI8: =(Лист1!BD8/Лист1!$BF8)*100 -> #DIV/0! | AJ8: =(Лист1!BE8/Лист1!$BF8)*100 -> #DIV/0!
A9: =IF(Лист1!A9="","",Лист1!A9) | B9: =IF(Лист1!B9="","",Лист1!B9) | C9: =IF(Лист1!C9="","",Лист1!C9) | D9: =IF(Лист1!D9="","",Лист1!D9) | E9: =IF(Лист1!E9="","",Лист1!E9) | F9: =IF(Лист1!F9="","",Лист1!F9) | G9: =((Лист1!G9+Лист1!H9+Лист1!I9)/Лист1!J9)*100 -> #DIV/0! | H9: =Лист2!A3/Лист2!B3*100 -> #DIV/0! | I9: =Лист1!L9/Лист2!$B3*100 -> #DIV/0! | J9: =Лист1!M9/Лист2!$B3*100 -> #DIV/0! | K9: =Лист1!N9/Лист2!$B3*100 -> #DIV/0! | L9: =Лист1!O9/Лист2!$B3*100 -> #DIV/0! | M9: =Лист1!P9/Лист2!$B3*100 -> #DIV/0! | N9: =Лист1!Q9/Лист2!$B3*100 -> #DIV/0! | O9: =Лист1!R9/Лист2!$B3*100 -> #DIV/0! | P9: =Лист1!S9/Лист2!$B3*100 -> #DIV/0! | Q9: =Лист1!T9/Лист2!$B3*100 -> #DIV/0! | R9: =(Лист2!C3/Лист1!X9)*100 -> #DIV/0! | S9: =(Лист1!Y9/Лист1!Z9)*100 -> #DIV/0! | T9: =(Лист1!AA9/Лист1!$AD9)*100 -> #DIV/0! | U9: =(Лист1!AB9/Лист1!$AD9)*100 -> #DIV/0! | V9: =(Лист1!AC9/Лист1!$AD9)*100 -> #DIV/0! | W9: =(Лист1!AE9/Лист1!$AG9)*100 -> #DIV/0! | X9: =(Лист1!AF9/Лист1!$AG9)*100 -> #DIV/0! | Y9: =((Лист1!AH9+Лист1!AI9+Лист1!AJ9)/(Лист1!AK9+Лист1!AL9+Лист1!AM9))*100 -> #DIV/0! | Z9: =Лист1!AN9/Лист1!AO9 -> #DIV/0! | AA9: =(Лист1!AP9/Лист1!AQ9)*100 -> #DIV/0! | AB9: =(Лист1!AR9/Лист1!AS9)*100 -> #DIV/0! | AC9: =(Лист1!AT9/Лист1!AU9)*100 -> #DIV/0! | AD9: =(Лист1!AV9/Лист1!AW9)*100 -> #DIV/0! | AE9: =(Лист1!AX9/Лист1!AY9)*100 -> #DIV/0! | AF9: =(Лист1!AZ9/Лист1!BA9)*100 -> #DIV/0! | AG9: =(Лист1!BB9/Лист1!$BF9)*100 -> #DIV/0! | AH9: =(Лист1!BC9/Лист1!$BF9)*100 -> #DIV/0! | AI9: =(Лист1!BD9/Лист1!$BF9)*100 -> #DIV/0! | AJ9: =(Лист1!BE9/Лист1!$BF9)*100 -> #DIV/0!
A10: =IF(Лист1!A10="","",Лист1!A10) | B10: =IF(Лист1!B10="","",Лист1!B10) | C10: =IF(Лист1!C10="","",Лист1!C10) | D10: =IF(Лист1!D10="","",Лист1!D10) | E10: =IF(Лист1!E10="","",Лист1!E10) | F10: =IF(Лист1!F10="","",Лист1!F10) | G10: =((Лист1!G10+Лист1!H10+Лист1!I10)/Лист1!J10)*100 -> #DIV/0! | H10: =Лист2!A4/Лист2!B4*100 -> #DIV/0! | I10: =Лист1!L10/Лист2!$B4*100 -> #DIV/0! | J10: =Лист1!M10/Лист2!$B4*100 -> #DIV/0! | K10: =Лист1!N10/Лист2!$B4*100 -> #DIV/0! | L10: =Лист1!O10/Лист2!$B4*100 -> #DIV/0! | M10: =Лист1!P10/Лист2!$B4*100 -> #DIV/0! | N10: =Лист1!Q10/Лист2!$B4*100 -> #DIV/0! | O10: =Лист1!R10/Лист2!$B4*100 -> #DIV/0! | P10: =Лист1!S10/Лист2!$B4*100 -> #DIV/0! | Q10: =Лист1!T10/Лист2!$B4*100 -> #DIV/0! | R10: =(Лист2!C4/Лист1!X10)*100 -> #DIV/0! | S10: =(Лист1!Y10/Лист1!Z10)*100 -> #DIV/0! | T10: =(Лист1!AA10/Лист1!$AD10)*100 -> #DIV/0! | U10: =(Лист1!AB10/Лист1!$AD10)*100 -> #DIV/0! | V10: =(Лист1!AC10/Лист1!$AD10)*100 -> #DIV/0! | W10: =(Лист1!AE10/Лист1!$AG10)*100 -> #DIV/0! | X10: =(Лист1!AF10/Лист1!$AG10)*100 -> #DIV/0! | Y10: =((Лист1!AH10+Лист1!AI10+Лист1!AJ10)/(Лист1!AK10+Лист1!AL10+Лист1!AM10))*100 -> #DIV/0! | Z10: =Лист1!AN10/Лист1!AO10 -> #DIV/0! | AA10: =(Лист1!AP10/Лист1!AQ10)*100 -> #DIV/0! | AB10: =(Лист1!AR10/Лист1!AS10)*100 -> #DIV/0! | AC10: =(Лист1!AT10/Лист1!AU10)*100 -> #DIV/0! | AD10: =(Лист1!AV10/Лист1!AW10)*100 -> #DIV/0! | AE10: =(Лист1!AX10/Лист1!AY10)*100 -> #DIV/0! | AF10: =(Лист1!AZ10/Лист1!BA10)*100 -> #DIV/0! | AG10: =(Лист1!BB10/Лист1!$BF10)*100 -> #DIV/0! | AH10: =(Лист1!BC10/Лист1!$BF10)*100 -> #DIV/0! | AI10: =(Лист1!BD10/Лист1!$BF10)*100 -> #DIV/0! | AJ10: =(Лист1!BE10/Лист1!$BF10)*100 -> #DIV/0!
A11: =IF(Лист1!A11="","",Лист1!A11) | B11: =IF(Лист1!B11="","",Лист1!B11) | C11: =IF(Лист1!C11="","",Лист1!C11) | D11: =IF(Лист1!D11="","",Лист1!D11) | E11: =IF(Лист1!E11="","",Лист1!E11) | F11: =IF(Лист1!F11="","",Лист1!F11) | G11: =((Лист1!G11+Лист1!H11+Лист1!I11)/Лист1!J11)*100 -> #DIV/0! | H11: =Лист2!A5/Лист2!B5*100 -> #DIV/0! | I11: =Лист1!L11/Лист2!$B5*100 -> #DIV/0! | J11: =Лист1!M11/Лист2!$B5*100 -> #DIV/0! | K11: =Лист1!N11/Лист2!$B5*100 -> #DIV/0! | L11: =Лист1!O11/Лист2!$B5*100 -> #DIV/0! | M11: =Лист1!P11/Лист2!$B5*100 -> #DIV/0! | N11: =Лист1!Q11/Лист2!$B5*100 -> #DIV/0! | O11: =Лист1!R11/Лист2!$B5*100 -> #DIV/0! | P11: =Лист1!S11/Лист2!$B5*100 -> #DIV/0! | Q11: =Лист1!T11/Лист2!$B5*100 -> #DIV/0! | R11: =(Лист2!C5/Лист1!X11)*100 -> #DIV/0! | S11: =(Лист1!Y11/Лист1!Z11)*100 -> #DIV/0! | T11: =(Лист1!AA11/Лист1!$AD11)*100 -> #DIV/0! | U11: =(Лист1!AB11/Лист1!$AD11)*100 -> #DIV/0! | V11: =(Лист1!AC11/Лист1!$AD11)*100 -> #DIV/0! | W11: =(Лист1!AE11/Лист1!$AG11)*100 -> #DIV/0! | X11: =(Лист1!AF11/Лист1!$AG11)*100 -> #DIV/0! | Y11: =((Лист1!AH11+Лист1!AI11+Лист1!AJ11)/(Лист1!AK11+Лист1!AL11+Лист1!AM11))*100 -> #DIV/0! | Z11: =Лист1!AN11/Лист1!AO11 -> #DIV/0! | AA11: =(Лист1!AP11/Лист1!AQ11)*100 -> #DIV/0! | AB11: =(Лист1!AR11/Лист1!AS11)*100 -> #DIV/0! | AC11: =(Лист1!AT11/Лист1!AU11)*100 -> #DIV/0! | AD11: =(Лист1!AV11/Лист1!AW11)*100 -> #DIV/0! | AE11: =(Лист1!AX11/Лист1!AY11)*100 -> #DIV/0! | AF11: =(Лист1!AZ11/Лист1!BA11)*100 -> #DIV/0! | AG11: =(Лист1!BB11/Лист1!$BF11)*100 -> #DIV/0! | AH11: =(Лист1!BC11/Лист1!$BF11)*100 -> #DIV/0! | AI11: =(Лист1!BD11/Лист1!$BF11)*100 -> #DIV/0! | AJ11: =(Лист1!BE11/Лист1!$BF11)*100 -> #DIV/0!
A12: =IF(Лист1!A12="","",Лист1!A12) | B12: =IF(Лист1!B12="","",Лист1!B12) | C12: =IF(Лист1!C12="","",Лист1!C12) | D12: =IF(Лист1!D12="","",Лист1!D12) | E12: =IF(Лист1!E12="","",Лист1!E12) | F12: =IF(Лист1!F12="","",Лист1!F12) | G12: =((Лист1!G12+Лист1!H12+Лист1!I12)/Лист1!J12)*100 -> #DIV/0! | H12: =Лист2!A6/Лист2!B6*100 -> #DIV/0! | I12: =Лист1!L12/Лист2!$B6*100 -> #DIV/0! | J12: =Лист1!M12/Лист2!$B6*100 -> #DIV/0! | K12: =Лист1!N12/Лист2!$B6*100 -> #DIV/0! | L12: =Лист1!O12/Лист2!$B6*100 -> #DIV/0! | M12: =Лист1!P12/Лист2!$B6*100 -> #DIV/0! | N12: =Лист1!Q12/Лист2!$B6*100 -> #DIV/0! | O12: =Лист1!R12/Лист2!$B6*100 -> #DIV/0! | P12: =Лист1!S12/Лист2!$B6*100 -> #DIV/0! | Q12: =Лист1!T12/Лист2!$B6*100 -> #DIV/0! | R12: =(Лист2!C6/Лист1!X12)*100 -> #DIV/0! | S12: =(Лист1!Y12/Лист1!Z12)*100 -> #DIV/0! | T12: =(Лист1!AA12/Лист1!$AD12)*100 -> #DIV/0! | U12: =(Лист1!AB12/Лист1!$AD12)*100 -> #DIV/0! | V12: =(Лист1!AC12/Лист1!$AD12)*100 -> #DIV/0! | W12: =(Лист1!AE12/Лист1!$AG12)*100 -> #DIV/0! | X12: =(Лист1!AF12/Лист1!$AG12)*100 -> #DIV/0! | Y12: =((Лист1!AH12+Лист1!AI12+Лист1!AJ12)/(Лист1!AK12+Лист1!AL12+Лист1!AM12))*100 -> #DIV/0! | Z12: =Лист1!AN12/Лист1!AO12 -> #DIV/0! | AA12: =(Лист1!AP12/Лист1!AQ12)*100 -> #DIV/0! | AB12: =(Лист1!AR12/Лист1!AS12)*100 -> #DIV/0! | AC12: =(Лист1!AT12/Лист1!AU12)*100 -> #DIV/0! | AD12: =(Лист1!AV12/Лист1!AW12)*100 -> #DIV/0! | AE12: =(Лист1!AX12/Лист1!AY12)*100 -> #DIV/0! | AF12: =(Лист1!AZ12/Лист1!BA12)*100 -> #DIV/0! | AG12: =(Лист1!BB12/Лист1!$BF12)*100 -> #DIV/0! | AH12: =(Лист1!BC12/Лист1!$BF12)*100 -> #DIV/0! | AI12: =(Лист1!BD12/Лист1!$BF12)*100 -> #DIV/0! | AJ12: =(Лист1!BE12/Лист1!$BF12)*100 -> #DIV/0!
A13: =IF(Лист1!A13="","",Лист1!A13) | B13: =IF(Лист1!B13="","",Лист1!B13) | C13: =IF(Лист1!C13="","",Лист1!C13) | D13: =IF(Лист1!D13="","",Лист1!D13) | E13: =IF(Лист1!E13="","",Лист1!E13) | F13: =IF(Лист1!F13="","",Лист1!F13) | G13: =((Лист1!G13+Лист1!H13+Лист1!I13)/Лист1!J13)*100 -> #DIV/0! | H13: =Лист2!A7/Лист2!B7*100 -> #DIV/0! | I13: =Лист1!L13/Лист2!$B7*100 -> #DIV/0! | J13: =Лист1!M13/Лист2!$B7*100 -> #DIV/0! | K13: =Лист1!N13/Лист2!$B7*100 -> #DIV/0! | L13: =Лист1!O13/Лист2!$B7*100 -> #DIV/0! | M13: =Лист1!P13/Лист2!$B7*100 -> #DIV/0! | N13: =Лист1!Q13/Лист2!$B7*100 -> #DIV/0! | O13: =Лист1!R13/Лист2!$B7*100 -> #DIV/0! | P13: =Лист1!S13/Лист2!$B7*100 -> #DIV/0! | Q13: =Лист1!T13/Лист2!$B7*100 -> #DIV/0! | R13: =(Лист2!C7/Лист1!X13)*100 -> #DIV/0! | S13: =(Лист1!Y13/Лист1!Z13)*100 -> #DIV/0! | T13: =(Лист1!AA13/Лист1!$AD13)*100 -> #DIV/0! | U13: =(Лист1!AB13/Лист1!$AD13)*100 -> #DIV/0! | V13: =(Лист1!AC13/Лист1!$AD13)*100 -> #DIV/0! | W13: =(Лист1!AE13/Лист1!$AG13)*100 -> #DIV/0! | X13: =(Лист1!AF13/Лист1!$AG13)*100 -> #DIV/0! | Y13: =((Лист1!AH13+Лист1!AI13+Лист1!AJ13)/(Лист1!AK13+Лист1!AL13+Лист1!AM13))*100 -> #DIV/0! | Z13: =Лист1!AN13/Лист1!AO13 -> #DIV/0! | AA13: =(Лист1!AP13/Лист1!AQ13)*100 -> #DIV/0! | AB13: =(Лист1!AR13/Лист1!AS13)*100 -> #DIV/0! | AC13: =(Лист1!AT13/Лист1!AU13)*100 -> #DIV/0! | AD13: =(Лист1!AV13/Лист1!AW13)*100 -> #DIV/0! | AE13: =(Лист1!AX13/Лист1!AY13)*100 -> #DIV/0! | AF13: =(Лист1!AZ13/Лист1!BA13)*100 -> #DIV/0! | AG13: =(Лист1!BB13/Лист1!$BF13)*100 -> #DIV/0! | AH13: =(Лист1!BC13/Лист1!$BF13)*100 -> #DIV/0! | AI13: =(Лист1!BD13/Лист1!$BF13)*100 -> #DIV/0! | AJ13: =(Лист1!BE13/Лист1!$BF13)*100 -> #DIV/0!
A14: =IF(Лист1!A14="","",Лист1!A14) | B14: =IF(Лист1!B14="","",Лист1!B14) | C14: =IF(Лист1!C14="","",Лист1!C14) | D14: =IF(Лист1!D14="","",Лист1!D14) | E14: =IF(Лист1!E14="","",Лист1!E14) | F14: =IF(Лист1!F14="","",Лист1!F14) | G14: =((Лист1!G14+Лист1!H14+Лист1!I14)/Лист1!J14)*100 -> #DIV/0! | H14: =Лист2!A8/Лист2!B8*100 -> #DIV/0! | I14: =Лист1!L14/Лист2!$B8*100 -> #DIV/0! | J14: =Лист1!M14/Лист2!$B8*100 -> #DIV/0! | K14: =Лист1!N14/Лист2!$B8*100 -> #DIV/0! | L14: =Лист1!O14/Лист2!$B8*100 -> #DIV/0! | M14: =Лист1!P14/Лист2!$B8*100 -> #DIV/0! | N14: =Лист1!Q14/Лист2!$B8*100 -> #DIV/0! | O14: =Лист1!R14/Лист2!$B8*100 -> #DIV/0! | P14: =Лист1!S14/Лист2!$B8*100 -> #DIV/0! | Q14: =Лист1!T14/Лист2!$B8*100 -> #DIV/0! | R14: =(Лист2!C8/Лист1!X14)*100 -> #DIV/0! | S14: =(Лист1!Y14/Лист1!Z14)*100 -> #DIV/0! | T14: =(Лист1!AA14/Лист1!$AD14)*100 -> #DIV/0! | U14: =(Лист1!AB14/Лист1!$AD14)*100 -> #DIV/0! | V14: =(Лист1!AC14/Лист1!$AD14)*100 -> #DIV/0! | W14: =(Лист1!AE14/Лист1!$AG14)*100 -> #DIV/0! | X14: =(Лист1!AF14/Лист1!$AG14)*100 -> #DIV/0! | Y14: =((Лист1!AH14+Лист1!AI14+Лист1!AJ14)/(Лист1!AK14+Лист1!AL14+Лист1!AM14))*100 -> #DIV/0! | Z14: =Лист1!AN14/Лист1!AO14 -> #DIV/0! | AA14: =(Лист1!AP14/Лист1!AQ14)*100 -> #DIV/0! | AB14: =(Лист1!AR14/Лист1!AS14)*100 -> #DIV/0! | AC14: =(Лист1!AT14/Лист1!AU14)*100 -> #DIV/0! | AD14: =(Лист1!AV14/Лист1!AW14)*100 -> #DIV/0! | AE14: =(Лист1!AX14/Лист1!AY14)*100 -> #DIV/0! | AF14: =(Лист1!AZ14/Лист1!BA14)*100 -> #DIV/0! | AG14: =(Лист1!BB14/Лист1!$BF14)*100 -> #DIV/0! | AH14: =(Лист1!BC14/Лист1!$BF14)*100 -> #DIV/0! | AI14: =(Лист1!BD14/Лист1!$BF14)*100 -> #DIV/0! | AJ14: =(Лист1!BE14/Лист1!$BF14)*100 -> #DIV/0!
A15: =IF(Лист1!A15="","",Лист1!A15) | B15: =IF(Лист1!B15="","",Лист1!B15) | C15: =IF(Лист1!C15="","",Лист1!C15) | D15: =IF(Лист1!D15="","",Лист1!D15) | E15: =IF(Лист1!E15="","",Лист1!E15) | F15: =IF(Лист1!F15="","",Лист1!F15) | G15: =((Лист1!G15+Лист1!H15+Лист1!I15)/Лист1!J15)*100 -> #DIV/0! | H15: =Лист2!A9/Лист2!B9*100 -> #DIV/0! | I15: =Лист1!L15/Лист2!$B9*100 -> #DIV/0! | J15: =Лист1!M15/Лист2!$B9*100 -> #DIV/0! | K15: =Лист1!N15/Лист2!$B9*100 -> #DIV/0! | L15: =Лист1!O15/Лист2!$B9*100 -> #DIV/0! | M15: =Лист1!P15/Лист2!$B9*100 -> #DIV/0! | N15: =Лист1!Q15/Лист2!$B9*100 -> #DIV/0! | O15: =Лист1!R15/Лист2!$B9*100 -> #DIV/0! | P15: =Лист1!S15/Лист2!$B9*100 -> #DIV/0! | Q15: =Лист1!T15/Лист2!$B9*100 -> #DIV/0! | R15: =(Лист2!C9/Лист1!X15)*100 -> #DIV/0! | S15: =(Лист1!Y15/Лист1!Z15)*100 -> #DIV/0! | T15: =(Лист1!AA15/Лист1!$AD15)*100 -> #DIV/0! | U15: =(Лист1!AB15/Лист1!$AD15)*100 -> #DIV/0! | V15: =(Лист1!AC15/Лист1!$AD15)*100 -> #DIV/0! | W15: =(Лист1!AE15/Лист1!$AG15)*100 -> #DIV/0! | X15: =(Лист1!AF15/Лист1!$AG15)*100 -> #DIV/0! | Y15: =((Лист1!AH15+Лист1!AI15+Лист1!AJ15)/(Лист1!AK15+Лист1!AL15+Лист1!AM15))*100 -> #DIV/0! | Z15: =Лист1!AN15/Лист1!AO15 -> #DIV/0! | AA15: =(Лист1!AP15/Лист1!AQ15)*100 -> #DIV/0! | AB15: =(Лист1!AR15/Лист1!AS15)*100 -> #DIV/0! | AC15: =(Лист1!AT15/Лист1!AU15)*100 -> #DIV/0! | AD15: =(Лист1!AV15/Лист1!AW15)*100 -> #DIV/0! | AE15: =(Лист1!AX15/Лист1!AY15)*100 -> #DIV/0! | AF15: =(Лист1!AZ15/Лист1!BA15)*100 -> #DIV/0! | AG15: =(Лист1!BB15/Лист1!$BF15)*100 -> #DIV/0! | AH15: =(Лист1!BC15/Лист1!$BF15)*100 -> #DIV/0! | AI15: =(Лист1!BD15/Лист1!$BF15)*100 -> #DIV/0! | AJ15: =(Лист1!BE15/Лист1!$BF15)*100 -> #DIV/0!
A16: =IF(Лист1!A16="","",Лист1!A16) | B16: =IF(Лист1!B16="","",Лист1!B16) | C16: =IF(Лист1!C16="","",Лист1!C16) | D16: =IF(Лист1!D16="","",Лист1!D16) | E16: =IF(Лист1!E16="","",Лист1!E16) | F16: =IF(Лист1!F16="","",Лист1!F16) | G16: =((Лист1!G16+Лист1!H16+Лист1!I16)/Лист1!J16)*100 -> #DIV/0! | H16: =Лист2!A10/Лист2!B10*100 -> #DIV/0! | I16: =Лист1!L16/Лист2!$B10*100 -> #DIV/0! | J16: =Лист1!M16/Лист2!$B10*100 -> #DIV/0! | K16: =Лист1!N16/Лист2!$B10*100 -> #DIV/0! | L16: =Лист1!O16/Лист2!$B10*100 -> #DIV/0! | M16: =Лист1!P16/Лист2!$B10*100 -> #DIV/0! | N16: =Лист1!Q16/Лист2!$B10*100 -> #DIV/0! | O16: =Лист1!R16/Лист2!$B10*100 -> #DIV/0! | P16: =Лист1!S16/Лист2!$B10*100 -> #DIV/0! | Q16: =Лист1!T16/Лист2!$B10*100 -> #DIV/0! | R16: =(Лист2!C10/Лист1!X16)*100 -> #DIV/0! | S16: =(Лист1!Y16/Лист1!Z16)*100 -> #DIV/0! | T16: =(Лист1!AA16/Лист1!$AD16)*100 -> #DIV/0! | U16: =(Лист1!AB16/Лист1!$AD16)*100 -> #DIV/0! | V16: =(Лист1!AC16/Лист1!$AD16)*100 -> #DIV/0! | W16: =(Лист1!AE16/Лист1!$AG16)*100 -> #DIV/0! | X16: =(Лист1!AF16/Лист1!$AG16)*100 -> #DIV/0! | Y16: =((Лист1!AH16+Лист1!AI16+Лист1!AJ16)/(Лист1!AK16+Лист1!AL16+Лист1!AM16))*100 -> #DIV/0! | Z16: =Лист1!AN16/Лист1!AO16 -> #DIV/0! | AA16: =(Лист1!AP16/Лист1!AQ16)*100 -> #DIV/0! | AB16: =(Лист1!AR16/Лист1!AS16)*100 -> #DIV/0! | AC16: =(Лист1!AT16/Лист1!AU16)*100 -> #DIV/0! | AD16: =(Лист1!AV16/Лист1!AW16)*100 -> #DIV/0! | AE16: =(Лист1!AX16/Лист1!AY16)*100 -> #DIV/0! | AF16: =(Лист1!AZ16/Лист1!BA16)*100 -> #DIV/0! | AG16: =(Лист1!BB16/Лист1!$BF16)*100 -> #DIV/0! | AH16: =(Лист1!BC16/Лист1!$BF16)*100 -> #DIV/0! | AI16: =(Лист1!BD16/Лист1!$BF16)*100 -> #DIV/0! | AJ16: =(Лист1!BE16/Лист1!$BF16)*100 -> #DIV/0!
A17: =IF(Лист1!A17="","",Лист1!A17) | B17: =IF(Лист1!B17="","",Лист1!B17) | C17: =IF(Лист1!C17="","",Лист1!C17) | D17: =IF(Лист1!D17="","",Лист1!D17) | E17: =IF(Лист1!E17="","",Лист1!E17) | F17: =IF(Лист1!F17="","",Лист1!F17) | G17: =((Лист1!G17+Лист1!H17+Лист1!I17)/Лист1!J17)*100 -> #DIV/0! | H17: =Лист2!A11/Лист2!B11*100 -> #DIV/0! | I17: =Лист1!L17/Лист2!$B11*100 -> #DIV/0! | J17: =Лист1!M17/Лист2!$B11*100 -> #DIV/0! | K17: =Лист1!N17/Лист2!$B11*100 -> #DIV/0! | L17: =Лист1!O17/Лист2!$B11*100 -> #DIV/0! | M17: =Лист1!P17/Лист2!$B11*100 -> #DIV/0! | N17: =Лист1!Q17/Лист2!$B11*100 -> #DIV/0! | O17: =Лист1!R17/Лист2!$B11*100 -> #DIV/0! | P17: =Лист1!S17/Лист2!$B11*100 -> #DIV/0! | Q17: =Лист1!T17/Лист2!$B11*100 -> #DIV/0! | R17: =(Лист2!C11/Лист1!X17)*100 -> #DIV/0! | S17: =(Лист1!Y17/Лист1!Z17)*100 -> #DIV/0! | T17: =(Лист1!AA17/Лист1!$AD17)*100 -> #DIV/0! | U17: =(Лист1!AB17/Лист1!$AD17)*100 -> #DIV/0! | V17: =(Лист1!AC17/Лист1!$AD17)*100 -> #DIV/0! | W17: =(Лист1!AE17/Лист1!$AG17)*100 -> #DIV/0! | X17: =(Лист1!AF17/Лист1!$AG17)*100 -> #DIV/0! | Y17: =((Лист1!AH17+Лист1!AI17+Лист1!AJ17)/(Лист1!AK17+Лист1!AL17+Лист1!AM17))*100 -> #DIV/0! | Z17: =Лист1!AN17/Лист1!AO17 -> #DIV/0! | AA17: =(Лист1!AP17/Лист1!AQ17)*100 -> #DIV/0! | AB17: =(Лист1!AR17/Лист1!AS17)*100 -> #DIV/0! | AC17: =(Лист1!AT17/Лист1!AU17)*100 -> #DIV/0! | AD17: =(Лист1!AV17/Лист1!AW17)*100 -> #DIV/0! | AE17: =(Лист1!AX17/Лист1!AY17)*100 -> #DIV/0! | AF17: =(Лист1!AZ17/Лист1!BA17)*100 -> #DIV/0! | AG17: =(Лист1!BB17/Лист1!$BF17)*100 -> #DIV/0! | AH17: =(Лист1!BC17/Лист1!$BF17)*100 -> #DIV/0! | AI17: =(Лист1!BD17/Лист1!$BF17)*100 -> #DIV/0! | AJ17: =(Лист1!BE17/Лист1!$BF17)*100 -> #DIV/0!
A18: =IF(Лист1!A18="","",Лист1!A18) | B18: =IF(Лист1!B18="","",Лист1!B18) | C18: =IF(Лист1!C18="","",Лист1!C18) | D18: =IF(Лист1!D18="","",Лист1!D18) | E18: =IF(Лист1!E18="","",Лист1!E18) | F18: =IF(Лист1!F18="","",Лист1!F18) | G18: =((Лист1!G18+Лист1!H18+Лист1!I18)/Лист1!J18)*100 -> #DIV/0! | H18: =Лист2!A12/Лист2!B12*100 -> #DIV/0! | I18: =Лист1!L18/Лист2!$B12*100 -> #DIV/0! | J18: =Лист1!M18/Лист2!$B12*100 -> #DIV/0! | K18: =Лист1!N18/Лист2!$B12*100 -> #DIV/0! | L18: =Лист1!O18/Лист2!$B12*100 -> #DIV/0! | M18: =Лист1!P18/Лист2!$B12*100 -> #DIV/0! | N18: =Лист1!Q18/Лист2!$B12*100 -> #DIV/0! | O18: =Лист1!R18/Лист2!$B12*100 -> #DIV/0! | P18: =Лист1!S18/Лист2!$B12*100 -> #DIV/0! | Q18: =Лист1!T18/Лист2!$B12*100 -> #DIV/0! | R18: =(Лист2!C12/Лист1!X18)*100 -> #DIV/0! | S18: =(Лист1!Y18/Лист1!Z18)*100 -> #DIV/0! | T18: =(Лист1!AA18/Лист1!$AD18)*100 -> #DIV/0! | U18: =(Лист1!AB18/Лист1!$AD18)*100 -> #DIV/0! | V18: =(Лист1!AC18/Лист1!$AD18)*100 -> #DIV/0! | W18: =(Лист1!AE18/Лист1!$AG18)*100 -> #DIV/0! | X18: =(Лист1!AF18/Лист1!$AG18)*100 -> #DIV/0! | Y18: =((Лист1!AH18+Лист1!AI18+Лист1!AJ18)/(Лист1!AK18+Лист1!AL18+Лист1!AM18))*100 -> #DIV/0! | Z18: =Лист1!AN18/Лист1!AO18 -> #DIV/0! | AA18: =(Лист1!AP18/Лист1!AQ18)*100 -> #DIV/0! | AB18: =(Лист1!AR18/Лист1!AS18)*100 -> #DIV/0! | AC18: =(Лист1!AT18/Лист1!AU18)*100 -> #DIV/0! | AD18: =(Лист1!AV18/Лист1!AW18)*100 -> #DIV/0! | AE18: =(Лист1!AX18/Лист1!AY18)*100 -> #DIV/0! | AF18: =(Лист1!AZ18/Лист1!BA18)*100 -> #DIV/0! | AG18: =(Лист1!BB18/Лист1!$BF18)*100 -> #DIV/0! | AH18: =(Лист1!BC18/Лист1!$BF18)*100 -> #DIV/0! | AI18: =(Лист1!BD18/Лист1!$BF18)*100 -> #DIV/0! | AJ18: =(Лист1!BE18/Лист1!$BF18)*100 -> #DIV/0!
... A1000: =IF(Лист1!A1000="","",Лист1!A1000) | B1000: =IF(Лист1!B1000="","",Лист1!B1000) | C1000: =IF(Лист1!C1000="","",Лист1!C1000) | D1000: =IF(Лист1!D1000="","",Лист1!D1000) | E1000: =IF(Лист1!E1000="","",Лист1!E1000) | F1000: =IF(Лист1!F1000="","",Лист1!F1000) | G1000: =((Лист1!G1000+Лист1!H1000+Лист1!I1000)/Лист1!J1000)*100 -> #DIV/0! | H1000: =Лист2!A994/Лист2!B994*100 -> #DIV/0! | I1000: =Лист1!L1000/Лист2!$B994*100 -> #DIV/0! | J1000: =Лист1!M1000/Лист2!$B994*100 -> #DIV/0! | K1000: =Лист1!N1000/Лист2!$B994*100 -> #DIV/0! | L1000: =Лист1!O1000/Лист2!$B994*100 -> #DIV/0! | M1000: =Лист1!P1000/Лист2!$B994*100 -> #DIV/0! | N1000: =Лист1!Q1000/Лист2!$B994*100 -> #DIV/0! | O1000: =Лист1!R1000/Лист2!$B994*100 -> #DIV/0! | P1000: =Лист1!S1000/Лист2!$B994*100 -> #DIV/0! | Q1000: =Лист1!T1000/Лист2!$B994*100 -> #DIV/0! | R1000: =(Лист2!C994/Лист1!X1000)*100 -> #DIV/0! | S1000: =(Лист1!Y1000/Лист1!Z1000)*100 -> #DIV/0! | T1000: =(Лист1!AA1000/Лист1!$AD1000)*100 -> #DIV/0! | U1000: =(Лист1!AB1000/Лист1!$AD1000)*100 -> #DIV/0! | V1000: =(Лист1!AC1000/Лист1!$AD1000)*100 -> #DIV/0! | W1000: =(Лист1!AE1000/Лист1!$AG1000)*100 -> #DIV/0! | X1000: =(Лист1!AF1000/Лист1!$AG1000)*100 -> #DIV/0! | Y1000: =((Лист1!AH1000+Лист1!AI1000+Лист1!AJ1000)/(Лист1!AK1000+Лист1!AL1000+Лист1!AM1000))*100 -> #DIV/0! | Z1000: =Лист1!AN1000/Лист1!AO1000 -> #DIV/0! | AA1000: =(Лист1!AP1000/Лист1!AQ1000)*100 -> #DIV/0! | AB1000: =(Лист1!AR1000/Лист1!AS1000)*100 -> #DIV/0! | AC1000: =(Лист1!AT1000/Лист1!AU1000)*100 -> #DIV/0! | AD1000: =(Лист1!AV1000/Лист1!AW1000)*100 -> #DIV/0! | AE1000: =(Лист1!AX1000/Лист1!AY1000)*100 -> #DIV/0! | AF1000: =(Лист1!AZ1000/Лист1!BA1000)*100 -> #DIV/0! | AG1000: =(Лист1!BB1000/Лист1!$BF1000)*100 -> #DIV/0! | AH1000: =(Лист1!BC1000/Лист1!$BF1000)*100 -> #DIV/0! | AI1000: =(Лист1!BD1000/Лист1!$BF1000)*100 -> #DIV/0! | AJ1000: =(Лист1!BE1000/Лист1!$BF1000)*100 -> #DIV/0!
