Workbook
Name Excel_BuiltIn__FilterDatabase: 'Приложение 2'!$A$6:$L$119
Name Excel_BuiltIn__FilterDatabase: 'Приложение 3'!$A$6:$K$119
Name Excel_BuiltIn__FilterDatabase: 'Приложение 4'!$A$7:$L$70
Name Excel_BuiltIn__FilterDatabase: 'Приложение 5'!$A$6:$K$67

Sheet Приложение 1 
A1: , | C1: Приложение 1 к решению Совета депутатов Сабаевского сельского поселения «О бюджете Сабаевского сельского поселения на 2023 год и на плановый период 2024 и 2025 годов» от __________г №_____
A7: ДОХОДЫ БЮДЖЕТА САБАЕВСКОГО СЕЛЬСКОГО ПОСЕЛЕНИЯ РЕСПУБЛИКИ МОРДОВИЯ НА 2023 ГОД И НА ПЛАНОВЫЙ ПЕРИОД 2024 И 2025 ГОДОВ
E8: (тыс. рублей)
A9: Код | B9: Наименование | C9: Сумма
C10: 2023 год | D10: 2024 год | E10: 2025 год
A11: 1 | B11: 2 | C11: 3 | D11: 4 | E11: 5
A12: 85000000000000000 | B12: ДОХОДЫ БЮДЖЕТА -ВСЕГО | C12: =C13+C27 -> 2441.5 | D12: =D13+D27 -> 2481 | E12: =E13+E27 -> 2499
A13: 10000000000000000 | B13: НАЛОГОВЫЕ И НЕНАЛОГОВЫЕ ДОХОДЫ | C13: =C14+C18+C22 -> 1350.7 | D13: =D14+D18+D22 -> 1372.1 | E13: =E14+E18+E22 -> 1385.8
A14: 10100000000000000 | B14: НАЛОГИ НА ПРИБЫЛЬ, ДОХОДЫ | C14: =C15 -> 80.4 | D14: =D15 -> 88.1 | E14: =E15 -> 94.8
A15: 10102000010000110 | B15: Налог на доходы физических лиц | C15: =C16 -> 80.4 | D15: =D16 -> 88.1 | E15: =E16 -> 94.8
A16: 10102010010000110 | B16: Налог на доходы физических лиц с доходов, источником которых является налоговый агент, за исключением доходов, в отношении которых исчисление и уплата налога осуществляются в соответствии со статьями 227, 2271 и 228 Налогового кодекса Российской Федерации | C16: =C17 -> 80.4 | D16: =D17 -> 88.1 | E16: =E17 -> 94.8
A17: 10102010011000110 | B17: Налог на доходы физических лиц с доходов, источником которых является налоговый агент, за исключением доходов, в отношении которых исчисление и уплата налога осуществляются в соответствии со статьями 227, 2271 и 228 Налогового кодекса Российской Федерации (сумма платежа (перерасчеты, недоимка и задолженность по соответствующему платежу, в том числе по отмененному) | C17: 80.4 | D17: 88.1 | E17: 94.8
A18: 10600000000000000 | B18: НАЛОГ НА ИМУЩЕСТВО | C18: =C19 -> 437.1 | D18: =D19 -> 443.8 | E18: =E19 -> 443.8
A19: 10601000000000110 | B19: Налог на имущество физических лиц | C19: =C20 -> 437.1 | D19: =D20 -> 443.8 | E19: =E20 -> 443.8
A20: 10601030100000110 | B20: Налог на имущество физических лиц, взимаемый по ставкам, применяемым к объектам налогообложения, расположенным в границах сельских поселений | C20: =C21 -> 437.1 | D20: =D21 -> 443.8 | E20: =E21 -> 443.8
A21: 10601030101000110 | B21: Налог на имущество физических лиц, взимаемый по ставкам, применяемым к объектам налогообложения, расположенным в границах сельских поселений (сумма платежа (перерасчеты, недоимка и задолженность по соответствующему платежу, в том числе по отмененному) | C21: 437.1 | D21: 443.8 | E21: 443.8
A22: 10606000000000110 | B22: ЗЕМЕЛЬНЫЙ НАЛОГ | C22: =C23+C24 -> 833.2 | D22: =D23+D24 -> 840.2 | E22: =E23+E24 -> 847.2
A23: 10606033100000110 | B23: Земельный налог с организаций | C23: 246 | D23: 246 | E23: 246
A24: 10606040000000110 | B24: Земельный налог с физических лиц | C24: =C25 -> 587.2 | D24: =D25 -> 594.2 | E24: =E25 -> 601.2
A25: 10606043100000110 | B25: Земельный налог с физических лиц, обладающих земельным участком, расположенным в границах сельских поселений | C25: =C26 -> 587.2 | D25: =D26 -> 594.2 | E25: =E26 -> 601.2
A26: 10606043101000110 | B26: Земельный налог с физических лиц, обладающих земельным участком, расположенным в границах сельских поселений (сумма платежа (перерасчеты, недоимка и задолженность по соответствующему платежу, в том числе по отмененному) | C26: 587.2 | D26: 594.2 | E26: 601.2
A27: 20200000000000000 | B27: Безвозмездные поступления от других бюджетов бюджетной системы Российской Федерации | C27: =C28+C32+C33+C38 -> 1090.8 | D27: =D28+D32+D33+D38 -> 1108.9 | E27: =E28+E32+E33+E38 -> 1113.2
A28: 20210000000000150 | B28: Дотации бюджетам бюджетной системы Российской Федерации | C28: =C31 -> 206 | D28: =D31 -> 0 | E28: =E31 -> 0
A29: 20215001000000150 | B29: Дотации на выравнивание бюджетной обеспеченности | C29: =C30 -> 0 | D29: =D30 -> 0 | E29: =E30 -> 0
A30: 20215001100000150 | B30: Дотации бюджетам сельских поселений на выравнивание бюджетной обеспеченности
A31: 20215002100000150 | B31: Дотации бюджетам сельских поселений на поддержку мер по обеспечению сбалансированности бюджетов | C31: 206
A32: 20220000000000150 | B32: Субсидии бюджета бюджетной системы (межбюджетные субсидии) | C32: 250.7
A33: 20230000000000150 | B33: Субвенции от других бюджетов бюджетной системы Российской Федерации | C33: =C34+C36 -> 109.8 | D33: =D34+D36 -> 114.9 | E33: =E34+E36 -> 119.2
A34: 20235118000000150 | B34: Субвенции бюджетам на осуществление первичного воинского учета на территориях, где отсутствуют военные комиссариаты | C34: =C35 -> 109.3 | D34: =D35 -> 114.4 | E34: =E35 -> 118.7
A35: 20235118100000150 | B35: Субвенции бюджетам сельских поселений на осуществление первичного воинского учета на территориях, где отсутствуют военные комиссариаты | C35: 109.3 | D35: 114.4 | E35: 118.7
A36: 20230024000000150 | B36: Субвенции бюджетам муниципальных районов на выполнение передаваемых полномочий субъектов Российской Федерации | C36: =C37 -> 0.5 | D36: =D37 -> 0.5 | E36: =E37 -> 0.5
A37: 20230024100000150 | B37: Субвенция на реализацию госполномочий по определению перечня должностных лиц, уполномоченных составлять протоколы об административных правонарушениях | C37: 0.5 | D37: 0.5 | E37: 0.5
A38: 20240000000000150 | B38: Иные межбюджетные транферты | C38: =C39 -> 524.3 | D38: =D39 -> 994 | E38: =E39 -> 994
A39: 20240014000000150 | B39: Межбюджетные трансферты, передаваемые бюджетам муниципальных образований на осуществление части полномочий по решению вопросов местного значения в соответствии с заключенными соглашениями | C39: =C40 -> 524.3 | D39: =D40 -> 994 | E39: =E40 -> 994
A40: 20240014100000150 | B40: Межбюджетные трансферты, передаваемые бюджетам сельских поселений из бюджетов муниципальных районов на осуществление части полномочий по решению вопросов местного значения в соответствии с заключенными соглашениями | C40: =5+519.3 -> 524.3 | D40: =5+989 -> 994 | E40: =5+989 -> 994

Sheet Приложение 2
I1: Приложение 2 к решению Совета депутатов Сабаевского сельского поселения «О бюджете Сабаевского сельского поселения на 2023 год и на плановый период 2024 и 2025 годов» от __________г №_____
A2: ВЕДОМСТВЕННАЯ СТРУКТУРА РАСХОДОВ БЮДЖЕТА САБАЕВСКОГО СЕЛЬСКОГО ПОСЕЛЕНИЯ НА 2023 ГОД И НА ПЛАНОВЫЙ ПЕРИОД 2024 И 2025 ГОДОВ
I3: (тыс. рублей)
A4: Наименование | B4: Адм | C4: Рз | D4: Прз | E4: Цср | I4: Вр | J4: Сумма
J5: 2023 год | K5: 2024 год | L5: 2025 год
A6: 1 | B6: 2 | C6: 3 | D6: 4 | E6: 5 | F6: 6 | G6: 7 | H6: 8 | I6: 9 | J6: 10 | K6: 11 | L6: 12
A7: ВСЕГО | B7: 920 | D7: + | J7: =J8+J55+J71+J84+J106+J113+J120+J64 -> 2441.54 | K7: =K8+K55+K71+K84+K106+K113+K120+K64 -> 2480.95 | L7: =L8+L55+L71+L84+L106+L113+L120+L64 -> 2499
A8: Общегосударственные вопросы | B8: 920 | C8: 01 | J8: =J9+J19+J49+J37+J43 -> 1340.94 | K8: =K9+K19+K37+K49 -> 1061.6 | L8: =L9+L19+L49+L37 -> 1075.3
A9: Функционирование высшего должностного лица субъекта Российской Федерации и муниципального образования | B9: 920 | C9: 01 | D9: 02 | J9: =J10 -> 381.2 | K9: =K10 -> 331.2 | L9: =L10 -> 331.2
A10: Обеспечение деятельности администрации Сабаевского сельского поселения Кочкуровского муниципального района Республики Мордовия | B10: 920 | C10: 01 | D10: 02 | E10: 65 | J10: =J11 -> 381.2 | K10: =K11 -> 331.2 | L10: =L11 -> 331.2
A11: Глава Сабаевского сельского поселения Кочкуровского муниципального района Республики Мордовия | B11: 920 | C11: 01 | D11: 02 | E11: 65 | F11: 1 | G11: 00 | J11: =J12+J15 -> 381.2 | K11: =K12 -> 331.2 | L11: =L12 -> 331.2
A12: Расходы на выплаты по оплате труда высшего должностного лица | B12: 920 | C12: 01 | D12: 02 | E12: 65 | F12: 1 | G12: 00 | H12: 41150 | J12: =J13 -> 231.2 | K12: =K13 -> 331.2 | L12: =L13 -> 331.2
A13: Расходы на выплаты персоналу в целях обеспечения выполнения функций государственными (муниципальными) органами, казенными учреждениями, органами управления государственными внебюджетными фондами | B13: 920 | C13: 01 | D13: 02 | E13: 65 | F13: 1 | G13: 00 | H13: 41150 | I13: 100 | J13: =J14 -> 231.2 | K13: =K14 -> 331.2 | L13: =L14 -> 331.2
A14: Расходы на выплаты персоналу государственных (муниципальных) органов | B14: 920 | C14: 01 | D14: 02 | E14: 65 | F14: 1 | G14: 00 | H14: 41150 | I14: 120 | J14: =181.2+50 -> 231.2 | K14: 331.2 | L14: 331.2 | M14: глава 1,2 статья
A15: Субсидии на софинансирование расходных обязательств поселений | B15: 920 | C15: 01 | D15: 02 | E15: 65 | F15: 1 | G15: 00 | H15: 44200 | J15: =J16 -> 150
A16: Субсидии на софинансирование расходных обязательст по финансовому обеспечению деятельности органов местного самоуправления и муниципальных учреждений | B16: 920 | C16: 01 | D16: 02 | E16: 65 | F16: 1 | G16: 00 | H16: 44205 | J16: =J17 -> 150
A17: Расходы на выплаты персоналу в целях обеспечения выполнения функций государственными (муниципальными) органами, казенными учреждениями, органами управления государственными внебюджетными фондами | B17: 920 | C17: 01 | D17: 02 | E17: 65 | F17: 1 | G17: 00 | H17: 44205 | I17: 100 | J17: =J18 -> 150
A18: Расходы на выплаты персоналу государственных (муниципальных) органов | B18: 920 | C18: 01 | D18: 02 | E18: 65 | F18: 1 | G18: 00 | H18: 44205 | I18: 120 | J18: 150
A19: Функционирование Правительства Российской Федерации, высших исполнительных органов государственной власти субъектов Российской Федерации, местных администраций | B19: 920 | C19: 01 | D19: 04 | J19: =J20 -> 922 | K19: =K20 -> 720.4 | L19: =L20 -> 734.1
A20: Обеспечение деятельности администрации Сабаевского сельского поселения Кочкуровского муниципального района Республики Мордовия | B20: 920 | C20: 01 | D20: 04 | E20: 65 | J20: =J21 -> 922 | K20: =K21 -> 720.4 | L20: =L21 -> 734.1
A21: Непрограммные расходы в рамках обеспечения деятельности администрации Сабаевского сельского поселения Кочкуровского муниципального района Республики Мордовия | B21: 920 | C21: 01 | D21: 04 | E21: 65 | F21: 4 | J21: =J22+J25+J34+J30 -> 922 | K21: =K22+K25+K34 -> 720.4 | L21: =L22+L25+L34 -> 734.1
A22: Расходы на выплаты по оплате труда работников органов местного самоуправления | B22: 920 | C22: 01 | D22: 04 | E22: 65 | F22: 4 | G22: 00 | H22: 41110 | J22: =J23 -> 508.6 | K22: =K23 -> 445.7 | L22: =L23 -> 462.9
A23: Расходы на выплаты персоналу в целях обеспечения выполнения функций государственными (муниципальными) органами, казенными учреждениями, органами управления государственными внебюджетными фондами | B23: 920 | C23: 01 | D23: 04 | E23: 65 | F23: 4 | G23: 00 | H23: 41110 | I23: 100 | J23: =J24 -> 508.6 | K23: =K24 -> 445.7 | L23: =L24 -> 462.9
A24: Расходы на выплаты персоналу государственных (муниципальных) органов | B24: 920 | C24: 01 | D24: 04 | E24: 65 | F24: 4 | G24: 00 | H24: 41110 | I24: 120 | J24: =426+82.6 -> 508.6 | K24: 445.7 | L24: 462.9 | M24: аппарат, 1,2 статья
A25: Расходы на обеспечение функций органов местного самоуправления | B25: 920 | C25: 01 | D25: 04 | E25: 65 | F25: 4 | G25: 00 | H25: 41120 | J25: =J26+J28 -> 312.2 | K25: =K26+K28 -> 274.2 | L25: =L26+L28 -> 270.7
A26: Закупка товаров, работ и услуг для обеспечения государственных (муниципальных) нужд | B26: 920 | C26: 01 | D26: 04 | E26: 65 | F26: 4 | G26: 00 | H26: 41120 | I26: 200 | J26: =J27 -> 142.2 | K26: =K27 -> 148.2 | L26: =L27 -> 143.2
A27: Иные закупки товаров, работ и услуг для обеспечения государственных (муниципальных) нужд | B27: 920 | C27: 01 | D27: 04 | E27: 65 | F27: 4 | G27: 00 | H27: 41120 | I27: 240 | J27: 142.2 | K27: 148.2 | L27: 143.2 | M27: расходы
A28: Иные бюджетные ассигнования | B28: 920 | C28: 01 | D28: 04 | E28: 65 | F28: 4 | G28: 00 | H28: 41120 | I28: 800 | J28: =J29 -> 170 | K28: =K29 -> 126 | L28: =L29 -> 127.5
A29: Уплата налогов, сборов и иных платежей | B29: 920 | C29: 01 | D29: 04 | E29: 65 | F29: 4 | G29: 00 | H29: 41120 | I29: 850 | J29: =120+50 -> 170 | K29: 126 | L29: 127.5 | M29: налоги
A30: Субсидии на софинансирование расходных обязательств поселений | B30: 920 | C30: 01 | D30: 04 | E30: 65 | F30: 4 | G30: 00 | H30: 44200 | J30: =J31 -> 100.7
A31: Субсидии на софинансирование расходных обязательств по финансовому обеспечению деятельности органов местного самоуправления и муниципальных учреждений | B31: 920 | C31: 01 | D31: 04 | E31: 65 | F31: 4 | G31: 00 | H31: 44205 | J31: =J32 -> 100.7
A32: Расходы на выплаты персоналу в целях обеспечения выполнения функций государственными (муниципальными) органами, казенными учреждениями, органами управления государственными внебюджетными фондами | B32: 920 | C32: 01 | D32: 04 | E32: 65 | F32: 4 | G32: 00 | H32: 44205 | I32: 100 | J32: =J33 -> 100.7
A33: Расходы на выплаты персоналу государственных (муниципальных) органов | B33: 920 | C33: 01 | D33: 04 | E33: 65 | F33: 4 | G33: 00 | H33: 44205 | I33: 120 | J33: 100.7
A34: Осуществление государственных полномочий Республики Мордовия по определению перечня должностных лиц, уполномоченных составлять протоколы об административных правонарушениях, предусмотренных Законом Республики Мордовия от 15 июня 2015 года № 38-З "Об административной ответственности на территории Республики Мордовия" | B34: 920 | C34: 01 | D34: 04 | E34: 65 | F34: 4 | G34: 00 | H34: 77150 | J34: =J35 -> 0.5 | K34: =K35 -> 0.5 | L34: =L35 -> 0.5
A35: Закупка товаров, работ и услуг для обеспечения государственных (муниципальных) нужд | B35: 920 | C35: 01 | D35: 04 | E35: 65 | F35: 4 | G35: 00 | H35: 77150 | I35: 200 | J35: =J36 -> 0.5 | K35: =K36 -> 0.5 | L35: =L36 -> 0.5
A36: Иные закупки товаров, работ и услуг для обеспечения государственных (муниципальных) нужд | B36: 920 | C36: 01 | D36: 04 | E36: 65 | F36: 4 | G36: 00 | H36: 77150 | I36: 240 | J36: 0.5 | K36: 0.5 | L36: 0.5
A37: Обеспечение деятельности финансовых, налоговых и таможенных органов и органов финансового (финансово-бюджетного) надзора | B37: 920 | C37: 01 | D37: 06 | J37: =J38 -> 4.3 | K37: =K38 -> 0 | L37: =L38 -> 0
A38: Непрограммные расходы главных распорядителей бюджетных средств местного бюджета | B38: 920 | C38: 01 | D38: 06 | E38: 89 | J38: =J39 -> 4.3 | K38: =K39 -> 0 | L38: =L39 -> 0
A39: Непрограммные расходы в рамках обеспечения деятельности главных распорядителей бюджетных средств местного бюджета | B39: 920 | C39: 01 | D39: 06 | E39: 89 | F39: 1 | J39: =J40 -> 4.3 | K39: =K40 -> 0 | L39: =L40 -> 0
A40: Иные межбюджетные трансферты на осуществление полномочий по составлению и рассмотрению проекта бюджета поселения, утверждению и исполнению бюджета поселения, осуществлению контроля за его исполнением, составлению и утверждению отчета об исполнении бюджета поселения | B40: 920 | C40: 01 | D40: 06 | E40: 89 | F40: 1 | G40: 00 | H40: 44501 | J40: =J41 -> 4.3 | K40: =K41 -> 0 | L40: =L41 -> 0
...

Sheet Приложение 3
H1: Приложение 3 к решению Совета депутатов Сабаевского сельского поселения «О бюджете Сабаевского сельского поселения на 2023 год и на плановый период 2024 и 2025 годов» от __________г №_____
A2: РАСПРЕДЕЛЕНИЕ БЮДЖЕТНЫХ АССИГНОВАНИЙ БЮДЖЕТА САБАЕВСКОГО СЕЛЬСКОГО ПОСЕЛЕНИЯ ПО РАЗДЕЛАМ, ПОДРАЗДЕЛАМ, ЦЕЛЕВЫМ СТАТЬЯМ (МУНИЦИПАЛЬНЫМ ПРОГРАММАМ И НЕПРОГРАМНЫМ НАПРАВЛЕНИЯМ ДЕЯТЕЛЬНОСТИ) , ГРУППАМ (ГРУППАМ И ПОДГРУППАМ) ВИДОВ РАСХОДОВ КЛАССИФИКАЦИИ РАСХОДОВ БЮДЖЕТОВ НА 2023 ГОД И НА ПЛАНОВЫЙ ПЕРИОД 2024 И 2025 ГОДОВ
H3: (тыс. рублей)
A4: Наименование | B4: Рз | C4: Прз | D4: Цср | H4: Вр | I4: Сумма
I5: 2023 год | J5: 2024 год | K5: 2025 год
A6: 1 | B6: 2 | C6: 3 | D6: 4 | E6: 5 | F6: 6 | G6: 7 | H6: 8 | I6: 9 | J6: 10 | K6: 11
A7: ВСЕГО | I7: =I8+I55+I71+I84+I106+I113+I120+I64 -> 2441.54 | J7: =J8+J55+J71+J84+J106+J113+J120+J64 -> 2480.95 | K7: =K8+K55+K71+K84+K106+K113+K120+K64 -> 2499
A8: Общегосударственные вопросы | B8: 01 | I8: =I9+I19+I49+I37+I43 -> 1340.94 | J8: =J9+J19+J49+J37 -> 1061.6 | K8: =K9+K19+K49+K37 -> 1075.3
A9: Функционирование высшего должностного лица субъекта Российской Федерации и муниципального образования | B9: 01 | C9: 02 | I9: =I10 -> 381.2 | J9: =J10 -> 331.2 | K9: =K10 -> 331.2
A10: Обеспечение деятельности администрации Сабаевского сельского поселения Кочкуровского муниципального района Республики Мордовия | B10: 01 | C10: 02 | D10: 65 | E10: 0 | I10: =I11 -> 381.2 | J10: =J11 -> 331.2 | K10: =K11 -> 331.2
A11: Глава Сабаевского сельского поселения Кочкуровского муниципального района Республики Мордовия | B11: 01 | C11: 02 | D11: 65 | E11: 1 | I11: =I12+I15 -> 381.2 | J11: =J12 -> 331.2 | K11: =K12 -> 331.2
A12: Расходы на выплаты по оплате труда высшего должностного лица | B12: 01 | C12: 02 | D12: 65 | E12: 1 | F12: 00 | G12: 41150 | I12: =I13 -> 231.2 | J12: =J13 -> 331.2 | K12: =K13 -> 331.2
A13: Расходы на выплаты персоналу в целях обеспечения выполнения функций государственными (муниципальными) органами, казенными учреждениями, органами управления государственными внебюджетными фондами | B13: 01 | C13: 02 | D13: 65 | E13: 1 | F13: 00 | G13: 41150 | H13: 100 | I13: =I14 -> 231.2 | J13: =J14 -> 331.2 | K13: =K14 -> 331.2
A14: Расходы на выплаты персоналу государственных (муниципальных) органов | B14: 01 | C14: 02 | D14: 65 | E14: 1 | F14: 00 | G14: 41150 | H14: 120 | I14: ='Приложение 2'!J14 -> 231.2 | J14: ='Приложение 2'!K14 -> 331.2 | K14: ='Приложение 2'!L14 -> 331.2
A15: Субсидии на софинансирование расходных обязательств поселений | B15: 01 | C15: 02 | D15: 65 | E15: 1 | F15: 00 | G15: 44200 | I15: =I16 -> 150
A16: Субсидии на софинансирование расходных обязательст по финансовому обеспечению деятельности органов местного самоуправления и муниципальных учреждений | B16: 01 | C16: 02 | D16: 65 | E16: 1 | F16: 00 | G16: 44205 | I16: =I17 -> 150
A17: Расходы на выплаты персоналу в целях обеспечения выполнения функций государственными (муниципальными) органами, казенными учреждениями, органами управления государственными внебюджетными фондами | B17: 01 | C17: 02 | D17: 65 | E17: 1 | F17: 00 | G17: 44205 | H17: 100 | I17: =I18 -> 150
A18: Расходы на выплаты персоналу государственных (муниципальных) органов | B18: 01 | C18: 02 | D18: 65 | E18: 1 | F18: 00 | G18: 44205 | H18: 120 | I18: ='Приложение 2'!J18 -> 150
A19: Функционирование Правительства Российской Федерации, высших исполнительных органов государственной власти субъектов Российской Федерации, местных администраций | B19: 01 | C19: 04 | I19: =I20 -> 922 | J19: =J20 -> 720.4 | K19: =K20 -> 734.1
A20: Обеспечение деятельности администрации Сабаевского сельского поселения Кочкуровского муниципального района Республики Мордовия | B20: 01 | C20: 04 | D20: 65 | I20: =I21 -> 922 | J20: =J21 -> 720.4 | K20: =K21 -> 734.1
A21: Непрограммные расходы в рамках обеспечения деятельности администрации Сабаевского сельского поселения Кочкуровского муниципального района Республики Мордовия | B21: 01 | C21: 04 | D21: 65 | E21: 4 | I21: =I22+I25+I34+I30 -> 922 | J21: =J22+J25+J34 -> 720.4 | K21: =K22+K25+K34 -> 734.1
A22: Расходы на выплаты по оплате труда работников органов местного самоуправления | B22: 01 | C22: 04 | D22: 65 | E22: 4 | F22: 00 | G22: 41110 | I22: =I23 -> 508.6 | J22: =J23 -> 445.7 | K22: =K23 -> 462.9
A23: Расходы на выплаты персоналу в целях обеспечения выполнения функций государственными (муниципальными) органами, казенными учреждениями, органами управления государственными внебюджетными фондами | B23: 01 | C23: 04 | D23: 65 | E23: 4 | F23: 00 | G23: 41110 | H23: 100 | I23: =I24 -> 508.6 | J23: =J24 -> 445.7 | K23: =K24 -> 462.9
A24: Расходы на выплаты персоналу государственных (муниципальных) органов | B24: 01 | C24: 04 | D24: 65 | E24: 4 | F24: 00 | G24: 41110 | H24: 120 | I24: ='Приложение 2'!J24 -> 508.6 | J24: ='Приложение 2'!K24 -> 445.7 | K24: ='Приложение 2'!L24 -> 462.9
A25: Расходы на обеспечение функций органов местного самоуправления | B25: 01 | C25: 04 | D25: 65 | E25: 4 | F25: 00 | G25: 41120 | I25: =I26+I28 -> 312.2 | J25: =J26+J28 -> 274.2 | K25: =K26+K28 -> 270.7
A26: Закупка товаров, работ и услуг для обеспечения государственных (муниципальных) нужд | B26: 01 | C26: 04 | D26: 65 | E26: 4 | F26: 00 | G26: 41120 | H26: 200 | I26: =I27 -> 142.2 | J26: =J27 -> 148.2 | K26: =K27 -> 143.2
A27: Иные закупки товаров, работ и услуг для обеспечения государственных (муниципальных) нужд | B27: 01 | C27: 04 | D27: 65 | E27: 4 | F27: 00 | G27: 41120 | H27: 240 | I27: ='Приложение 2'!J27 -> 142.2 | J27: ='Приложение 2'!K27 -> 148.2 | K27: ='Приложение 2'!L27 -> 143.2
A28: Иные бюджетные ассигнования | B28: 01 | C28: 04 | D28: 65 | E28: 4 | F28: 00 | G28: 41120 | H28: 800 | I28: =I29 -> 170 | J28: =J29 -> 126 | K28: =K29 -> 127.5
A29: Уплата налогов, сборов и иных платежей | B29: 01 | C29: 04 | D29: 65 | E29: 4 | F29: 00 | G29: 41120 | H29: 850 | I29: ='Приложение 2'!J29 -> 170 | J29: ='Приложение 2'!K29 -> 126 | K29: ='Приложение 2'!L29 -> 127.5
A30: Иные межбюджетные трансферты на софинансирование расходных обязательств поселений | B30: 01 | C30: 04 | D30: 65 | E30: 4 | F30: 00 | G30: 44200 | I30: =I31 -> 100.7
A31: Субсидии на софинансирование расходных обязательств по финансовому обеспечению деятельности органов местного самоуправления и муниципальных учреждений | B31: 01 | C31: 04 | D31: 65 | E31: 4 | F31: 00 | G31: 44205 | I31: =I32 -> 100.7
A32: Расходы на выплаты персоналу в целях обеспечения выполнения функций государственными (муниципальными) органами, казенными учреждениями, органами управления государственными внебюджетными фондами | B32: 01 | C32: 04 | D32: 65 | E32: 4 | F32: 00 | G32: 44205 | H32: 100 | I32: =I33 -> 100.7
A33: Расходы на выплаты персоналу государственных (муниципальных) органов | B33: 01 | C33: 04 | D33: 65 | E33: 4 | F33: 00 | G33: 44205 | H33: 120 | I33: ='Приложение 2'!J33 -> 100.7
A34: Осуществление государственных полномочий Республики Мордовия по определению перечня должностных лиц, уполномоченных составлять протоколы об административных правонарушениях, предусмотренных Законом Республики Мордовия от 15 июня 2015 года № 38-З "Об административной ответственности на территории Республики Мордовия" | B34: 01 | C34: 04 | D34: 65 | E34: 4 | F34: 00 | G34: 77150 | I34: =I35 -> 0.5 | J34: =J35 -> 0.5 | K34: =K35 -> 0.5
A35: Закупка товаров, работ и услуг для обеспечения государственных (муниципальных) нужд | B35: 01 | C35: 04 | D35: 65 | E35: 4 | F35: 00 | G35: 77150 | H35: 200 | I35: =I36 -> 0.5 | J35: =J36 -> 0.5 | K35: =K36 -> 0.5
A36: Иные закупки товаров, работ и услуг для обеспечения государственных (муниципальных) нужд | B36: 01 | C36: 04 | D36: 65 | E36: 4 | F36: 00 | G36: 77150 | H36: 240 | I36: ='Приложение 2'!J36 -> 0.5 | J36: ='Приложение 2'!K36 -> 0.5 | K36: ='Приложение 2'!L36 -> 0.5
A37: Обеспечение деятельности финансовых, налоговых и таможенных органов и органов финансового (финансово-бюджетного) надзора | B37: 01 | C37: 06 | I37: =I38 -> 4.3 | J37: =J38 -> 0 | K37: =K38 -> 0
A38: Непрограммные расходы главных распорядителей бюджетных средств местного бюджета | B38: 01 | C38: 06 | D38: 89 | I38: =I39 -> 4.3 | J38: =J39 -> 0 | K38: =K39 -> 0
A39: Непрограммные расходы в рамках обеспечения деятельности главных распорядителей бюджетных средств местного бюджета | B39: 01 | C39: 06 | D39: 89 | E39: 1 | I39: =I40 -> 4.3 | J39: =J40 -> 0 | K39: =K40 -> 0
A40: Иные межбюджетные трансферты на осуществление полномочий по составлению и рассмотрению проекта бюджета поселения, утверждению и исполнению бюджета поселения, осуществлению контроля за его исполнением, составлению и утверждению отчета об исполнении бюджета поселения | B40: 01 | C40: 06 | D40: 89 | E40: 1 | F40: 00 | G40: 44501 | I40: =I41 -> 4.3 | J40: =J41 -> 0 | K40: =K41 -> 0
...

Sheet Приложение 4
F1: Приложение 4 к решению Совета депутатов Сабаевского сельского поселения «О бюджете Сабаевского сельского поселения на 2023 год и на плановый период 2024 и 2025 годов» от __________г №_____
A3: РАСПРЕДЕЛЕНИЕ БЮДЖЕТНЫХ АССИГНОВАНИЙ БЮДЖЕТА САБАЕВСКОГО СЕЛЬСКОГО ПОСЕЛЕНИЯ ПО ЦЕЛЕВЫМ СТАТЬЯМ (МУНИЦИПАЛЬНЫМ ПРОГРАММАМ И НЕПРОГРАМНЫМ НАПРАВЛЕНИЯМ ДЕЯТЕЛЬНОСТИ) , ГРУППАМ И ПОДГРУППАМ ВИДОВ РАСХОДОВ, РАЗДЕЛАМ И ПОДРАЗДЕЛАМ КЛАССИФИКАЦИИ РАСХОДОВ БЮДЖЕТОВ НА 2023 ГОД И НА ПЛАНОВЫЙ ПЕРИОД 2024 И 2025 ГОДОВ
F4: (тыс. рублей)
A5: Наименование | B5: Цср | F5: Вр | G5: Рз | H5: Прз | I5: Адм | J5: Сумма
J6: 2023 год | K6: 2024 год | L6: 2025 год
A7: 1 | B7: 2 | C7: 3 | D7: 4 | E7: 5 | F7: 6 | G7: 7 | H7: 8 | I7: 9 | J7: 10 | K7: 11 | L7: 12
A8: ВСЕГО | J8: =J17+J63+J9 -> 2441.54 | K8: =K17+K63+K9 -> 2480.95 | L8: =L17+L63+L9 -> 2499
A9: Программа «Комплексное развитие транспортной инфраструктуры Сабаевского сельского поселения Кочкуровского муниципального района Республики Мордовия на 2021-2028 годы» | B9: 13 | J9: =J10 -> 519.3 | K9: =K10 -> 989 | L9: =L10 -> 989
A10: Основное мероприятие "обеспечение сохранности автомобильных дорог местного значения путем выполнения эксплуатационных и ремонтных мероприятий; ямочный ремонт, разметка дорог, установка дорожных знаков, обкашивание дорожных обочин, очистка дорог от снега." | B10: 13 | C10: 0 | D10: 0 1 | J10: =J11 -> 519.3 | K10: =K11 -> 989 | L10: =L11 -> 989
A11: Осуществление полномочий по дорожной деятельности в отношении автомобильных дорог местного значения в границах населенных пунктов поселения и обеспечению безопасности дорожного движения на них, включая создание и обеспечение функционирования парковок (парковочных мест), осуществление муниципального контроля за сохранностью автомобильных дорог местного значения в границах населенных пунктов поселения, организация дорожного движения, а также осуществление иных полномочий в области использования автомобильных дорог и осуществления дорожной деятельности в соответствии с законодательством Российской Федерации | B11: 13 | C11: 0 | D11: 0 1 | E11: 44102 | J11: =J12 -> 519.3 | K11: =K12 -> 989 | L11: =L12 -> 989
A12: Закупка товаров, работ и услуг для обеспечения государственных (муниципальных) нужд | B12: 13 | C12: 0 | D12: 0 1 | E12: 44102 | F12: 200 | J12: =J13 -> 519.3 | K12: =K13 -> 989 | L12: =L13 -> 989
A13: Иные закупки товаров, работ и услуг для обеспечения государственных (муниципальных) нужд | B13: 13 | C13: 0 | D13: 0 1 | E13: 44102 | F13: 240 | J13: =J14 -> 519.3 | K13: =K14 -> 989 | L13: =L14 -> 989
A14: Национальная экономика | B14: 13 | C14: 0 | D14: 0 1 | E14: 44102 | F14: 240 | G14: 04 | J14: =J15 -> 519.3 | K14: =K15 -> 989 | L14: =L15 -> 989
A15: Дорожное хозяйство (дорожные фонды) | B15: 13 | C15: 0 | D15: 0 1 | E15: 44102 | F15: 240 | G15: 04 | H15: 09 | J15: =J16 -> 519.3 | K15: =K16 -> 989 | L15: =L16 -> 989
A16: Администрация Сабаевского сельского поселения Кочкуровского муниципального района | B16: 13 | C16: 0 | D16: 0 1 | E16: 44102 | F16: 240 | G16: 04 | H16: 09 | I16: 920 | J16: ='Приложение 2'!J77 -> 519.3 | K16: ='Приложение 2'!K77 -> 989 | L16: ='Приложение 2'!L77 -> 989
A17: Обеспечение деятельности администрации Сабаевского сельского поселения Кочкуровского муниципального района Республики Мордовия | B17: 65 | J17: =J18+J32 -> 1303.2 | K17: =K18+K32 -> 1051.6 | L17: =L18+L32 -> 1065.3
A18: Глава Сабаевского сельского поселения Кочкуровского муниципального района Республики Мордовия | B18: 65 | C18: 1 | D18: 00 | J18: =J19+J25 -> 381.2 | K18: =K19 -> 331.2 | L18: =L19 -> 331.2
A19: Расходы на выплаты по оплате труда высшего должностного лица | B19: 65 | C19: 1 | D19: 00 | E19: 41150 | J19: =J20 -> 231.2 | K19: =K20 -> 331.2 | L19: =L20 -> 331.2
A20: Расходы на выплаты персоналу в целях обеспечения выполнения функций государственными (муниципальными) органами, казенными учреждениями, органами управления государственными внебюджетными фондами | B20: 65 | C20: 1 | D20: 00 | E20: 41150 | F20: 100 | J20: =J21 -> 231.2 | K20: =K21 -> 331.2 | L20: =L21 -> 331.2
A21: Расходы на выплаты персоналу государственных (муниципальных) органов | B21: 65 | C21: 1 | D21: 00 | E21: 41150 | F21: 120 | J21: =J22 -> 231.2 | K21: =K22 -> 331.2 | L21: =L22 -> 331.2
A22: Общегосударственные вопросы | B22: 65 | C22: 1 | D22: 00 | E22: 41150 | F22: 120 | G22: 01 | J22: =J23 -> 231.2 | K22: =K23 -> 331.2 | L22: =L23 -> 331.2
A23: Функционирование высшего должностного лица субъекта Российской Федерации и муниципального образования | B23: 65 | C23: 1 | D23: 00 | E23: 41150 | F23: 120 | G23: 01 | H23: 02 | J23: =J24 -> 231.2 | K23: =K24 -> 331.2 | L23: =L24 -> 331.2
A24: Администрация Сабаевского сельского поселения Кочкуровского муниципального района | B24: 65 | C24: 1 | D24: 00 | E24: 41150 | F24: 120 | G24: 01 | H24: 02 | I24: 920 | J24: ='Приложение 2'!J14 -> 231.2 | K24: ='Приложение 2'!K14 -> 331.2 | L24: ='Приложение 2'!L14 -> 331.2
A25: Субсидии на софинансирование расходных обязательств поселений | B25: 65 | C25: 1 | D25: 00 | E25: 44205 | J25: =J26 -> 150
A26: Субсидии на софинансирование расходных обязательст по финансовому обеспечению деятельности органов местного самоуправления и муниципальных учреждений | B26: 65 | C26: 1 | D26: 00 | E26: 44205 | J26: =J27 -> 150
A27: Расходы на выплаты персоналу в целях обеспечения выполнения функций государственными (муниципальными) органами, казенными учреждениями, органами управления государственными внебюджетными фондами | B27: 65 | C27: 1 | D27: 00 | E27: 44205 | F27: 100 | J27: =J28 -> 150
A28: Расходы на выплаты персоналу государственных (муниципальных) органов | B28: 65 | C28: 1 | D28: 00 | E28: 44205 | F28: 120 | J28: =J29 -> 150
A29: Общегосударственные вопросы | B29: 65 | C29: 1 | D29: 00 | E29: 44205 | F29: 120 | G29: 01 | J29: =J30 -> 150
A30: Функционирование высшего должностного лица субъекта Российской Федерации и муниципального образования | B30: 65 | C30: 1 | D30: 00 | E30: 44205 | F30: 120 | G30: 01 | H30: 02 | J30: =J31 -> 150
A31: Администрация Сабаевского сельского поселения Кочкуровского муниципального района | B31: 65 | C31: 1 | D31: 00 | E31: 44205 | F31: 120 | G31: 01 | H31: 02 | I31: 920 | J31: ='Приложение 2'!J18 -> 150
A32: Непрограммные расходы в рамках обеспечения деятельности администрации Сабаевского сельского поселения Кочкуровского муниципального района Республики Мордовия | B32: 65 | C32: 4 | J32: =J33+J39+J57+J50 -> 922 | K32: =K33+K39+K57 -> 720.4 | L32: =L33+L39+L57 -> 734.1
A33: Расходы на выплаты по оплате труда работников органов местного самоуправления | B33: 65 | C33: 4 | D33: 00 | E33: 41110 | J33: =J34 -> 508.6 | K33: =K34 -> 445.7 | L33: =L34 -> 462.9
A34: Расходы на выплаты персоналу в целях обеспечения выполнения функций государственными (муниципальными) органами, казенными учреждениями, органами управления государственными внебюджетными фондами | B34: 65 | C34: 4 | D34: 00 | E34: 41110 | F34: 100 | J34: =J35 -> 508.6 | K34: =K35 -> 445.7 | L34: =L35 -> 462.9
A35: Расходы на выплаты персоналу государственных (муниципальных) органов | B35: 65 | C35: 4 | D35: 00 | E35: 41110 | F35: 120 | J35: =J36 -> 508.6 | K35: =K36 -> 445.7 | L35: =L36 -> 462.9
A36: Общегосударственные вопросы | B36: 65 | C36: 4 | D36: 00 | E36: 41110 | F36: 120 | G36: 01 | J36: =J37 -> 508.6 | K36: =K37 -> 445.7 | L36: =L37 -> 462.9
A37: Функционирование Правительства Российской Федерации, высших исполнительных органов государственной власти субъектов Российской Федерации, местных администраций | B37: 65 | C37: 4 | D37: 00 | E37: 41110 | F37: 120 | G37: 01 | H37: 04 | J37: =J38 -> 508.6 | K37: =K38 -> 445.7 | L37: =L38 -> 462.9
A38: Администрация Сабаевского сельского поселения Кочкуровского муниципального района | B38: 65 | C38: 4 | D38: 00 | E38: 41110 | F38: 120 | G38: 01 | H38: 04 | I38: 920 | J38: ='Приложение 2'!J24 -> 508.6 | K38: ='Приложение 2'!K24 -> 445.7 | L38: ='Приложение 2'!L24 -> 462.9
A39: Расходы на обеспечение функций органов местного самоуправления | B39: 65 | C39: 4 | D39: 00 | E39: 41120 | J39: =J40+J45 -> 312.2 | K39: =K40+K45 -> 274.2 | L39: =L40+L45 -> 270.7
A40: Закупка товаров, работ и услуг для обеспечения государственных (муниципальных) нужд | B40: 65 | C40: 4 | D40: 00 | E40: 41120 | F40: 200 | J40: =J41 -> 142.2 | K40: =K41 -> 148.2 | L40: =L41 -> 143.2
A41: Иные закупки товаров, работ и услуг для обеспечения государственных (муниципальных) нужд | B41: 65 | C41: 4 | D41: 00 | E41: 41120 | F41: 240 | J41: =J42 -> 142.2 | K41: =K42 -> 148.2 | L41: =L42 -> 143.2
...

Sheet Приложение 5
F1: Приложение 1 к решению Совета депутатов Сабаевского сельского поселения «О бюджете Сабаевского сельского поселения на 2023 год и на плановый период 2024 и 2025 годов» от __________г №_____
A2: РАСПРЕДЕЛЕНИЕ БЮДЖЕТНЫХ АССИГНОВАНИЙ БЮДЖЕТА САБАЕВСКОГО СЕЛЬСКОГО ПОСЕЛЕНИЯ НА ОСУЩЕСТВЛЕНИЕ БЮДЖЕТНЫХ ИНВЕСТИЦИЙ В ФОРМЕ КАПИТАЛЬНЫХ ВЛОЖЕНИЙ В ОБЪЕКТЫ МУНИЦИПАЛЬНОЙ СОБСТВЕННОСТИ НА 2023 ГОД И НА ПЛАНОВЫЙ ПЕРИОД 2024 И 2025 ГОДОВ
A4: Наименование | B4: Цср | F4: Рз | G4: Прз | H4: Адм | I4: Сумма
I5: 2023 год | J5: 2024 год | K5: 2025 год
A6: 1 | B6: 2 | C6: 3 | D6: 4 | E6: 5 | F6: 6 | G6: 7 | H6: 8 | I6: 9 | J6: 10 | K6: 11
A7: ВСЕГО | I7: =I16+I60+I8 -> 2441.54 | J7: =J16+J60+J8 -> 2480.95 | K7: =K16+K60+K8 -> 2499
A8: Программа «Комплексное развитие транспортной инфраструктуры Сабаевского сельского поселения Кочкуровского муниципального района Республики Мордовия на 2021-2028 годы» | B8: 13 | I8: =I9 -> 519.3 | J8: =J9 -> 989 | K8: =K9 -> 989
A9: Основное мероприятие "обеспечение сохранности автомобильных дорог местного значения путем выполнения эксплуатационных и ремонтных мероприятий; ямочный ремонт, разметка дорог, установка дорожных знаков, обкашивание дорожных обочин, очистка дорог от снега." | B9: 13 | C9: 0 | D9: 0 1 | I9: =I10 -> 519.3 | J9: =J10 -> 989 | K9: =K10 -> 989
A10: Осуществление полномочий по дорожной деятельности в отношении автомобильных дорог местного значения в границах населенных пунктов поселения и обеспечению безопасности дорожного движения на них, включая создание и обеспечение функционирования парковок (парковочных мест), осуществление муниципального контроля за сохранностью автомобильных дорог местного значения в границах населенных пунктов поселения, организация дорожного движения, а также осуществление иных полномочий в области использования автомобильных дорог и осуществления дорожной деятельности в соответствии с законодательством Российской Федерации | B10: 13 | C10: 0 | D10: 0 1 | E10: 44102 | I10: =I11 -> 519.3 | J10: =J11 -> 989 | K10: =K11 -> 989
A11: Закупка товаров, работ и услуг для обеспечения государственных (муниципальных) нужд | B11: 13 | C11: 0 | D11: 0 1 | E11: 44102 | I11: =I12 -> 519.3 | J11: =J12 -> 989 | K11: =K12 -> 989
A12: Иные закупки товаров, работ и услуг для обеспечения государственных (муниципальных) нужд | B12: 13 | C12: 0 | D12: 0 1 | E12: 44102 | I12: =I13 -> 519.3 | J12: =J13 -> 989 | K12: =K13 -> 989
A13: Национальная экономика | B13: 13 | C13: 0 | D13: 0 1 | E13: 44102 | F13: 04 | I13: =I14 -> 519.3 | J13: =J14 -> 989 | K13: =K14 -> 989
A14: Дорожное хозяйство (дорожные фонды) | B14: 13 | C14: 0 | D14: 0 1 | E14: 44102 | F14: 04 | G14: 09 | I14: =I15 -> 519.3 | J14: =J15 -> 989 | K14: =K15 -> 989
A15: Администрация Сабаевского сельского поселения Кочкуровского муниципального района | B15: 13 | C15: 0 | D15: 0 1 | E15: 44102 | F15: 04 | G15: 09 | H15: 920 | I15: ='Приложение 2'!J77 -> 519.3 | J15: ='Приложение 2'!K77 -> 989 | K15: ='Приложение 2'!L77 -> 989
A16: Обеспечение деятельности администрации Сабаевского сельского поселения Кочкуровского муниципального района Республики Мордовия | B16: 65 | I16: =I17+I29 -> 1303.2 | J16: =J17+J29 -> 1051.6 | K16: =K17+K29 -> 1065.3
A17: Глава Сабаевского сельского поселения Кочкуровского муниципального района Республики Мордовия | B17: 65 | C17: 1 | D17: 00 | I17: =I18 -> 381.2 | J17: =J18 -> 331.2 | K17: =K18 -> 331.2
A18: Расходы на выплаты по оплате труда высшего должностного лица | B18: 65 | C18: 1 | D18: 00 | E18: 41150 | I18: =I19 -> 381.2 | J18: =J19 -> 331.2 | K18: =K19 -> 331.2
A19: Расходы на выплаты персоналу в целях обеспечения выполнения функций государственными (муниципальными) органами, казенными учреждениями, органами управления государственными внебюджетными фондами | B19: 65 | C19: 1 | D19: 00 | E19: 41150 | I19: =I20 -> 381.2 | J19: =J20 -> 331.2 | K19: =K20 -> 331.2
A20: Расходы на выплаты персоналу государственных (муниципальных) органов | B20: 65 | C20: 1 | D20: 00 | E20: 41150 | I20: =I21 -> 381.2 | J20: =J21 -> 331.2 | K20: =K21 -> 331.2
A21: Общегосударственные вопросы | B21: 65 | C21: 1 | D21: 00 | E21: 41150 | F21: 01 | I21: =I22+I26 -> 381.2 | J21: =J22 -> 331.2 | K21: =K22 -> 331.2
A22: Функционирование высшего должностного лица субъекта Российской Федерации и муниципального образования | B22: 65 | C22: 1 | D22: 00 | E22: 41150 | F22: 01 | G22: 02 | I22: =I23 -> 231.2 | J22: =J23 -> 331.2 | K22: =K23 -> 331.2
A23: Администрация Сабаевского сельского поселения Кочкуровского муниципального района | B23: 65 | C23: 1 | D23: 00 | E23: 41150 | F23: 01 | G23: 02 | H23: 920 | I23: ='Приложение 2'!J14 -> 231.2 | J23: ='Приложение 2'!K14 -> 331.2 | K23: ='Приложение 2'!L14 -> 331.2
A24: Субсидии на софинансирование расходных обязательств поселений | B24: 65 | C24: 1 | D24: 00 | E24: 44205 | I24: =I25 -> 150
A25: Субсидии на софинансирование расходных обязательст по финансовому обеспечению деятельности органов местного самоуправления и муниципальных учреждений | B25: 65 | C25: 1 | D25: 00 | E25: 44205 | I25: =I26 -> 150
A26: Общегосударственные вопросы | B26: 65 | C26: 1 | D26: 00 | E26: 44205 | F26: 01 | I26: =I27 -> 150
A27: Функционирование высшего должностного лица субъекта Российской Федерации и муниципального образования | B27: 65 | C27: 1 | D27: 00 | E27: 44205 | F27: 01 | G27: 02 | I27: =I28 -> 150
A28: Администрация Сабаевского сельского поселения Кочкуровского муниципального района | B28: 65 | C28: 1 | D28: 00 | E28: 44205 | F28: 01 | G28: 02 | H28: 920 | I28: ='Приложение 2'!J18 -> 150
A29: Непрограммные расходы в рамках обеспечения деятельности администрации Сабаевского сельского поселения Кочкуровского муниципального района Республики Мордовия | B29: 65 | C29: 4 | I29: =I30+I36+I54+I47 -> 922 | J29: =J30+J36+J54 -> 720.4 | K29: =K30+K36+K54 -> 734.1
A30: Расходы на выплаты по оплате труда работников органов местного самоуправления | B30: 65 | C30: 4 | D30: 00 | E30: 41110 | I30: =I31 -> 508.6 | J30: =J31 -> 445.7 | K30: =K31 -> 462.9
A31: Расходы на выплаты персоналу в целях обеспечения выполнения функций государственными (муниципальными) органами, казенными учреждениями, органами управления государственными внебюджетными фондами | B31: 65 | C31: 4 | D31: 00 | E31: 41110 | I31: =I32 -> 508.6 | J31: =J32 -> 445.7 | K31: =K32 -> 462.9
A32: Расходы на выплаты персоналу государственных (муниципальных) органов | B32: 65 | C32: 4 | D32: 00 | E32: 41110 | I32: =I33 -> 508.6 | J32: =J33 -> 445.7 | K32: =K33 -> 462.9
A33: Общегосударственные вопросы | B33: 65 | C33: 4 | D33: 00 | E33: 41110 | F33: 01 | I33: =I34 -> 508.6 | J33: =J34 -> 445.7 | K33: =K34 -> 462.9
A34: Функционирование Правительства Российской Федерации, высших исполнительных органов государственной власти субъектов Российской Федерации, местных администраций | B34: 65 | C34: 4 | D34: 00 | E34: 41110 | F34: 01 | G34: 04 | I34: =I35 -> 508.6 | J34: =J35 -> 445.7 | K34: =K35 -> 462.9
A35: Администрация Сабаевского сельского поселения Кочкуровского муниципального района | B35: 65 | C35: 4 | D35: 00 | E35: 41110 | F35: 01 | G35: 04 | H35: 920 | I35: ='Приложение 2'!J24 -> 508.6 | J35: ='Приложение 2'!K24 -> 445.7 | K35: ='Приложение 2'!L24 -> 462.9
A36: Расходы на обеспечение функций органов местного самоуправления | B36: 65 | C36: 4 | D36: 00 | E36: 41120 | I36: =I37+I42 -> 312.2 | J36: =J37+J42 -> 274.2 | K36: =K37+K42 -> 270.7
A37: Закупка товаров, работ и услуг для обеспечения государственных (муниципальных) нужд | B37: 65 | C37: 4 | D37: 00 | E37: 41120 | I37: =I38 -> 142.2 | J37: =J38 -> 148.2 | K37: =K38 -> 143.2
A38: Иные закупки товаров, работ и услуг для обеспечения государственных (муниципальных) нужд | B38: 65 | C38: 4 | D38: 00 | E38: 41120 | I38: =I39 -> 142.2 | J38: =J39 -> 148.2 | K38: =K39 -> 143.2
A39: Общегосударственные вопросы | B39: 65 | C39: 4 | D39: 00 | E39: 41120 | F39: 01 | I39: =I40 -> 142.2 | J39: =J40 -> 148.2 | K39: =K40 -> 143.2
A40: Функционирование Правительства Российской Федерации, высших исполнительных органов государственной власти субъектов Российской Федерации, местных администраций | B40: 65 | C40: 4 | D40: 00 | E40: 41120 | F40: 01 | G40: 04 | I40: =I41 -> 142.2 | J40: =J41 -> 148.2 | K40: =K41 -> 143.2
A41: Администрация Сабаевского сельского поселения Кочкуровского муниципального района | B41: 65 | C41: 4 | D41: 00 | E41: 41120 | F41: 01 | G41: 04 | H41: 920 | I41: ='Приложение 2'!J27 -> 142.2 | J41: ='Приложение 2'!K27 -> 148.2 | K41: ='Приложение 2'!L27 -> 143.2
...

Sheet Приложение 6
B1: Приложение 6 к решению Совета депутатов Сабаевского сельского поселения «О бюджете Сабаевского сельского поселения на 2023 год и на плановый период 2024 и 2025 годов» от __________г №_____
A7: РАСПРЕДЕЛЕНИЕ ИНЫХ МЕЖБЮДЖЕТНЫХ ТРАНСФЕРТОВ САБАЕВСКОГО СЕЛЬСКОГО ПОСЕЛЕНИЯ НА 2023 ГОД И НА ПЛАНОВЫЙ ПЕРИОД 2024 И 2025 ГОДОВ
A9: Наименование | B9: Сумма (тыс. руб.)
B10: 2023 год | C10: 2024 год | D10: 2025 год
A11: 1 | B11: 2 | C11: 3 | D11: 4
A12: Составление проекта бюджета, исполнение бюджета,осуществление конроля за его исполнение, составление отчета об исполнении бюджета сельского поселения | B12: 4.3 | C12: 0 | D12: 0
A13: ВСЕГО

Sheet Приложение 7
C1: Приложение 7 к решению Совета депутатов Сабаевского сельского поселения «О бюджете Сабаевского сельского поселения на 2023 год и на плановый период 2024 и 2025 годов» от __________г №_____
A7: ИСТОЧНИКИ ВНУТРЕННЕГО ФИНАНСИРОВАНИЯ ДЕФИЦИТА БЮДЖЕТА САБАЕВСКОГО СЕЛЬСКОГО ПОСЕЛЕНИЯ НА 2023 ГОД И НА ПЛАНОВЫЙ ПЕРИОД 2024 и 2025 ГОДОВ
A9: Код | B9: Наименование кода группы, подгруппы, статьи, вида источника финансирования дефицитов бюджетов, кода классификации операций сектора государственного управления, относящихся к источникам финансирования дефицитов бюджетов Российской Федерации | C9: Сумма (тыс. руб.)
C10: 2022 год | D10: 2023 год | E10: 2024 год
A11: 1 | B11: 2 | C11: 3 | D11: 4 | E11: 5
A12: 000 01 00 00 00 00 0000 000 | B12: ИСТОЧНИКИ ВНУТРЕННЕГО ФИНАНСИРОВАНИЯ ДЕФИЦИТОВ БЮДЖЕТОВ | C12: 0 | D12: 0 | E12: 0
A13: 000 01 03 00 00 00 0000 000 | B13: Бюджетные кредиты из других бюджетов бюджетной системы Российской Федерации | D13: =D14 -> 0 | E13: =E14 -> 0
A14: 000 01 03 01 00 00 0000 000 | B14: Погашение бюджетных кредитов, полученных от других бюджетов бюджетной системы Российской Федерации в валюте Российской Федерации | D14: =D15 -> 0 | E14: =E15 -> 0
A15: 000 01 03 01000100000810 | B15: Погашение бюджетами сельских поселений кредитов от других бюджетов бюджетной системы Российской Федерации в валюте Российской Федерации | D15: 0 | E15: 0
A16: 000 01 05 00 00 00 0000 000 | B16: Изменение остатков средств на счетах по учету средств бюджета
A17: 000 01 05 00 00 00 0000 500 | B17: Увеличение остатков средств бюджетов | C17: =C18 -> -2441.5 | D17: =D18 -> -2481 | E17: =E18 -> -2499
A18: 000 01 05 02 01 00 0000 510 | B18: Увеличение прочих остатков денежных средств бюджетов | C18: =C19 -> -2441.5 | D18: =D19 -> -2481 | E18: =E19 -> -2499
A19: 000 01 05 02 01 10 0000 510 | B19: Увеличение прочих остатков денежных средств бюджетов муниципальных районов | C19: -2441.5 | D19: -2481 | E19: -2499
A20: 000 01 05 00 00 00 0000 600 | B20: Уменьшение остатков средств бюджетов | C20: =C21 -> 2441.5 | D20: =D21 -> 2481 | E20: =E21 -> 2499
A21: 000 01 05 02 01 00 0000 610 | B21: Уменьшение прочих остатков денежных средств бюджетов | C21: =C22 -> 2441.5 | D21: =D22 -> 2481 | E21: =E22 -> 2499
A22: 000 01 05 02 01 10 0000 610 | B22: Уменьшение прочих остатков денежных средств бюджетов муниципальных районов | C22: 2441.5 | D22: 2481 | E22: 2499

Sheet Приложение 8
G1: Приложение 8
G2: к решению Совета депутатов
E3: Сабаевского сельского поселения Кочкуровского муниципального района
B4: Республики Мордовия «О бюджете Сабаевского сельского поселения
E5: на 2023 год и на плановый период 2024 и 2025 годов"
G6: от _______2022 г. №_______
A9: ПРОГРАММА МУНИЦИПАЛЬНЫХ ВНУТРЕННИХ ЗАИМСТВОВАНИЙ САБАЕВСКОГО СЕЛЬСКОГО ПОСЕЛЕНИЯ КОЧКУРОВСКОГО МУНИЦИПАЛЬНОГО РАЙОНА РЕСПУБЛИКИ МОРДОВИЯ НА 2023 ГОД И НА ПЛАНОВЫЙ ПЕРИОД 2024 И 2025 ГОДОВ
A11: № п/п | B11: Виды заимствований | F11: Сумма (тыс. рублей)
F12: 2023 год | G12: 2024 год | I12: 2025 год
A13: 1 | B13: Кредиты кредитных организаций в валюте Российской Федерации Федерации | F13: 0 | G13: 0 | I13: 0
B14: объем привлечения | F14: 0 | G14: 0 | I14: 0
B15: объем средств, направляемых на погашение основной суммы долга | F15: 0 | G15: 0 | I15: 0
A16: 2 | B16: Бюджетные кредиты от других бюджетов бюджетной системы Российской Федерации | F16: 0 | G16: 0 | I16: 0
B17: объем привлечения | F17: 0 | G17: 0 | I17: 0
B18: объем средств, направляемых на погашение основной суммы долга | F18: 0 | G18: 0 | I18: 0
B19: ВСЕГО
